BEGIN:VCALENDAR
VERSION:2.0
PRODID:-//Gemeinde Sülfeld - ECPv6.15.20//NONSGML v1.0//EN
CALSCALE:GREGORIAN
METHOD:PUBLISH
X-WR-CALNAME:Gemeinde Sülfeld
X-ORIGINAL-URL:https://gemeinde-suelfeld.de
X-WR-CALDESC:Veranstaltungen für Gemeinde Sülfeld
REFRESH-INTERVAL;VALUE=DURATION:PT1H
X-Robots-Tag:noindex
X-PUBLISHED-TTL:PT1H
BEGIN:VTIMEZONE
TZID:Europe/Berlin
BEGIN:DAYLIGHT
TZOFFSETFROM:+0100
TZOFFSETTO:+0200
TZNAME:CEST
DTSTART:20250330T010000
END:DAYLIGHT
BEGIN:STANDARD
TZOFFSETFROM:+0200
TZOFFSETTO:+0100
TZNAME:CET
DTSTART:20251026T010000
END:STANDARD
BEGIN:DAYLIGHT
TZOFFSETFROM:+0100
TZOFFSETTO:+0200
TZNAME:CEST
DTSTART:20260329T010000
END:DAYLIGHT
BEGIN:STANDARD
TZOFFSETFROM:+0200
TZOFFSETTO:+0100
TZNAME:CET
DTSTART:20261025T010000
END:STANDARD
BEGIN:DAYLIGHT
TZOFFSETFROM:+0100
TZOFFSETTO:+0200
TZNAME:CEST
DTSTART:20270328T010000
END:DAYLIGHT
BEGIN:STANDARD
TZOFFSETFROM:+0200
TZOFFSETTO:+0100
TZNAME:CET
DTSTART:20271031T010000
END:STANDARD
END:VTIMEZONE
BEGIN:VEVENT
DTSTART;VALUE=DATE:20260418
DTEND;VALUE=DATE:20260419
DTSTAMP:20260421T071426
CREATED:20251221T092852Z
LAST-MODIFIED:20251221T093310Z
UID:10001013-1776470400-1776556799@gemeinde-suelfeld.de
SUMMARY:Frühstück des SoVD Deutschland
DESCRIPTION:
URL:https://gemeinde-suelfeld.de/event/fruehstueck/
LOCATION:Jugendraum (Sporthalle Sülfeld)\, Oldesloer Str. 9\, Sülfeld\, 23867\, Deutschland
CATEGORIES:Feiern & Klönen
END:VEVENT
BEGIN:VEVENT
DTSTART;TZID=Europe/Berlin:20260416T193000
DTEND;TZID=Europe/Berlin:20260416T193000
DTSTAMP:20260421T071426
CREATED:20251106T125711Z
LAST-MODIFIED:20260326T094210Z
UID:10000946-1776367800-1776367800@gemeinde-suelfeld.de
SUMMARY:Sitzung der Gemeindevertretung der Gemeinde Sülfeld
DESCRIPTION:Exportiert aus ALLRIS am 26.03.2026\nDie Sitzung in ALLRIS net:\nhttps://www.itzstedt.sitzung-online.de/bi/si010_e.asp?MM=4&YY=2026
URL:https://gemeinde-suelfeld.de/event/sitzung-der-gemeindevertretung-der-gemeinde-suelfeld-14/
CATEGORIES:Politik
END:VEVENT
BEGIN:VEVENT
DTSTART;TZID=Europe/Berlin:20260411T183000
DTEND;TZID=Europe/Berlin:20260411T220000
DTSTAMP:20260421T071426
CREATED:20251219T160428Z
LAST-MODIFIED:20260318T183721Z
UID:10001007-1775932200-1775944800@gemeinde-suelfeld.de
SUMMARY:Bingo-Abend
DESCRIPTION:
URL:https://gemeinde-suelfeld.de/event/bingo-abend/
LOCATION:Remise beim Pastorat Sülfeld\, Am Markt 16\, Sülfeld
ORGANIZER;CN="B%C3%BCrgerverein 'Dorfleben im Auenland' e.V.":MAILTO:mail@dorfleben-auenland.de
END:VEVENT
BEGIN:VEVENT
DTSTART;TZID=Europe/Berlin:20260411T100000
DTEND;TZID=Europe/Berlin:20260411T170000
DTSTAMP:20260421T071426
CREATED:20251219T161421Z
LAST-MODIFIED:20251219T161421Z
UID:10001012-1775901600-1775926800@gemeinde-suelfeld.de
SUMMARY:Jubiläumsfeier 80 Jahre KV Segeberg des Landfrauenvereins
DESCRIPTION:
URL:https://gemeinde-suelfeld.de/event/jubilaeumsfeier-80-jahre-kv-segeberg-des-landfrauenvereins/
END:VEVENT
BEGIN:VEVENT
DTSTART;TZID=Europe/Berlin:20260409T140000
DTEND;TZID=Europe/Berlin:20260409T170000
DTSTAMP:20260421T071426
CREATED:20260211T073745Z
LAST-MODIFIED:20260211T073745Z
UID:10001043-1775743200-1775754000@gemeinde-suelfeld.de
SUMMARY:Spiele-Nachmittag
DESCRIPTION:
URL:https://gemeinde-suelfeld.de/event/spiele-nachmittag-13/2026-04-09/
LOCATION:Jugendraum (Sporthalle Sülfeld)\, Oldesloer Str. 9\, Sülfeld\, 23867\, Deutschland
CATEGORIES:Spiel & Spaß
END:VEVENT
BEGIN:VEVENT
DTSTART;TZID=Europe/Berlin:20260405T100000
DTEND;TZID=Europe/Berlin:20260405T130000
DTSTAMP:20260421T071426
CREATED:20251219T161223Z
LAST-MODIFIED:20251219T161223Z
UID:10001011-1775383200-1775394000@gemeinde-suelfeld.de
SUMMARY:Ostereiersuchen Tönningstedt
DESCRIPTION:
URL:https://gemeinde-suelfeld.de/event/ostereiersuchen-toenningstedt/
LOCATION:Alte Schule Tönningstedt\, Am Dorfplatz\, Tönningstedt\, 23867\, Germany
END:VEVENT
BEGIN:VEVENT
DTSTART;VALUE=DATE:20260404
DTEND;VALUE=DATE:20260405
DTSTAMP:20260421T071426
CREATED:20251219T161053Z
LAST-MODIFIED:20251219T161053Z
UID:10001010-1775260800-1775347199@gemeinde-suelfeld.de
SUMMARY:Osterfeuer Tönningstedt
DESCRIPTION:
URL:https://gemeinde-suelfeld.de/event/osterfeuer-toenningstedt/
END:VEVENT
BEGIN:VEVENT
DTSTART;TZID=Europe/Berlin:20260402T170000
DTEND;TZID=Europe/Berlin:20260402T220000
DTSTAMP:20260421T071426
CREATED:20251219T160953Z
LAST-MODIFIED:20251219T162528Z
UID:10001009-1775149200-1775167200@gemeinde-suelfeld.de
SUMMARY:Osterfeuer Sülfeld
DESCRIPTION:
URL:https://gemeinde-suelfeld.de/event/osterfeuer-4/
LOCATION:Sportplatz an der Wildkoppel\, An d. Wildkoppel\, Sülfeld\, 23867\, Deutschland
END:VEVENT
BEGIN:VEVENT
DTSTART;TZID=Europe/Berlin:20260328T153000
DTEND;TZID=Europe/Berlin:20260328T173000
DTSTAMP:20260421T071426
CREATED:20260205T171047Z
LAST-MODIFIED:20260205T171047Z
UID:10001027-1774711800-1774719000@gemeinde-suelfeld.de
SUMMARY:Kaffeezeit mit Poesiealben
DESCRIPTION:Kaffeezeit! Bring dein Poesiealbum mit. Lasst uns stöbern\, schmunzeln und staunen. Was steckt hinter dem eine oder anderen Spruch? Ein herzliches Willkommen auch denjenigen\, die kein Poesiealbum mehr) haben.
URL:https://gemeinde-suelfeld.de/event/kaffeezeit-mit-poesiealben/
LOCATION:Remise beim Pastorat Sülfeld\, Am Markt 16\, Sülfeld
ATTACH;FMTTYPE=image/png:https://gemeinde-suelfeld.de/wp-content/uploads/2026/02/Kaffeezeit-mit-Poesiealben-1.png
END:VEVENT
BEGIN:VEVENT
DTSTART;TZID=Europe/Berlin:20260326T190000
DTEND;TZID=Europe/Berlin:20260326T210000
DTSTAMP:20260421T071426
CREATED:20251219T160621Z
LAST-MODIFIED:20251219T160621Z
UID:10001008-1774551600-1774558800@gemeinde-suelfeld.de
SUMMARY:Vortrag "Runter vom Sofa"
DESCRIPTION:
URL:https://gemeinde-suelfeld.de/event/vortrag-runter-vom-sofa/
LOCATION:Kayhude
END:VEVENT
BEGIN:VEVENT
DTSTART;TZID=Europe/Berlin:20260321T093000
DTEND;TZID=Europe/Berlin:20260321T093000
DTSTAMP:20260421T071426
CREATED:20251107T125714Z
LAST-MODIFIED:20260320T092711Z
UID:10000952-1774085400-1774085400@gemeinde-suelfeld.de
SUMMARY:Sitzung des Wege- und Umweltausschusses der Gemeindevertretung der Gemeinde Sülfeld
DESCRIPTION:Exportiert aus ALLRIS am 20.03.2026\nDie Sitzung in ALLRIS net:\nhttps://www.itzstedt.sitzung-online.de/bi/to010.asp?SILFDNR=4409
URL:https://gemeinde-suelfeld.de/event/sitzung-des-wege-und-umweltausschusses-der-gemeindevertretung-der-gemeinde-suelfeld-6/
LOCATION:Feuerwehrhaus Borstel\, Neuland 2\, 23845 Borstel
CATEGORIES:Politik
END:VEVENT
BEGIN:VEVENT
DTSTART;VALUE=DATE:20260320
DTEND;VALUE=DATE:20260321
DTSTAMP:20260421T071426
CREATED:20251219T160301Z
LAST-MODIFIED:20251219T160301Z
UID:10001006-1773964800-1774051199@gemeinde-suelfeld.de
SUMMARY:Jahreshauptversammlung Kreisfeuerwehrverband
DESCRIPTION:
URL:https://gemeinde-suelfeld.de/event/jahreshauptversammlung-kreisfeuerwehrverband/
END:VEVENT
BEGIN:VEVENT
DTSTART;TZID=Europe/Berlin:20260316T160000
DTEND;TZID=Europe/Berlin:20260316T193000
DTSTAMP:20260421T071426
CREATED:20251219T160208Z
LAST-MODIFIED:20251221T094346Z
UID:10001005-1773676800-1773689400@gemeinde-suelfeld.de
SUMMARY:Blutspenden Sülfeld
DESCRIPTION:
URL:https://gemeinde-suelfeld.de/event/blutspenden-suelfeld-2/2026-03-16/
LOCATION:Gemeinschaftsschule im Alsterland Sülfeld\, Oldesloer Straße 9\, Sülfeld
CATEGORIES:Gesundheit & Medizin
END:VEVENT
BEGIN:VEVENT
DTSTART;TZID=Europe/Berlin:20260314T190000
DTEND;TZID=Europe/Berlin:20260314T220000
DTSTAMP:20260421T071426
CREATED:20251219T155551Z
LAST-MODIFIED:20251219T155551Z
UID:10001003-1773514800-1773525600@gemeinde-suelfeld.de
SUMMARY:Skat- und Knobelabend für aktive und passive Mitglieder (FFW Borstel)
DESCRIPTION:
URL:https://gemeinde-suelfeld.de/event/skat-und-knobelabend-fuer-aktive-und-passive-mitglieder-ffw-borstel/
LOCATION:Feuerwehrhaus Borstel\, Neuland 2\, Borstel\, Germany
END:VEVENT
BEGIN:VEVENT
DTSTART;TZID=Europe/Berlin:20260314T130000
DTEND;TZID=Europe/Berlin:20260314T180000
DTSTAMP:20260421T071426
CREATED:20251219T155409Z
LAST-MODIFIED:20251219T155409Z
UID:10001002-1773493200-1773511200@gemeinde-suelfeld.de
SUMMARY:Anschießen
DESCRIPTION:
URL:https://gemeinde-suelfeld.de/event/anschiessen-2/
LOCATION:Schützenhaus\, Neuer Weg 50\, Sülfeld\, 23867\, Deutschland
END:VEVENT
BEGIN:VEVENT
DTSTART;TZID=Europe/Berlin:20260313T190000
DTEND;TZID=Europe/Berlin:20260313T210000
DTSTAMP:20260421T071426
CREATED:20251219T155304Z
LAST-MODIFIED:20251219T155304Z
UID:10001001-1773428400-1773435600@gemeinde-suelfeld.de
SUMMARY:Jahreshauptversammlung Schützengilde
DESCRIPTION:
URL:https://gemeinde-suelfeld.de/event/jahreshauptversammlung-schuetzengilde-3/
LOCATION:Schützenhaus\, Neuer Weg 50\, Sülfeld\, 23867\, Deutschland
END:VEVENT
BEGIN:VEVENT
DTSTART;TZID=Europe/Berlin:20260312T140000
DTEND;TZID=Europe/Berlin:20260312T170000
DTSTAMP:20260421T071426
CREATED:20260211T073745Z
LAST-MODIFIED:20260211T073745Z
UID:10001042-1773324000-1773334800@gemeinde-suelfeld.de
SUMMARY:Spiele-Nachmittag
DESCRIPTION:
URL:https://gemeinde-suelfeld.de/event/spiele-nachmittag-13/2026-03-12/
LOCATION:Jugendraum (Sporthalle Sülfeld)\, Oldesloer Str. 9\, Sülfeld\, 23867\, Deutschland
CATEGORIES:Spiel & Spaß
END:VEVENT
BEGIN:VEVENT
DTSTART;TZID=Europe/Berlin:20260310T193000
DTEND;TZID=Europe/Berlin:20260310T193000
DTSTAMP:20260421T071426
CREATED:20251107T125713Z
LAST-MODIFIED:20251117T132712Z
UID:10000951-1773171000-1773171000@gemeinde-suelfeld.de
SUMMARY:Sitzung des Ausschusses für Energie und Nachhaltigkeit der Gemeindevertretung der Gemeinde Sülfeld
DESCRIPTION:Exportiert aus ALLRIS am 17.11.2025\nDie Sitzung in ALLRIS net:\nhttps://www.itzstedt.sitzung-online.de/bi/si010_e.asp?MM=3&YY=2026
URL:https://gemeinde-suelfeld.de/event/sitzung-des-ausschusses-fuer-energie-und-nachhaltigkeit-der-gemeindevertretung-der-gemeinde-suelfeld-9/
CATEGORIES:Politik
END:VEVENT
BEGIN:VEVENT
DTSTART;TZID=Europe/Berlin:20260309T193000
DTEND;TZID=Europe/Berlin:20260309T193000
DTSTAMP:20260421T071426
CREATED:20251107T125713Z
LAST-MODIFIED:20251117T132712Z
UID:10000950-1773084600-1773084600@gemeinde-suelfeld.de
SUMMARY:Sitzung des Sozial- und Kulturausschusses der Gemeindevertretung der Gemeinde Sülfeld
DESCRIPTION:Exportiert aus ALLRIS am 17.11.2025\nDie Sitzung in ALLRIS net:\nhttps://www.itzstedt.sitzung-online.de/bi/si010_e.asp?MM=3&YY=2026
URL:https://gemeinde-suelfeld.de/event/sitzung-des-sozial-und-kulturausschusses-der-gemeindevertretung-der-gemeinde-suelfeld-7/
CATEGORIES:Politik
END:VEVENT
BEGIN:VEVENT
DTSTART;TZID=Europe/Berlin:20260307T090000
DTEND;TZID=Europe/Berlin:20260307T130000
DTSTAMP:20260421T071426
CREATED:20251219T155832Z
LAST-MODIFIED:20251219T160019Z
UID:10001004-1772874000-1772888400@gemeinde-suelfeld.de
SUMMARY:Aktion Sauberes Dorf
DESCRIPTION:Treffpunkt: Feuerwehrhäuser Borstel\, Sülfeld und Tönningstedt
URL:https://gemeinde-suelfeld.de/event/aktion-sauberes-dorf/
END:VEVENT
BEGIN:VEVENT
DTSTART;VALUE=DATE:20260307
DTEND;VALUE=DATE:20260308
DTSTAMP:20260421T071426
CREATED:20251219T155149Z
LAST-MODIFIED:20251219T155149Z
UID:10001000-1772841600-1772927999@gemeinde-suelfeld.de
SUMMARY:SoVD Jahreshauptversammlung
DESCRIPTION:
URL:https://gemeinde-suelfeld.de/event/sovd-jahreshauptversammlung/
LOCATION:Groß Niendorf
END:VEVENT
BEGIN:VEVENT
DTSTART;TZID=Europe/Berlin:20260305T190000
DTEND;TZID=Europe/Berlin:20260305T210000
DTSTAMP:20260421T071426
CREATED:20251110T110917Z
LAST-MODIFIED:20251110T110917Z
UID:10000971-1772737200-1772744400@gemeinde-suelfeld.de
SUMMARY:Fadenreich
DESCRIPTION:Sei dabei\, wenn wir häkeln\, stricken\, sticken\, nähen\, knüpfen…
URL:https://gemeinde-suelfeld.de/event/fadenreich-2/2026-03-05/
LOCATION:Remise beim Pastorat Sülfeld\, Am Markt 16\, Sülfeld
ATTACH;FMTTYPE=image/png:https://gemeinde-suelfeld.de/wp-content/uploads/2025/11/FadenReich.png
END:VEVENT
BEGIN:VEVENT
DTSTART;TZID=Europe/Berlin:20260303T193000
DTEND;TZID=Europe/Berlin:20260303T210000
DTSTAMP:20260421T071426
CREATED:20251219T155019Z
LAST-MODIFIED:20251219T155019Z
UID:10000999-1772566200-1772571600@gemeinde-suelfeld.de
SUMMARY:Informations- und Diskussionsabend Tönningstedt
DESCRIPTION:
URL:https://gemeinde-suelfeld.de/event/informations-und-diskussionsabend-toenningstedt-3/
LOCATION:Alte Schule Tönningstedt\, Am Dorfplatz\, Tönningstedt\, 23867\, Germany
CATEGORIES:Politik
ATTACH;FMTTYPE=image/jpeg:https://gemeinde-suelfeld.de/wp-content/uploads/2025/12/Info-Abend-Toenningstedt_2026_Einzel-A4_v1-scaled.jpg
ORGANIZER;CN="CDU Ortsverband S%C3%BClfeld":MAILTO:info@cdu-suelfeld.de
END:VEVENT
BEGIN:VEVENT
DTSTART;VALUE=DATE:20260228
DTEND;VALUE=DATE:20260301
DTSTAMP:20260421T071426
CREATED:20251219T103656Z
LAST-MODIFIED:20251219T103739Z
UID:10000998-1772236800-1772323199@gemeinde-suelfeld.de
SUMMARY:Theaternachmittag
DESCRIPTION:
URL:https://gemeinde-suelfeld.de/event/theaternachmittag/
LOCATION:Bürgerhaus Nahe\, Segeberger Straße 90\, Nahe\, 23866
END:VEVENT
BEGIN:VEVENT
DTSTART;VALUE=DATE:20260225
DTEND;VALUE=DATE:20260226
DTSTAMP:20260421T071426
CREATED:20251219T103358Z
LAST-MODIFIED:20251219T103358Z
UID:10000997-1771977600-1772063999@gemeinde-suelfeld.de
SUMMARY:Vorstellung Frau Schulze-Wenck (offene Ansprechpartnerin für Senioren im Amt Itzstedt)
DESCRIPTION:
URL:https://gemeinde-suelfeld.de/event/vorstellung-frau-schulze-wenck-offene-ansprechpartnerin-fuer-senioren-im-amt-itzstedt/
END:VEVENT
BEGIN:VEVENT
DTSTART;TZID=Europe/Berlin:20260222T143000
DTEND;TZID=Europe/Berlin:20260222T170000
DTSTAMP:20260421T071426
CREATED:20260211T073353Z
LAST-MODIFIED:20260211T073353Z
UID:10001037-1771770600-1771779600@gemeinde-suelfeld.de
SUMMARY:Sonntagskaffee
DESCRIPTION:
URL:https://gemeinde-suelfeld.de/event/sonntagskaffee-9/2026-02-22/
LOCATION:Remise beim Pastorat Sülfeld\, Am Markt 16\, Sülfeld
END:VEVENT
BEGIN:VEVENT
DTSTART;TZID=Europe/Berlin:20260220T180000
DTEND;TZID=Europe/Berlin:20260220T220000
DTSTAMP:20260421T071426
CREATED:20251110T090846Z
LAST-MODIFIED:20260208T111107Z
UID:10000961-1771610400-1771624800@gemeinde-suelfeld.de
SUMMARY:Dämmerschoppen
DESCRIPTION:Nette Leute treffen bei Getränken und Snacks
URL:https://gemeinde-suelfeld.de/event/daemmerschoppen-4/
LOCATION:Remise beim Pastorat Sülfeld\, Am Markt 16\, Sülfeld
ATTACH;FMTTYPE=image/jpeg:https://gemeinde-suelfeld.de/wp-content/uploads/2025/11/Valentinsdaemmerschoppen-1-scaled.jpg
END:VEVENT
BEGIN:VEVENT
DTSTART;TZID=Europe/Berlin:20260213T190000
DTEND;TZID=Europe/Berlin:20260213T220000
DTSTAMP:20260421T071426
CREATED:20251219T103026Z
LAST-MODIFIED:20251219T103026Z
UID:10000996-1771009200-1771020000@gemeinde-suelfeld.de
SUMMARY:Jahreshauptversammlung der Freiwilligen Feuerwehr Tönningstedt
DESCRIPTION:
URL:https://gemeinde-suelfeld.de/event/jahreshauptversammlung-der-freiwilligen-feuerwehr-toenningstedt/
END:VEVENT
BEGIN:VEVENT
DTSTART;VALUE=DATE:20260213
DTEND;VALUE=DATE:20260216
DTSTAMP:20260421T071426
CREATED:20251219T102843Z
LAST-MODIFIED:20251219T102843Z
UID:10000995-1770940800-1771199999@gemeinde-suelfeld.de
SUMMARY:Jugendhallenturnier JSG Alsterland
DESCRIPTION:
URL:https://gemeinde-suelfeld.de/event/jugendhallenturnier-jsg-alsterland/
LOCATION:Sporthalle Sülfeld
END:VEVENT
BEGIN:VEVENT
DTSTART;TZID=Europe/Berlin:20260212T140000
DTEND;TZID=Europe/Berlin:20260212T170000
DTSTAMP:20260421T071426
CREATED:20260211T073745Z
LAST-MODIFIED:20260211T073745Z
UID:10001041-1770904800-1770915600@gemeinde-suelfeld.de
SUMMARY:Spiele-Nachmittag
DESCRIPTION:
URL:https://gemeinde-suelfeld.de/event/spiele-nachmittag-13/2026-02-12/
LOCATION:Jugendraum (Sporthalle Sülfeld)\, Oldesloer Str. 9\, Sülfeld\, 23867\, Deutschland
CATEGORIES:Spiel & Spaß
END:VEVENT
END:VCALENDAR