BEGIN:VCALENDAR
VERSION:2.0
PRODID:-//Gemeinde Sülfeld - ECPv6.15.20//NONSGML v1.0//EN
CALSCALE:GREGORIAN
METHOD:PUBLISH
X-ORIGINAL-URL:https://gemeinde-suelfeld.de
X-WR-CALDESC:Veranstaltungen für Gemeinde Sülfeld
REFRESH-INTERVAL;VALUE=DURATION:PT1H
X-Robots-Tag:noindex
X-PUBLISHED-TTL:PT1H
BEGIN:VTIMEZONE
TZID:Europe/Berlin
BEGIN:DAYLIGHT
TZOFFSETFROM:+0100
TZOFFSETTO:+0200
TZNAME:CEST
DTSTART:20230326T010000
END:DAYLIGHT
BEGIN:STANDARD
TZOFFSETFROM:+0200
TZOFFSETTO:+0100
TZNAME:CET
DTSTART:20231029T010000
END:STANDARD
BEGIN:DAYLIGHT
TZOFFSETFROM:+0100
TZOFFSETTO:+0200
TZNAME:CEST
DTSTART:20240331T010000
END:DAYLIGHT
BEGIN:STANDARD
TZOFFSETFROM:+0200
TZOFFSETTO:+0100
TZNAME:CET
DTSTART:20241027T010000
END:STANDARD
BEGIN:DAYLIGHT
TZOFFSETFROM:+0100
TZOFFSETTO:+0200
TZNAME:CEST
DTSTART:20250330T010000
END:DAYLIGHT
BEGIN:STANDARD
TZOFFSETFROM:+0200
TZOFFSETTO:+0100
TZNAME:CET
DTSTART:20251026T010000
END:STANDARD
BEGIN:DAYLIGHT
TZOFFSETFROM:+0100
TZOFFSETTO:+0200
TZNAME:CEST
DTSTART:20260329T010000
END:DAYLIGHT
BEGIN:STANDARD
TZOFFSETFROM:+0200
TZOFFSETTO:+0100
TZNAME:CET
DTSTART:20261025T010000
END:STANDARD
END:VTIMEZONE
BEGIN:VEVENT
DTSTART;TZID=Europe/Berlin:20250218T193000
DTEND;TZID=Europe/Berlin:20250218T193000
DTSTAMP:20260421T213438
CREATED:20250109T225207Z
LAST-MODIFIED:20250218T124046Z
UID:10000803-1739907000-1739907000@gemeinde-suelfeld.de
SUMMARY:Sitzung des Finanzausschusses der Gemeindevertretung der Gemeinde Sülfeld - SITZUNG FINDET NICHT STATT!!!
DESCRIPTION:Exportiert aus ALLRIS am 18.02.2025\nDie Sitzung in ALLRIS net:\nhttps://www.itzstedt.sitzung-online.de/bi/si010_e.asp?MM=2&YY=2025
URL:https://gemeinde-suelfeld.de/event/sitzung-des-finanzausschusses-der-gemeindevertretung-der-gemeinde-suelfeld-7/
LOCATION:Amtsverwaltungsgebäude – Sitzungssaal\, Segeberger Straße 41\, 23845 Itzstedt
CATEGORIES:Politik
END:VEVENT
BEGIN:VEVENT
DTSTART;VALUE=DATE:20250215
DTEND;VALUE=DATE:20250216
DTSTAMP:20260421T213438
CREATED:20241209T171111Z
LAST-MODIFIED:20241209T171204Z
UID:10000232-1739577600-1739663999@gemeinde-suelfeld.de
SUMMARY:Tag der offenen Tür
DESCRIPTION:
URL:https://gemeinde-suelfeld.de/event/tag-der-offenen-tuer-2/
LOCATION:Gemeinschaftsschule im Alsterland Sülfeld\, Oldesloer Straße 9\, Sülfeld
END:VEVENT
BEGIN:VEVENT
DTSTART;TZID=Europe/Berlin:20250214T190000
DTEND;TZID=Europe/Berlin:20250214T220000
DTSTAMP:20260421T213438
CREATED:20241209T165333Z
LAST-MODIFIED:20241209T165333Z
UID:10000230-1739559600-1739570400@gemeinde-suelfeld.de
SUMMARY:Jahreshauptversammlung Freiw. Feuerwehr Tönningstedt
DESCRIPTION:
URL:https://gemeinde-suelfeld.de/event/jahreshauptversammlung-freiw-feuerwehr-toenningstedt/
LOCATION:Feuerwehrhaus Tönningstedt
END:VEVENT
BEGIN:VEVENT
DTSTART;TZID=Europe/Berlin:20250214T180000
DTEND;TZID=Europe/Berlin:20250214T200000
DTSTAMP:20260421T213438
CREATED:20241209T165458Z
LAST-MODIFIED:20250208T192513Z
UID:10000231-1739556000-1739563200@gemeinde-suelfeld.de
SUMMARY:Dämmerschoppen
DESCRIPTION:
URL:https://gemeinde-suelfeld.de/event/daemmerschoppen/
LOCATION:Remise beim Pastorat Sülfeld\, Am Markt 16\, Sülfeld
END:VEVENT
BEGIN:VEVENT
DTSTART;TZID=Europe/Berlin:20250213T140000
DTEND;TZID=Europe/Berlin:20250213T170000
DTSTAMP:20260421T213438
CREATED:20241210T214340Z
LAST-MODIFIED:20241210T215204Z
UID:10000258-1739455200-1739466000@gemeinde-suelfeld.de
SUMMARY:Spiele-Nachmittag
DESCRIPTION:
URL:https://gemeinde-suelfeld.de/event/spiele-nachmittag-11/2025-02-13/
LOCATION:Alte Schule Tönningstedt\, Am Dorfplatz\, 23867 Tönningstedt
END:VEVENT
BEGIN:VEVENT
DTSTART;TZID=Europe/Berlin:20250207T190000
DTEND;TZID=Europe/Berlin:20250207T220000
DTSTAMP:20260421T213438
CREATED:20241209T165155Z
LAST-MODIFIED:20241209T165155Z
UID:10000229-1738954800-1738965600@gemeinde-suelfeld.de
SUMMARY:Jahreshauptversammlung Freiw. Feuerwehr Sülfeld
DESCRIPTION:
URL:https://gemeinde-suelfeld.de/event/jahreshauptversammlung-freiw-feuerwehr-suelfeld/
LOCATION:Feuerwehrhaus Sülfeld\, Oldesloer Str. 11\, Sülfeld\, 23867\, Deutschland
END:VEVENT
BEGIN:VEVENT
DTSTART;TZID=Europe/Berlin:20250206T193000
DTEND;TZID=Europe/Berlin:20250206T193000
DTSTAMP:20260421T213438
CREATED:20250109T225207Z
LAST-MODIFIED:20250206T114035Z
UID:10000802-1738870200-1738870200@gemeinde-suelfeld.de
SUMMARY:Sitzung der Gemeindevertretung der Gemeinde Sülfeld
DESCRIPTION:Exportiert aus ALLRIS am 06.02.2025\nDie Sitzung in ALLRIS net:\nhttps://www.itzstedt.sitzung-online.de/bi/to010.asp?SILFDNR=3860
URL:https://gemeinde-suelfeld.de/event/sitzung-der-gemeindevertretung-der-gemeinde-suelfeld-8/
LOCATION:Alte Schule Tönningstedt\, Am Dorfplatz\, 23867 Tönningstedt
CATEGORIES:Politik
END:VEVENT
BEGIN:VEVENT
DTSTART;TZID=Europe/Berlin:20250205T190000
DTEND;TZID=Europe/Berlin:20250205T210000
DTSTAMP:20260421T213438
CREATED:20241209T165026Z
LAST-MODIFIED:20250203T225457Z
UID:10000228-1738782000-1738789200@gemeinde-suelfeld.de
SUMMARY:Stammtisch Alte Schule Tönningstedt
DESCRIPTION:
URL:https://gemeinde-suelfeld.de/event/stammtisch-alte-schule-toenningstedt/
LOCATION:Alte Schule Tönningstedt\, Am Dorfplatz\, Tönningstedt\, 23867\, Germany
CATEGORIES:Politik
ATTACH;FMTTYPE=image/jpeg:https://gemeinde-suelfeld.de/wp-content/uploads/2024/12/2025-02-05_Stammtisch-Toenningstedt_web.jpg
END:VEVENT
BEGIN:VEVENT
DTSTART;TZID=Europe/Berlin:20250204T193000
DTEND;TZID=Europe/Berlin:20250204T220000
DTSTAMP:20260421T213438
CREATED:20241209T162318Z
LAST-MODIFIED:20241209T172206Z
UID:10000219-1738697400-1738706400@gemeinde-suelfeld.de
SUMMARY:Informations- und Diskussionsabend Borstel
DESCRIPTION:
URL:https://gemeinde-suelfeld.de/event/informations-und-diskussionsabend-borstel-2/
LOCATION:Feuerwehrhaus Borstel\, Neuland 2\, Borstel\, Germany
CATEGORIES:Politik
ATTACH;FMTTYPE=image/jpeg:https://gemeinde-suelfeld.de/wp-content/uploads/2024/12/Info-Abend-Borstel_2025_D_Einzel-A4_v1-scaled.jpg
ORGANIZER;CN="CDU Ortsverband S%C3%BClfeld":MAILTO:info@cdu-suelfeld.de
END:VEVENT
BEGIN:VEVENT
DTSTART;TZID=Europe/Berlin:20250204T160000
DTEND;TZID=Europe/Berlin:20250204T193000
DTSTAMP:20260421T213438
CREATED:20241209T164859Z
LAST-MODIFIED:20241209T164859Z
UID:10000227-1738684800-1738697400@gemeinde-suelfeld.de
SUMMARY:Blutspenden in Seth
DESCRIPTION:
URL:https://gemeinde-suelfeld.de/event/blutspenden-in-seth-2/
LOCATION:Grundschule Seth\, Schulstr. 4\, Seth\, 23845\, Deutschland
END:VEVENT
BEGIN:VEVENT
DTSTART;TZID=Europe/Berlin:20250126T143000
DTEND;TZID=Europe/Berlin:20250126T170000
DTSTAMP:20260421T213438
CREATED:20241210T220040Z
LAST-MODIFIED:20241210T220040Z
UID:10000264-1737901800-1737910800@gemeinde-suelfeld.de
SUMMARY:Sonntagskaffee
DESCRIPTION:
URL:https://gemeinde-suelfeld.de/event/sonntagskaffee-7/2025-01-26/
LOCATION:Remise beim Pastorat Sülfeld\, Am Markt 16\, Sülfeld
END:VEVENT
BEGIN:VEVENT
DTSTART;TZID=Europe/Berlin:20250123T190000
DTEND;TZID=Europe/Berlin:20250123T210000
DTSTAMP:20260421T213438
CREATED:20250120T191500Z
LAST-MODIFIED:20250120T191500Z
UID:10000261-1737658800-1737666000@gemeinde-suelfeld.de
SUMMARY:Spieleabend
DESCRIPTION:
URL:https://gemeinde-suelfeld.de/event/spieleabend-2-2/
LOCATION:Remise beim Pastorat Sülfeld\, Am Markt 16\, Sülfeld
END:VEVENT
BEGIN:VEVENT
DTSTART;TZID=Europe/Berlin:20250121T170000
DTEND;TZID=Europe/Berlin:20250121T170000
DTSTAMP:20260421T213438
CREATED:20250109T225207Z
LAST-MODIFIED:20250121T101028Z
UID:10000801-1737478800-1737478800@gemeinde-suelfeld.de
SUMMARY:Sitzung des Jugendbeirates der Gemeinde Sülfeld
DESCRIPTION:Exportiert aus ALLRIS am 21.01.2025\nDie Sitzung in ALLRIS net:\nhttps://www.itzstedt.sitzung-online.de/bi/to010.asp?SILFDNR=4040
URL:https://gemeinde-suelfeld.de/event/sitzung-des-jugendbeirates-der-gemeinde-suelfeld-2/
LOCATION:Jugendraum bei der Sporthalle Sülfeld\, Oldesloer Straße 9\, 23867 Sülfeld
CATEGORIES:Politik
END:VEVENT
BEGIN:VEVENT
DTSTART;TZID=Europe/Berlin:20250118T193000
DTEND;TZID=Europe/Berlin:20250118T220000
DTSTAMP:20260421T213438
CREATED:20241209T164748Z
LAST-MODIFIED:20241209T164748Z
UID:10000226-1737228600-1737237600@gemeinde-suelfeld.de
SUMMARY:Kameradschaftsabend
DESCRIPTION:
URL:https://gemeinde-suelfeld.de/event/kameradschaftsabend/
LOCATION:Feuerwehrhaus Tönningstedt
END:VEVENT
BEGIN:VEVENT
DTSTART;TZID=Europe/Berlin:20250116T193000
DTEND;TZID=Europe/Berlin:20250116T193000
DTSTAMP:20260421T213438
CREATED:20250109T225207Z
LAST-MODIFIED:20250116T094100Z
UID:10000800-1737055800-1737055800@gemeinde-suelfeld.de
SUMMARY:Sitzung des Zentralausschusses der Gemeindevertretung der Gemeinde Sülfeld
DESCRIPTION:Exportiert aus ALLRIS am 16.01.2025\nDie Sitzung in ALLRIS net:\nhttps://www.itzstedt.sitzung-online.de/bi/to010.asp?SILFDNR=3873
URL:https://gemeinde-suelfeld.de/event/sitzung-des-zentralausschusses-der-gemeindevertretung-der-gemeinde-suelfeld-5/
LOCATION:Jugendraum bei der Sporthalle Sülfeld\, Oldesloer Straße 9\, 23867 Sülfeld
CATEGORIES:Politik
END:VEVENT
BEGIN:VEVENT
DTSTART;TZID=Europe/Berlin:20250114T193000
DTEND;TZID=Europe/Berlin:20250114T193000
DTSTAMP:20260421T213438
CREATED:20250109T225207Z
LAST-MODIFIED:20250114T094034Z
UID:10000799-1736883000-1736883000@gemeinde-suelfeld.de
SUMMARY:Sitzung des Ausschusses für Energie und Nachhaltigkeit der Gemeindevertretung der Gemeinde Sülfeld
DESCRIPTION:Exportiert aus ALLRIS am 14.01.2025\nDie Sitzung in ALLRIS net:\nhttps://www.itzstedt.sitzung-online.de/bi/to010.asp?SILFDNR=3886
URL:https://gemeinde-suelfeld.de/event/sitzung-des-ausschusses-fuer-energie-und-nachhaltigkeit-der-gemeindevertretung-der-gemeinde-suelfeld-4/
LOCATION:Jugendraum bei der Sporthalle Sülfeld\, Oldesloer Straße 9\, 23867 Sülfeld
CATEGORIES:Politik
END:VEVENT
BEGIN:VEVENT
DTSTART;TZID=Europe/Berlin:20250114T180000
DTEND;TZID=Europe/Berlin:20250114T180000
DTSTAMP:20260421T213438
CREATED:20250109T225207Z
LAST-MODIFIED:20250114T094034Z
UID:10000798-1736877600-1736877600@gemeinde-suelfeld.de
SUMMARY:Sitzung der Einwohnerversammlung der Gemeindevertretung der Gemeinde Sülfeld
DESCRIPTION:Exportiert aus ALLRIS am 14.01.2025\nDie Sitzung in ALLRIS net:\nhttps://www.itzstedt.sitzung-online.de/bi/to010.asp?SILFDNR=3953
URL:https://gemeinde-suelfeld.de/event/sitzung-der-einwohnerversammlung-der-gemeindevertretung-der-gemeinde-suelfeld/
LOCATION:Jugendraum bei der Sporthalle Sülfeld\, Oldesloer Straße 9\, 23867 Sülfeld
CATEGORIES:Politik
END:VEVENT
BEGIN:VEVENT
DTSTART;TZID=Europe/Berlin:20250113T193000
DTEND;TZID=Europe/Berlin:20250113T193000
DTSTAMP:20260421T213438
CREATED:20250109T225207Z
LAST-MODIFIED:20250113T092719Z
UID:10000797-1736796600-1736796600@gemeinde-suelfeld.de
SUMMARY:Sitzung des Sozial- und Kulturausschusses der Gemeindevertretung der Gemeinde Sülfeld
DESCRIPTION:Exportiert aus ALLRIS am 13.01.2025\nDie Sitzung in ALLRIS net:\nhttps://www.itzstedt.sitzung-online.de/bi/to010.asp?SILFDNR=3881
URL:https://gemeinde-suelfeld.de/event/sitzung-des-sozial-und-kulturausschusses-der-gemeindevertretung-der-gemeinde-suelfeld/
LOCATION:Jugendraum bei der Sporthalle Sülfeld\, Oldesloer Straße 9\, 23867 Sülfeld
CATEGORIES:Politik
END:VEVENT
BEGIN:VEVENT
DTSTART;TZID=Europe/Berlin:20250111T170000
DTEND;TZID=Europe/Berlin:20250111T210000
DTSTAMP:20260421T213438
CREATED:20241209T163524Z
LAST-MODIFIED:20241209T163524Z
UID:10000222-1736614800-1736629200@gemeinde-suelfeld.de
SUMMARY:Tannenbaumsammeln Sülfeld
DESCRIPTION:
URL:https://gemeinde-suelfeld.de/event/tannenbaumsammeln-suelfeld/
LOCATION:Hof Wrage\, Elmenhorster Chaussee 8\, Sülfeld
ATTACH;FMTTYPE=image/jpeg:https://gemeinde-suelfeld.de/wp-content/uploads/2024/12/Tannenbaum-A4-2025-scaled.jpg
ORGANIZER;CN="CDU Ortsverband S%C3%BClfeld":MAILTO:info@cdu-suelfeld.de
END:VEVENT
BEGIN:VEVENT
DTSTART;TZID=Europe/Berlin:20250111T093000
DTEND;TZID=Europe/Berlin:20250111T120000
DTSTAMP:20260421T213438
CREATED:20241209T164619Z
LAST-MODIFIED:20241209T164619Z
UID:10000225-1736587800-1736596800@gemeinde-suelfeld.de
SUMMARY:Frauenfrühstück
DESCRIPTION:
URL:https://gemeinde-suelfeld.de/event/frauenfruehstueck/
LOCATION:Itzstedt\, Itzstedt
END:VEVENT
BEGIN:VEVENT
DTSTART;TZID=Europe/Berlin:20250110T193000
DTEND;TZID=Europe/Berlin:20250110T220000
DTSTAMP:20260421T213438
CREATED:20241209T164249Z
LAST-MODIFIED:20241209T164249Z
UID:10000223-1736537400-1736546400@gemeinde-suelfeld.de
SUMMARY:Jahhreshauptversammlung Freiw. Feuerwehr Borstel
DESCRIPTION:
URL:https://gemeinde-suelfeld.de/event/jahhreshauptversammlung-freiw-feuerwehr-borstel/
LOCATION:Feuerwehrhaus Borstel\, Neuland 2\, Borstel\, Germany
END:VEVENT
BEGIN:VEVENT
DTSTART;TZID=Europe/Berlin:20250110T180000
DTEND;TZID=Europe/Berlin:20250110T200000
DTSTAMP:20260421T213438
CREATED:20241209T162938Z
LAST-MODIFIED:20241209T163555Z
UID:10000221-1736532000-1736539200@gemeinde-suelfeld.de
SUMMARY:Tannenbaumsammeln Tönningstedt
DESCRIPTION:
URL:https://gemeinde-suelfeld.de/event/tannenbaumsammeln-toenningstedt/
LOCATION:Oliver Borstel\, Hörn 18\, Tönningstedt
ATTACH;FMTTYPE=image/jpeg:https://gemeinde-suelfeld.de/wp-content/uploads/2024/12/Tannenbaum-A4-2025-scaled.jpg
ORGANIZER;CN="CDU Ortsverband S%C3%BClfeld":MAILTO:info@cdu-suelfeld.de
END:VEVENT
BEGIN:VEVENT
DTSTART;VALUE=DATE:20250110
DTEND;VALUE=DATE:20250113
DTSTAMP:20260421T213438
CREATED:20241209T164409Z
LAST-MODIFIED:20241209T164409Z
UID:10000224-1736467200-1736726399@gemeinde-suelfeld.de
SUMMARY:Herrenfußballturnier
DESCRIPTION:
URL:https://gemeinde-suelfeld.de/event/herrenfussballturnier/
LOCATION:Sporthalle Sülfeld
END:VEVENT
BEGIN:VEVENT
DTSTART;TZID=Europe/Berlin:20250109T140000
DTEND;TZID=Europe/Berlin:20250109T170000
DTSTAMP:20260421T213438
CREATED:20241210T214340Z
LAST-MODIFIED:20241210T215204Z
UID:10000257-1736431200-1736442000@gemeinde-suelfeld.de
SUMMARY:Spiele-Nachmittag
DESCRIPTION:
URL:https://gemeinde-suelfeld.de/event/spiele-nachmittag-11/2025-01-09/
LOCATION:Alte Schule Tönningstedt\, Am Dorfplatz\, 23867 Tönningstedt
END:VEVENT
BEGIN:VEVENT
DTSTART;TZID=Europe/Berlin:20250101T110000
DTEND;TZID=Europe/Berlin:20250101T150000
DTSTAMP:20260421T213438
CREATED:20241209T162525Z
LAST-MODIFIED:20241209T162525Z
UID:10000220-1735729200-1735743600@gemeinde-suelfeld.de
SUMMARY:Neujahrsparty im Günther's
DESCRIPTION:
URL:https://gemeinde-suelfeld.de/event/neujahrsparty-im-guenthers/
LOCATION:Günther’s im Sportlerheim\, An der Wildkoppel\, Sülfeld
END:VEVENT
BEGIN:VEVENT
DTSTART;TZID=Europe/Berlin:20241231T170000
DTEND;TZID=Europe/Berlin:20241231T180000
DTSTAMP:20260421T213438
CREATED:20241021T135458Z
LAST-MODIFIED:20241021T135458Z
UID:10000215-1735664400-1735668000@gemeinde-suelfeld.de
SUMMARY:Gottesdienst zum Jahresende
DESCRIPTION:
URL:https://gemeinde-suelfeld.de/event/gottesdienst-zum-jahresende-2/
LOCATION:Kirche Sülfeld
END:VEVENT
BEGIN:VEVENT
DTSTART;TZID=Europe/Berlin:20241227T190000
DTEND;TZID=Europe/Berlin:20241227T220000
DTSTAMP:20260421T213438
CREATED:20241021T135358Z
LAST-MODIFIED:20241021T135358Z
UID:10000214-1735326000-1735336800@gemeinde-suelfeld.de
SUMMARY:Silvesterschießen
DESCRIPTION:
URL:https://gemeinde-suelfeld.de/event/silvesterschiessen-2/
LOCATION:Schützenhaus\, Neuer Weg 50\, Sülfeld\, 23867\, Deutschland
END:VEVENT
BEGIN:VEVENT
DTSTART;TZID=Europe/Berlin:20241225T110000
DTEND;TZID=Europe/Berlin:20241225T123000
DTSTAMP:20260421T213438
CREATED:20241021T135243Z
LAST-MODIFIED:20241021T135243Z
UID:10000213-1735124400-1735129800@gemeinde-suelfeld.de
SUMMARY:Weihnachtsgottesdienst
DESCRIPTION:
URL:https://gemeinde-suelfeld.de/event/weihnachtsgottesdienst/
LOCATION:Kirche Sülfeld
END:VEVENT
BEGIN:VEVENT
DTSTART;TZID=Europe/Berlin:20241224T173000
DTEND;TZID=Europe/Berlin:20241224T183000
DTSTAMP:20260421T213438
CREATED:20241021T135033Z
LAST-MODIFIED:20241021T135033Z
UID:10000212-1735061400-1735065000@gemeinde-suelfeld.de
SUMMARY:Christvesper
DESCRIPTION:
URL:https://gemeinde-suelfeld.de/event/christvesper/
LOCATION:Kirche Sülfeld
END:VEVENT
BEGIN:VEVENT
DTSTART;TZID=Europe/Berlin:20241224T140000
DTEND;TZID=Europe/Berlin:20241224T160000
DTSTAMP:20260421T213438
CREATED:20241021T134940Z
LAST-MODIFIED:20241021T134940Z
UID:10000211-1735048800-1735056000@gemeinde-suelfeld.de
SUMMARY:Krippenspiel
DESCRIPTION:
URL:https://gemeinde-suelfeld.de/event/krippenspiel/
LOCATION:Kirche Sülfeld
END:VEVENT
END:VCALENDAR