BEGIN:VCALENDAR
VERSION:2.0
PRODID:-//Gemeinde Sülfeld - ECPv6.15.20//NONSGML v1.0//EN
CALSCALE:GREGORIAN
METHOD:PUBLISH
X-ORIGINAL-URL:https://gemeinde-suelfeld.de
X-WR-CALDESC:Veranstaltungen für Gemeinde Sülfeld
REFRESH-INTERVAL;VALUE=DURATION:PT1H
X-Robots-Tag:noindex
X-PUBLISHED-TTL:PT1H
BEGIN:VTIMEZONE
TZID:Europe/Berlin
BEGIN:DAYLIGHT
TZOFFSETFROM:+0100
TZOFFSETTO:+0200
TZNAME:CEST
DTSTART:20230326T010000
END:DAYLIGHT
BEGIN:STANDARD
TZOFFSETFROM:+0200
TZOFFSETTO:+0100
TZNAME:CET
DTSTART:20231029T010000
END:STANDARD
BEGIN:DAYLIGHT
TZOFFSETFROM:+0100
TZOFFSETTO:+0200
TZNAME:CEST
DTSTART:20240331T010000
END:DAYLIGHT
BEGIN:STANDARD
TZOFFSETFROM:+0200
TZOFFSETTO:+0100
TZNAME:CET
DTSTART:20241027T010000
END:STANDARD
BEGIN:DAYLIGHT
TZOFFSETFROM:+0100
TZOFFSETTO:+0200
TZNAME:CEST
DTSTART:20250330T010000
END:DAYLIGHT
BEGIN:STANDARD
TZOFFSETFROM:+0200
TZOFFSETTO:+0100
TZNAME:CET
DTSTART:20251026T010000
END:STANDARD
BEGIN:DAYLIGHT
TZOFFSETFROM:+0100
TZOFFSETTO:+0200
TZNAME:CEST
DTSTART:20260329T010000
END:DAYLIGHT
BEGIN:STANDARD
TZOFFSETFROM:+0200
TZOFFSETTO:+0100
TZNAME:CET
DTSTART:20261025T010000
END:STANDARD
END:VTIMEZONE
BEGIN:VEVENT
DTSTART;TZID=Europe/Berlin:20250110T193000
DTEND;TZID=Europe/Berlin:20250110T220000
DTSTAMP:20260421T225612
CREATED:20241209T164249Z
LAST-MODIFIED:20241209T164249Z
UID:10000223-1736537400-1736546400@gemeinde-suelfeld.de
SUMMARY:Jahhreshauptversammlung Freiw. Feuerwehr Borstel
DESCRIPTION:
URL:https://gemeinde-suelfeld.de/event/jahhreshauptversammlung-freiw-feuerwehr-borstel/
LOCATION:Feuerwehrhaus Borstel\, Neuland 2\, Borstel\, Germany
END:VEVENT
BEGIN:VEVENT
DTSTART;TZID=Europe/Berlin:20250110T180000
DTEND;TZID=Europe/Berlin:20250110T200000
DTSTAMP:20260421T225612
CREATED:20241209T162938Z
LAST-MODIFIED:20241209T163555Z
UID:10000221-1736532000-1736539200@gemeinde-suelfeld.de
SUMMARY:Tannenbaumsammeln Tönningstedt
DESCRIPTION:
URL:https://gemeinde-suelfeld.de/event/tannenbaumsammeln-toenningstedt/
LOCATION:Oliver Borstel\, Hörn 18\, Tönningstedt
ATTACH;FMTTYPE=image/jpeg:https://gemeinde-suelfeld.de/wp-content/uploads/2024/12/Tannenbaum-A4-2025-scaled.jpg
ORGANIZER;CN="CDU Ortsverband S%C3%BClfeld":MAILTO:info@cdu-suelfeld.de
END:VEVENT
BEGIN:VEVENT
DTSTART;VALUE=DATE:20250110
DTEND;VALUE=DATE:20250113
DTSTAMP:20260421T225612
CREATED:20241209T164409Z
LAST-MODIFIED:20241209T164409Z
UID:10000224-1736467200-1736726399@gemeinde-suelfeld.de
SUMMARY:Herrenfußballturnier
DESCRIPTION:
URL:https://gemeinde-suelfeld.de/event/herrenfussballturnier/
LOCATION:Sporthalle Sülfeld
END:VEVENT
BEGIN:VEVENT
DTSTART;TZID=Europe/Berlin:20250109T140000
DTEND;TZID=Europe/Berlin:20250109T170000
DTSTAMP:20260421T225612
CREATED:20241210T214340Z
LAST-MODIFIED:20241210T215204Z
UID:10000257-1736431200-1736442000@gemeinde-suelfeld.de
SUMMARY:Spiele-Nachmittag
DESCRIPTION:
URL:https://gemeinde-suelfeld.de/event/spiele-nachmittag-11/2025-01-09/
LOCATION:Alte Schule Tönningstedt\, Am Dorfplatz\, 23867 Tönningstedt
END:VEVENT
BEGIN:VEVENT
DTSTART;TZID=Europe/Berlin:20250101T110000
DTEND;TZID=Europe/Berlin:20250101T150000
DTSTAMP:20260421T225612
CREATED:20241209T162525Z
LAST-MODIFIED:20241209T162525Z
UID:10000220-1735729200-1735743600@gemeinde-suelfeld.de
SUMMARY:Neujahrsparty im Günther's
DESCRIPTION:
URL:https://gemeinde-suelfeld.de/event/neujahrsparty-im-guenthers/
LOCATION:Günther’s im Sportlerheim\, An der Wildkoppel\, Sülfeld
END:VEVENT
BEGIN:VEVENT
DTSTART;TZID=Europe/Berlin:20241231T170000
DTEND;TZID=Europe/Berlin:20241231T180000
DTSTAMP:20260421T225612
CREATED:20241021T135458Z
LAST-MODIFIED:20241021T135458Z
UID:10000215-1735664400-1735668000@gemeinde-suelfeld.de
SUMMARY:Gottesdienst zum Jahresende
DESCRIPTION:
URL:https://gemeinde-suelfeld.de/event/gottesdienst-zum-jahresende-2/
LOCATION:Kirche Sülfeld
END:VEVENT
BEGIN:VEVENT
DTSTART;TZID=Europe/Berlin:20241227T190000
DTEND;TZID=Europe/Berlin:20241227T220000
DTSTAMP:20260421T225612
CREATED:20241021T135358Z
LAST-MODIFIED:20241021T135358Z
UID:10000214-1735326000-1735336800@gemeinde-suelfeld.de
SUMMARY:Silvesterschießen
DESCRIPTION:
URL:https://gemeinde-suelfeld.de/event/silvesterschiessen-2/
LOCATION:Schützenhaus\, Neuer Weg 50\, Sülfeld\, 23867\, Deutschland
END:VEVENT
BEGIN:VEVENT
DTSTART;TZID=Europe/Berlin:20241225T110000
DTEND;TZID=Europe/Berlin:20241225T123000
DTSTAMP:20260421T225612
CREATED:20241021T135243Z
LAST-MODIFIED:20241021T135243Z
UID:10000213-1735124400-1735129800@gemeinde-suelfeld.de
SUMMARY:Weihnachtsgottesdienst
DESCRIPTION:
URL:https://gemeinde-suelfeld.de/event/weihnachtsgottesdienst/
LOCATION:Kirche Sülfeld
END:VEVENT
BEGIN:VEVENT
DTSTART;TZID=Europe/Berlin:20241224T173000
DTEND;TZID=Europe/Berlin:20241224T183000
DTSTAMP:20260421T225612
CREATED:20241021T135033Z
LAST-MODIFIED:20241021T135033Z
UID:10000212-1735061400-1735065000@gemeinde-suelfeld.de
SUMMARY:Christvesper
DESCRIPTION:
URL:https://gemeinde-suelfeld.de/event/christvesper/
LOCATION:Kirche Sülfeld
END:VEVENT
BEGIN:VEVENT
DTSTART;TZID=Europe/Berlin:20241224T140000
DTEND;TZID=Europe/Berlin:20241224T160000
DTSTAMP:20260421T225612
CREATED:20241021T134940Z
LAST-MODIFIED:20241021T134940Z
UID:10000211-1735048800-1735056000@gemeinde-suelfeld.de
SUMMARY:Krippenspiel
DESCRIPTION:
URL:https://gemeinde-suelfeld.de/event/krippenspiel/
LOCATION:Kirche Sülfeld
END:VEVENT
BEGIN:VEVENT
DTSTART;VALUE=DATE:20241222
DTEND;VALUE=DATE:20241223
DTSTAMP:20260421T225612
CREATED:20241021T134846Z
LAST-MODIFIED:20241021T134846Z
UID:10000210-1734825600-1734911999@gemeinde-suelfeld.de
SUMMARY:Der Nikolaus kommt
DESCRIPTION:
URL:https://gemeinde-suelfeld.de/event/der-nikolaus-kommt-2/
LOCATION:Feuerwehrhaus Sülfeld\, Oldesloer Str. 11\, Sülfeld\, 23867\, Deutschland
END:VEVENT
BEGIN:VEVENT
DTSTART;VALUE=DATE:20241218
DTEND;VALUE=DATE:20241219
DTSTAMP:20260421T225612
CREATED:20241021T134754Z
LAST-MODIFIED:20241021T134754Z
UID:10000209-1734480000-1734566399@gemeinde-suelfeld.de
SUMMARY:Seniorenclub Weihnachtsfeier
DESCRIPTION:
URL:https://gemeinde-suelfeld.de/event/seniorenclub-weihnachtsfeier/
END:VEVENT
BEGIN:VEVENT
DTSTART;TZID=Europe/Berlin:20241213T180000
DTEND;TZID=Europe/Berlin:20241213T200000
DTSTAMP:20260421T225612
CREATED:20241023T160802Z
LAST-MODIFIED:20250518T153257Z
UID:10000216-1734112800-1734120000@gemeinde-suelfeld.de
SUMMARY:Weihnachtskonzert der Dorfkapelle
DESCRIPTION:
URL:https://gemeinde-suelfeld.de/event/weihnachtskonzert-der-dorfkapelle/
LOCATION:Remise beim Pastorat Sülfeld\, Am Markt 16\, Sülfeld
ATTACH;FMTTYPE=image/jpeg:https://gemeinde-suelfeld.de/wp-content/uploads/2024/10/IMG_7680.jpg
END:VEVENT
BEGIN:VEVENT
DTSTART;TZID=Europe/Berlin:20241213T173000
DTEND;TZID=Europe/Berlin:20241213T233000
DTSTAMP:20260421T225612
CREATED:20241021T134654Z
LAST-MODIFIED:20241210T232053Z
UID:10000208-1734111000-1734132600@gemeinde-suelfeld.de
SUMMARY:Weihnachtspunsch
DESCRIPTION:
URL:https://gemeinde-suelfeld.de/event/weihnachtsstammtisch/
LOCATION:Jugendraum (Sporthalle Sülfeld)\, Oldesloer Str. 9\, Sülfeld\, 23867\, Deutschland
ATTACH;FMTTYPE=image/jpeg:https://gemeinde-suelfeld.de/wp-content/uploads/2024/10/Weihnachtsstammtisch-2024_jpgweb.jpg
END:VEVENT
BEGIN:VEVENT
DTSTART;VALUE=DATE:20241208
DTEND;VALUE=DATE:20241209
DTSTAMP:20260421T225612
CREATED:20241021T134537Z
LAST-MODIFIED:20241021T134537Z
UID:10000207-1733616000-1733702399@gemeinde-suelfeld.de
SUMMARY:Nikolaus- und Adventskaffee
DESCRIPTION:
URL:https://gemeinde-suelfeld.de/event/nikolaus-und-adventskaffee/
LOCATION:Alte Schule Tönningstedt\, Am Dorfplatz\, Tönningstedt\, 23867\, Germany
END:VEVENT
BEGIN:VEVENT
DTSTART;TZID=Europe/Berlin:20241207T170000
DTEND;TZID=Europe/Berlin:20241207T220000
DTSTAMP:20260421T225612
CREATED:20241021T134425Z
LAST-MODIFIED:20241021T134425Z
UID:10000206-1733590800-1733608800@gemeinde-suelfeld.de
SUMMARY:3. Sülfelder Weihnachtsmarkt
DESCRIPTION:
URL:https://gemeinde-suelfeld.de/event/3-suelfelder-weihnachtsmarkt/
LOCATION:Sportplatz an der Wildkoppel\, An d. Wildkoppel\, Sülfeld\, 23867\, Deutschland
END:VEVENT
BEGIN:VEVENT
DTSTART;TZID=Europe/Berlin:20241207T140000
DTEND;TZID=Europe/Berlin:20241207T170000
DTSTAMP:20260421T225612
CREATED:20241021T134316Z
LAST-MODIFIED:20241021T134316Z
UID:10000205-1733580000-1733590800@gemeinde-suelfeld.de
SUMMARY:Adventskaffee für Mitbürgerinnen und Mitbürger ab 70
DESCRIPTION:
URL:https://gemeinde-suelfeld.de/event/adventskaffee-fuer-mitbuergerinnen-und-mitbuerger-ab-70-2/
LOCATION:Sporthalle Sülfeld
END:VEVENT
BEGIN:VEVENT
DTSTART;TZID=Europe/Berlin:20241205T193000
DTEND;TZID=Europe/Berlin:20241205T193000
DTSTAMP:20260421T225612
CREATED:20240126T082418Z
LAST-MODIFIED:20241030T101107Z
UID:10000067-1733427000-1733427000@gemeinde-suelfeld.de
SUMMARY:Sitzung der Gemeindevertretung der Gemeinde Sülfeld
DESCRIPTION:Exportiert aus ALLRIS am 30.10.2024\nDie Sitzung in ALLRIS net:\nhttps://www.itzstedt.sitzung-online.de/bi/si010_e.asp?MM=12&YY=2024
URL:https://gemeinde-suelfeld.de/event/sitzung-der-gemeindevertretung-der-gemeinde-suelfeld-6/
CATEGORIES:Politik
END:VEVENT
BEGIN:VEVENT
DTSTART;TZID=Europe/Berlin:20241205T140000
DTEND;TZID=Europe/Berlin:20241205T160000
DTSTAMP:20260421T225612
CREATED:20240827T204350Z
LAST-MODIFIED:20241030T101107Z
UID:10000188-1733407200-1733414400@gemeinde-suelfeld.de
SUMMARY:WZV - Kommunal vor Ort - Bitte keine Sitzungen planen! Gilt für folgende Gemeinden: Itzstedt\, Kayhude\, Nahe\, Oering\, Seth und Sülfeld
DESCRIPTION:Exportiert aus ALLRIS am 30.10.2024\nDie Sitzung in ALLRIS net:\nhttps://www.itzstedt.sitzung-online.de/bi/si010_e.asp?MM=12&YY=2024
URL:https://gemeinde-suelfeld.de/event/wzv-kommunal-vor-ort-bitte-keine-sitzungen-planen-gilt-fuer-folgende-gemeinden-itzstedt-kayhude-nahe-oering-seth-und-suelfeld/
END:VEVENT
BEGIN:VEVENT
DTSTART;TZID=Europe/Berlin:20241205T093000
DTEND;TZID=Europe/Berlin:20241205T113000
DTSTAMP:20260421T225612
CREATED:20241026T085703Z
LAST-MODIFIED:20241026T170900Z
UID:10000218-1733391000-1733398200@gemeinde-suelfeld.de
SUMMARY:Adventsfrühstück in der Remise
DESCRIPTION:
URL:https://gemeinde-suelfeld.de/event/adventsfruehstueck-in-der-remise/
LOCATION:Remise beim Pastorat Sülfeld\, Am Markt 16\, Sülfeld
ATTACH;FMTTYPE=image/jpeg:https://gemeinde-suelfeld.de/wp-content/uploads/2024/10/IMG-20241025-WA0000.jpg
END:VEVENT
BEGIN:VEVENT
DTSTART;TZID=Europe/Berlin:20241202T160000
DTEND;TZID=Europe/Berlin:20241202T193000
DTSTAMP:20260421T225612
CREATED:20241021T134156Z
LAST-MODIFIED:20241021T134156Z
UID:10000204-1733155200-1733167800@gemeinde-suelfeld.de
SUMMARY:Blutspenden in Sülfeld
DESCRIPTION:
URL:https://gemeinde-suelfeld.de/event/blutspenden-in-suelfeld-2/
LOCATION:Gemeinschaftsschule Sülfeld\, Oldesloer Str. 9\, Sülfeld\, 23867\, Deutschland
END:VEVENT
BEGIN:VEVENT
DTSTART;TZID=Europe/Berlin:20241130T190000
DTEND;TZID=Europe/Berlin:20241130T220000
DTSTAMP:20260421T225612
CREATED:20241021T133751Z
LAST-MODIFIED:20241021T133751Z
UID:10000202-1732993200-1733004000@gemeinde-suelfeld.de
SUMMARY:Adventsfeier
DESCRIPTION:
URL:https://gemeinde-suelfeld.de/event/adventsfeier-2/
LOCATION:Alte Schule Tönningstedt\, Am Dorfplatz\, Tönningstedt\, 23867\, Germany
END:VEVENT
BEGIN:VEVENT
DTSTART;TZID=Europe/Berlin:20241130T143000
DTEND;TZID=Europe/Berlin:20241130T170000
DTSTAMP:20260421T225612
CREATED:20241021T133856Z
LAST-MODIFIED:20241021T133856Z
UID:10000203-1732977000-1732986000@gemeinde-suelfeld.de
SUMMARY:Weihnachtsfeier des Sozialverbandes
DESCRIPTION:
URL:https://gemeinde-suelfeld.de/event/weihnachtsfeier-des-sozialverbandes/
LOCATION:Jugendraum bei der Sporthalle Sülfeld\, Oldesloer Straße 9\, 23867 Sülfeld
END:VEVENT
BEGIN:VEVENT
DTSTART;VALUE=DATE:20241128
DTEND;VALUE=DATE:20241129
DTSTAMP:20260421T225612
CREATED:20241021T133635Z
LAST-MODIFIED:20241021T133635Z
UID:10000201-1732752000-1732838399@gemeinde-suelfeld.de
SUMMARY:Fahrt zum Weihnachtsmarkt in Krusmolle / DK
DESCRIPTION:
URL:https://gemeinde-suelfeld.de/event/fahrt-zum-weihnachtsmarkt-in-krusmolle-dk/
END:VEVENT
BEGIN:VEVENT
DTSTART;TZID=Europe/Berlin:20241123T200000
DTEND;TZID=Europe/Berlin:20241123T233000
DTSTAMP:20260421T225612
CREATED:20241021T133506Z
LAST-MODIFIED:20241021T133506Z
UID:10000200-1732392000-1732404600@gemeinde-suelfeld.de
SUMMARY:Stiftungsfest
DESCRIPTION:
URL:https://gemeinde-suelfeld.de/event/stiftungsfest-2/
LOCATION:Schützenhaus\, Neuer Weg 50\, Sülfeld\, 23867\, Deutschland
END:VEVENT
BEGIN:VEVENT
DTSTART;TZID=Europe/Berlin:20241123T190000
DTEND;TZID=Europe/Berlin:20241123T235900
DTSTAMP:20260421T225612
CREATED:20241021T133348Z
LAST-MODIFIED:20241107T151715Z
UID:10000199-1732388400-1732406340@gemeinde-suelfeld.de
SUMMARY:Kartenabend der Feuerwehr Sülfeld
DESCRIPTION:
URL:https://gemeinde-suelfeld.de/event/kartenabend-2/
LOCATION:Feuerwehrhaus Sülfeld\, Oldesloer Str. 11\, Sülfeld\, 23867\, Deutschland
ATTACH;FMTTYPE=image/jpeg:https://gemeinde-suelfeld.de/wp-content/uploads/2024/10/IMG_7622.jpg
END:VEVENT
BEGIN:VEVENT
DTSTART;TZID=Europe/Berlin:20241120T180000
DTEND;TZID=Europe/Berlin:20241120T200000
DTSTAMP:20260421T225612
CREATED:20241021T133218Z
LAST-MODIFIED:20241021T133218Z
UID:10000198-1732125600-1732132800@gemeinde-suelfeld.de
SUMMARY:Bettagsgottesdienst und Gemeindeversammlung
DESCRIPTION:
URL:https://gemeinde-suelfeld.de/event/bettagsgottesdienst-und-gemeindeversammlung/
LOCATION:Kirche Sülfeld
END:VEVENT
BEGIN:VEVENT
DTSTART;TZID=Europe/Berlin:20241119T193000
DTEND;TZID=Europe/Berlin:20241119T193000
DTSTAMP:20260421T225612
CREATED:20240517T161036Z
LAST-MODIFIED:20241030T101107Z
UID:10000161-1732044600-1732044600@gemeinde-suelfeld.de
SUMMARY:Sitzung des Ausschusses für Energie und Nachhaltigkeit der Gemeindevertretung der Gemeinde Sülfeld
DESCRIPTION:Exportiert aus ALLRIS am 30.10.2024\nDie Sitzung in ALLRIS net:\nhttps://www.itzstedt.sitzung-online.de/bi/si010_e.asp?MM=11&YY=2024
URL:https://gemeinde-suelfeld.de/event/sitzung-des-ausschusses-fuer-energie-und-nachhaltigkeit-der-gemeindevertretung-der-gemeinde-suelfeld-3/
LOCATION:Jugendraum bei der Sporthalle Sülfeld\, Oldesloer Straße 9\, 23867 Sülfeld
END:VEVENT
BEGIN:VEVENT
DTSTART;TZID=Europe/Berlin:20241117T170000
DTEND;TZID=Europe/Berlin:20241117T183000
DTSTAMP:20260421T225612
CREATED:20241021T133042Z
LAST-MODIFIED:20241021T133243Z
UID:10000197-1731862800-1731868200@gemeinde-suelfeld.de
SUMMARY:Friedensgottesdienst
DESCRIPTION:
URL:https://gemeinde-suelfeld.de/event/friedensgottesdienst/
LOCATION:Kirche Sülfeld
END:VEVENT
BEGIN:VEVENT
DTSTART;TZID=Europe/Berlin:20241117T103000
DTEND;TZID=Europe/Berlin:20241117T113000
DTSTAMP:20260421T225612
CREATED:20241021T132947Z
LAST-MODIFIED:20241028T071634Z
UID:10000196-1731839400-1731843000@gemeinde-suelfeld.de
SUMMARY:Feierstunde zum Volkstrauertag am Ehrenmal Sülfeld
DESCRIPTION:
URL:https://gemeinde-suelfeld.de/event/feierstunde-zum-volkstrauertag-am-ehrenmal-suelfeld/
LOCATION:Ehrenmal auf dem Friedhof Sülfeld
END:VEVENT
END:VCALENDAR