BEGIN:VCALENDAR
VERSION:2.0
PRODID:-//Gemeinde Sülfeld - ECPv6.15.20//NONSGML v1.0//EN
CALSCALE:GREGORIAN
METHOD:PUBLISH
X-WR-CALNAME:Gemeinde Sülfeld
X-ORIGINAL-URL:https://gemeinde-suelfeld.de
X-WR-CALDESC:Veranstaltungen für Gemeinde Sülfeld
REFRESH-INTERVAL;VALUE=DURATION:PT1H
X-Robots-Tag:noindex
X-PUBLISHED-TTL:PT1H
BEGIN:VTIMEZONE
TZID:Europe/Berlin
BEGIN:DAYLIGHT
TZOFFSETFROM:+0100
TZOFFSETTO:+0200
TZNAME:CEST
DTSTART:20230326T010000
END:DAYLIGHT
BEGIN:STANDARD
TZOFFSETFROM:+0200
TZOFFSETTO:+0100
TZNAME:CET
DTSTART:20231029T010000
END:STANDARD
BEGIN:DAYLIGHT
TZOFFSETFROM:+0100
TZOFFSETTO:+0200
TZNAME:CEST
DTSTART:20240331T010000
END:DAYLIGHT
BEGIN:STANDARD
TZOFFSETFROM:+0200
TZOFFSETTO:+0100
TZNAME:CET
DTSTART:20241027T010000
END:STANDARD
BEGIN:DAYLIGHT
TZOFFSETFROM:+0100
TZOFFSETTO:+0200
TZNAME:CEST
DTSTART:20250330T010000
END:DAYLIGHT
BEGIN:STANDARD
TZOFFSETFROM:+0200
TZOFFSETTO:+0100
TZNAME:CET
DTSTART:20251026T010000
END:STANDARD
END:VTIMEZONE
BEGIN:VEVENT
DTSTART;TZID=Europe/Berlin:20241026T093000
DTEND;TZID=Europe/Berlin:20241026T093000
DTSTAMP:20260422T012912
CREATED:20240126T082418Z
LAST-MODIFIED:20241025T095536Z
UID:10000064-1729935000-1729935000@gemeinde-suelfeld.de
SUMMARY:Sitzung des Wege- und Umweltausschusses der Gemeindevertretung der Gemeinde Sülfeld - DIE SITZUNG FINDET NICHT STATT! -
DESCRIPTION:Exportiert aus ALLRIS am 25.10.2024\nDie Sitzung in ALLRIS net:\nhttps://www.itzstedt.sitzung-online.de/bi/si010_e.asp?MM=10&YY=2024
URL:https://gemeinde-suelfeld.de/event/sitzung-des-wege-und-umweltausschusses-der-gemeindevertretung-der-gemeinde-suelfeld-2/
CATEGORIES:Politik
END:VEVENT
BEGIN:VEVENT
DTSTART;VALUE=DATE:20241026
DTEND;VALUE=DATE:20241030
DTSTAMP:20260422T012912
CREATED:20240811T163100Z
LAST-MODIFIED:20240811T163100Z
UID:10000186-1729900800-1730246399@gemeinde-suelfeld.de
SUMMARY:4 Tage Fischland-Darß
DESCRIPTION:
URL:https://gemeinde-suelfeld.de/event/4-tage-fischland-darss/
END:VEVENT
BEGIN:VEVENT
DTSTART;TZID=Europe/Berlin:20241023T190000
DTEND;TZID=Europe/Berlin:20241023T210000
DTSTAMP:20260422T012912
CREATED:20241002T144716Z
LAST-MODIFIED:20241002T145801Z
UID:10000190-1729710000-1729717200@gemeinde-suelfeld.de
SUMMARY:Energie Sparen im Haushalt
DESCRIPTION:Mitarbeiter des Amtes Itzstedt und ein Energieberater der Verbraucherzentrale Schleswig-Holstein laden Sie herzlich zu einer Informationsveranstaltung ein\, bei der Sie alles Wichtige rund um das Thema Energiesparen im Haushalt erfahren können. \nDatum: Mittwoch\, den 23.10.2024\nUhrzeit: ab 19.00 Uhr\nOrt: Bürgerhaus Itzstedt – Segeberger Str. 43 – 23845 Itzstedt \nThemen des Abends: \n\nEnergieeinsparmöglichkeiten\nErneuerbare Energieeinspargesetz\nEnergiechecks der Verbraucherzentrale\nKünftige Heizmöglichkeiten\nFördermöglichkeiten\nSachstand Wärmeplanung im Amt Itzstedt\n\nZusätzlich wird ein Balkonkraftwerk vorgestellt\, und es werden alternative LED-Leuchtmittel präsentiert. Der Eintritt ist kostenlos. \nWir freuen uns auf Ihre Teilnahme! \nMarek Krysiak\n-Bürgermeister der Gemeinde Sülfeld-
URL:https://gemeinde-suelfeld.de/event/11660/
LOCATION:Bürgerhaus Itzstedt\, Segeberger Str. 43\, Itzstedt\, 23845
END:VEVENT
BEGIN:VEVENT
DTSTART;TZID=Europe/Berlin:20241017T193000
DTEND;TZID=Europe/Berlin:20241017T193000
DTSTAMP:20260422T012912
CREATED:20240126T082418Z
LAST-MODIFIED:20241016T235827Z
UID:10000063-1729193400-1729193400@gemeinde-suelfeld.de
SUMMARY:Sitzung der Gemeindevertretung der Gemeinde Sülfeld - DIE SITZUNG FINDET NICHT STATT! -
DESCRIPTION:Exportiert aus ALLRIS am 17.10.2024\nDie Sitzung in ALLRIS net:\nhttps://www.itzstedt.sitzung-online.de/bi/si010_e.asp?MM=10&YY=2024
URL:https://gemeinde-suelfeld.de/event/sitzung-der-gemeindevertretung-der-gemeinde-suelfeld-5/
CATEGORIES:Politik
END:VEVENT
BEGIN:VEVENT
DTSTART;VALUE=DATE:20241016
DTEND;VALUE=DATE:20241021
DTSTAMP:20260422T012912
CREATED:20240811T162956Z
LAST-MODIFIED:20240811T162956Z
UID:10000185-1729036800-1729468799@gemeinde-suelfeld.de
SUMMARY:Herbstreise an die Mosel
DESCRIPTION:
URL:https://gemeinde-suelfeld.de/event/herbstreise-an-die-mosel/
END:VEVENT
BEGIN:VEVENT
DTSTART;TZID=Europe/Berlin:20241012T180000
DTEND;TZID=Europe/Berlin:20241012T200000
DTSTAMP:20260422T012912
CREATED:20240811T162833Z
LAST-MODIFIED:20240811T162833Z
UID:10000184-1728756000-1728763200@gemeinde-suelfeld.de
SUMMARY:Laternen-Umzug der Gemeinde Sülfeld
DESCRIPTION:
URL:https://gemeinde-suelfeld.de/event/laternen-umzug-der-gemeinde-suelfeld/
LOCATION:Feuerwehrhaus Sülfeld\, Oldesloer Str. 11\, Sülfeld\, 23867\, Deutschland
END:VEVENT
BEGIN:VEVENT
DTSTART;TZID=Europe/Berlin:20241012T130000
DTEND;TZID=Europe/Berlin:20241012T180000
DTSTAMP:20260422T012912
CREATED:20240811T162716Z
LAST-MODIFIED:20240811T162716Z
UID:10000183-1728738000-1728756000@gemeinde-suelfeld.de
SUMMARY:Boßeln
DESCRIPTION:
URL:https://gemeinde-suelfeld.de/event/bosseln/
LOCATION:Schützenhaus\, Neuer Weg 50\, Sülfeld\, 23867\, Deutschland
END:VEVENT
BEGIN:VEVENT
DTSTART;VALUE=DATE:20241009
DTEND;VALUE=DATE:20241010
DTSTAMP:20260422T012912
CREATED:20240811T162601Z
LAST-MODIFIED:20240811T162601Z
UID:10000182-1728432000-1728518399@gemeinde-suelfeld.de
SUMMARY:Tagesausflug
DESCRIPTION:
URL:https://gemeinde-suelfeld.de/event/tagesausflug-6/
END:VEVENT
BEGIN:VEVENT
DTSTART;TZID=Europe/Berlin:20241007T193000
DTEND;TZID=Europe/Berlin:20241007T193000
DTSTAMP:20260422T012912
CREATED:20240126T082417Z
LAST-MODIFIED:20241006T231056Z
UID:10000062-1728329400-1728329400@gemeinde-suelfeld.de
SUMMARY:Sitzung des Finanzausschusses der Gemeindevertretung der Gemeinde Sülfeld - DIE SITZUNG FINDET NICHT STATT! -
DESCRIPTION:Exportiert aus ALLRIS am 07.10.2024\nDie Sitzung in ALLRIS net:\nhttps://www.itzstedt.sitzung-online.de/bi/si010_e.asp?MM=10&YY=2024
URL:https://gemeinde-suelfeld.de/event/sitzung-des-finanzausschusses-der-gemeindevertretung-der-gemeinde-suelfeld-3/
LOCATION:Amtsverwaltungsgebäude – Sitzungssaal\, Segeberger Straße 41\, 23845 Itzstedt
CATEGORIES:Politik
END:VEVENT
BEGIN:VEVENT
DTSTART;TZID=Europe/Berlin:20241006T080000
DTEND;TZID=Europe/Berlin:20241006T170000
DTSTAMP:20260422T012912
CREATED:20240811T162442Z
LAST-MODIFIED:20240811T162442Z
UID:10000181-1728201600-1728234000@gemeinde-suelfeld.de
SUMMARY:Erntedank-Gottesdienst am Vierthof
DESCRIPTION:
URL:https://gemeinde-suelfeld.de/event/erntedank-gottesdienst-am-vierthof/
LOCATION:Vierthof 5\, Sülfeld
END:VEVENT
BEGIN:VEVENT
DTSTART;VALUE=DATE:20241002
DTEND;VALUE=DATE:20241003
DTSTAMP:20260422T012912
CREATED:20240811T162020Z
LAST-MODIFIED:20240811T162020Z
UID:10000179-1727827200-1727913599@gemeinde-suelfeld.de
SUMMARY:Laternen-Umzug FF Borstel
DESCRIPTION:
URL:https://gemeinde-suelfeld.de/event/laternen-umzug-ff-borstel/
END:VEVENT
BEGIN:VEVENT
DTSTART;VALUE=DATE:20240927
DTEND;VALUE=DATE:20240928
DTSTAMP:20260422T012912
CREATED:20240811T162103Z
LAST-MODIFIED:20240811T162103Z
UID:10000180-1727395200-1727481599@gemeinde-suelfeld.de
SUMMARY:Laternen-Umzug FF Tönningstedt
DESCRIPTION:
URL:https://gemeinde-suelfeld.de/event/laternen-umzug-ff-toenningstedt/
END:VEVENT
BEGIN:VEVENT
DTSTART;VALUE=DATE:20240927
DTEND;VALUE=DATE:20240928
DTSTAMP:20260422T012912
CREATED:20240811T161845Z
LAST-MODIFIED:20240811T161845Z
UID:10000178-1727395200-1727481599@gemeinde-suelfeld.de
SUMMARY:Nachtwächterwanderung Lübeck
DESCRIPTION:
URL:https://gemeinde-suelfeld.de/event/nachtwaechterwanderung-luebeck/
END:VEVENT
BEGIN:VEVENT
DTSTART;TZID=Europe/Berlin:20240924T193000
DTEND;TZID=Europe/Berlin:20240924T193000
DTSTAMP:20260422T012912
CREATED:20240517T161036Z
LAST-MODIFIED:20240923T215541Z
UID:10000160-1727206200-1727206200@gemeinde-suelfeld.de
SUMMARY:Sitzung des Ausschusses für Energie und Nachhaltigkeit der Gemeindevertretung der Gemeinde Sülfeld - SITZUNG FINDET NICHT STATT!!!
DESCRIPTION:Exportiert aus ALLRIS am 23.09.2024\nDie Sitzung in ALLRIS net:\nhttps://www.itzstedt.sitzung-online.de/bi/si010_e.asp?MM=9&YY=2024
URL:https://gemeinde-suelfeld.de/event/sitzung-des-ausschusses-fuer-energie-und-nachhaltigkeit-der-gemeindevertretung-der-gemeinde-suelfeld-2/
END:VEVENT
BEGIN:VEVENT
DTSTART;TZID=Europe/Berlin:20240923T184500
DTEND;TZID=Europe/Berlin:20240923T184500
DTSTAMP:20260422T012912
CREATED:20240126T082417Z
LAST-MODIFIED:20240922T215705Z
UID:10000061-1727117100-1727117100@gemeinde-suelfeld.de
SUMMARY:Sitzung des Sozial- und Kulturauschusses der Gemeindevertretung der Gemeinde Sülfeld
DESCRIPTION:Exportiert aus ALLRIS am 22.09.2024\nDie Sitzung in ALLRIS net:\nhttps://www.itzstedt.sitzung-online.de/bi/to010.asp?SILFDNR=3444
URL:https://gemeinde-suelfeld.de/event/sitzung-des-sozial-und-kulturauschusses-der-gemeindevertretung-der-gemeinde-suelfeld-2/
LOCATION:Jugendraum bei der Sporthalle Sülfeld\, Oldesloer Straße 9\, 23867 Sülfeld
CATEGORIES:Politik
END:VEVENT
BEGIN:VEVENT
DTSTART;TZID=Europe/Berlin:20240919T193000
DTEND;TZID=Europe/Berlin:20240919T193000
DTSTAMP:20260422T012912
CREATED:20240126T082417Z
LAST-MODIFIED:20240918T214407Z
UID:10000060-1726774200-1726774200@gemeinde-suelfeld.de
SUMMARY:Sitzung des Zentralausschusses der Gemeindevertretung der Gemeinde Sülfeld - SITZUNG FINDET NICHT STATT!!!
DESCRIPTION:Exportiert aus ALLRIS am 18.09.2024\nDie Sitzung in ALLRIS net:\nhttps://www.itzstedt.sitzung-online.de/bi/si010_e.asp?MM=9&YY=2024
URL:https://gemeinde-suelfeld.de/event/sitzung-des-zentralausschusses-der-gemeindevertretung-der-gemeinde-suelfeld-2/
CATEGORIES:Politik
END:VEVENT
BEGIN:VEVENT
DTSTART;TZID=Europe/Berlin:20240916T160000
DTEND;TZID=Europe/Berlin:20240916T193000
DTSTAMP:20260422T012912
CREATED:20240811T161136Z
LAST-MODIFIED:20240811T161136Z
UID:10000177-1726502400-1726515000@gemeinde-suelfeld.de
SUMMARY:Blutspenden in Sülfeld
DESCRIPTION:
URL:https://gemeinde-suelfeld.de/event/blutspenden-in-suelfeld/
END:VEVENT
BEGIN:VEVENT
DTSTART;TZID=Europe/Berlin:20240914T160000
DTEND;TZID=Europe/Berlin:20240914T190000
DTSTAMP:20260422T012912
CREATED:20240315T201912Z
LAST-MODIFIED:20240827T173426Z
UID:10000137-1726329600-1726340400@gemeinde-suelfeld.de
SUMMARY:Internationales Buffet
DESCRIPTION:Am Samstag\, 14. 9. 2024\, findet in der Remise ein internationales Buffet statt. \nAnmeldung unter: \nmaren.schwarz@suelfeld.de oder 0178-1961693
URL:https://gemeinde-suelfeld.de/event/internationales-buffet-2/
LOCATION:Remise beim Pastorat Sülfeld\, Am Markt 16\, Sülfeld
ATTACH;FMTTYPE=image/jpeg:https://gemeinde-suelfeld.de/wp-content/uploads/2024/03/PHOTO-2024-08-27-19-26-02.jpg
END:VEVENT
BEGIN:VEVENT
DTSTART;VALUE=DATE:20240914
DTEND;VALUE=DATE:20240915
DTSTAMP:20260422T012912
CREATED:20240811T160936Z
LAST-MODIFIED:20240811T160936Z
UID:10000175-1726272000-1726358399@gemeinde-suelfeld.de
SUMMARY:Erlebnistag - Fjord und Förde
DESCRIPTION:
URL:https://gemeinde-suelfeld.de/event/erlebnistag-fjord-und-foerde/
END:VEVENT
BEGIN:VEVENT
DTSTART;TZID=Europe/Berlin:20240912T193000
DTEND;TZID=Europe/Berlin:20240912T193000
DTSTAMP:20260422T012912
CREATED:20240126T082417Z
LAST-MODIFIED:20240911T214043Z
UID:10000059-1726169400-1726169400@gemeinde-suelfeld.de
SUMMARY:Sitzung der Gemeindevertretung der Gemeinde Sülfeld
DESCRIPTION:Exportiert aus ALLRIS am 11.09.2024\nDie Sitzung in ALLRIS net:\nhttps://www.itzstedt.sitzung-online.de/bi/to010.asp?SILFDNR=3442
URL:https://gemeinde-suelfeld.de/event/sitzung-der-gemeindevertretung-der-gemeinde-suelfeld-4/
LOCATION:Jugendraum bei der Sporthalle Sülfeld\, Oldesloer Straße 9\, 23867 Sülfeld
CATEGORIES:Politik
END:VEVENT
BEGIN:VEVENT
DTSTART;TZID=Europe/Berlin:20240908T110000
DTEND;TZID=Europe/Berlin:20240908T170000
DTSTAMP:20260422T012912
CREATED:20240811T160037Z
LAST-MODIFIED:20240811T160037Z
UID:10000173-1725793200-1725814800@gemeinde-suelfeld.de
SUMMARY:Rad-Aktionstag
DESCRIPTION:
URL:https://gemeinde-suelfeld.de/event/rad-aktionstag/
END:VEVENT
BEGIN:VEVENT
DTSTART;TZID=Europe/Berlin:20240908T090000
DTEND;TZID=Europe/Berlin:20240908T170000
DTSTAMP:20260422T012912
CREATED:20240811T160728Z
LAST-MODIFIED:20240811T160825Z
UID:10000174-1725786000-1725814800@gemeinde-suelfeld.de
SUMMARY:Oldtimertreffen in Sülfeld
DESCRIPTION:
URL:https://gemeinde-suelfeld.de/event/oldtimertreffen-in-suelfeld/
LOCATION:Wischhof\, Sülfeld
END:VEVENT
BEGIN:VEVENT
DTSTART;TZID=Europe/Berlin:20240907T190000
DTEND;TZID=Europe/Berlin:20240907T233000
DTSTAMP:20260422T012912
CREATED:20240811T160050Z
LAST-MODIFIED:20240811T160050Z
UID:10000172-1725735600-1725751800@gemeinde-suelfeld.de
SUMMARY:Sülfelder Scheunenfete
DESCRIPTION:
URL:https://gemeinde-suelfeld.de/event/suelfelder-scheunenfete/
LOCATION:LVD Krone\, Neuer Weg 34\, Sülfeld\, Deutschland
ORGANIZER;CN="CDU Ortsverband S%C3%BClfeld":MAILTO:info@cdu-suelfeld.de
END:VEVENT
BEGIN:VEVENT
DTSTART;TZID=Europe/Berlin:20240905T190000
DTEND;TZID=Europe/Berlin:20240905T210000
DTSTAMP:20260422T012912
CREATED:20240811T160103Z
LAST-MODIFIED:20240811T160103Z
UID:10000171-1725562800-1725570000@gemeinde-suelfeld.de
SUMMARY:Stammtisch im Jugendraum
DESCRIPTION:
URL:https://gemeinde-suelfeld.de/event/stammtisch-im-jugendraum/
LOCATION:Jugendraum bei der Sporthalle Sülfeld\, Oldesloer Straße 9\, 23867 Sülfeld
END:VEVENT
BEGIN:VEVENT
DTSTART;TZID=Europe/Berlin:20240904T190000
DTEND;TZID=Europe/Berlin:20240904T190000
DTSTAMP:20260422T012912
CREATED:20240708T185559Z
LAST-MODIFIED:20240903T211324Z
UID:10000164-1725476400-1725476400@gemeinde-suelfeld.de
SUMMARY:Sitzung des Finanzausschusses der Gemeindevertretung der Gemeinde Sülfeld
DESCRIPTION:Exportiert aus ALLRIS am 03.09.2024\nDie Sitzung in ALLRIS net:\nhttps://www.itzstedt.sitzung-online.de/bi/to010.asp?SILFDNR=3703
URL:https://gemeinde-suelfeld.de/event/sitzung-des-finanzausschusses-der-gemeindevertretung-der-gemeinde-suelfeld-5/
LOCATION:Jugendraum bei der Sporthalle Sülfeld\, Oldesloer Straße 9\, 23867 Sülfeld
END:VEVENT
BEGIN:VEVENT
DTSTART;TZID=Europe/Berlin:20240904T083000
DTEND;TZID=Europe/Berlin:20240904T100000
DTSTAMP:20260422T012912
CREATED:20240811T160121Z
LAST-MODIFIED:20240811T160121Z
UID:10000170-1725438600-1725444000@gemeinde-suelfeld.de
SUMMARY:Einschulungsgottesdienst
DESCRIPTION:
URL:https://gemeinde-suelfeld.de/event/einschulungsgottesdienst/
LOCATION:Kirche Sülfeld
END:VEVENT
BEGIN:VEVENT
DTSTART;VALUE=DATE:20240903
DTEND;VALUE=DATE:20240904
DTSTAMP:20260422T012912
CREATED:20240811T160134Z
LAST-MODIFIED:20240811T160134Z
UID:10000169-1725321600-1725407999@gemeinde-suelfeld.de
SUMMARY:Tagesausflug
DESCRIPTION:
URL:https://gemeinde-suelfeld.de/event/tagesausflug-5/
END:VEVENT
BEGIN:VEVENT
DTSTART;TZID=Europe/Berlin:20240901T140000
DTEND;TZID=Europe/Berlin:20240901T170000
DTSTAMP:20260422T012912
CREATED:20240811T160025Z
LAST-MODIFIED:20240811T160025Z
UID:10000168-1725199200-1725210000@gemeinde-suelfeld.de
SUMMARY:Tag der offenen Tür mit Familienpokalschießen
DESCRIPTION:
URL:https://gemeinde-suelfeld.de/event/tag-der-offenen-tuer-mit-familienpokalschiessen/
LOCATION:Schützenhaus\, Neuer Weg 50\, Sülfeld\, 23867\, Deutschland
END:VEVENT
BEGIN:VEVENT
DTSTART;VALUE=DATE:20240821
DTEND;VALUE=DATE:20240822
DTSTAMP:20260422T012912
CREATED:20240811T160147Z
LAST-MODIFIED:20240811T160147Z
UID:10000167-1724198400-1724284799@gemeinde-suelfeld.de
SUMMARY:Sommerfest
DESCRIPTION:
URL:https://gemeinde-suelfeld.de/event/sommerfest/
END:VEVENT
BEGIN:VEVENT
DTSTART;TZID=Europe/Berlin:20240814T140000
DTEND;TZID=Europe/Berlin:20240814T170000
DTSTAMP:20260422T012912
CREATED:20240811T160203Z
LAST-MODIFIED:20240811T160203Z
UID:10000166-1723644000-1723654800@gemeinde-suelfeld.de
SUMMARY:Ausflug nach Bad Oldesloe
DESCRIPTION:
URL:https://gemeinde-suelfeld.de/event/ausflug-nach-bad-oldesloe/
END:VEVENT
END:VCALENDAR