BEGIN:VCALENDAR
VERSION:2.0
PRODID:-//Gemeinde Sülfeld - ECPv6.15.20//NONSGML v1.0//EN
CALSCALE:GREGORIAN
METHOD:PUBLISH
X-WR-CALNAME:Gemeinde Sülfeld
X-ORIGINAL-URL:https://gemeinde-suelfeld.de
X-WR-CALDESC:Veranstaltungen für Gemeinde Sülfeld
REFRESH-INTERVAL;VALUE=DURATION:PT1H
X-Robots-Tag:noindex
X-PUBLISHED-TTL:PT1H
BEGIN:VTIMEZONE
TZID:Europe/Berlin
BEGIN:DAYLIGHT
TZOFFSETFROM:+0100
TZOFFSETTO:+0200
TZNAME:CEST
DTSTART:20230326T010000
END:DAYLIGHT
BEGIN:STANDARD
TZOFFSETFROM:+0200
TZOFFSETTO:+0100
TZNAME:CET
DTSTART:20231029T010000
END:STANDARD
BEGIN:DAYLIGHT
TZOFFSETFROM:+0100
TZOFFSETTO:+0200
TZNAME:CEST
DTSTART:20240331T010000
END:DAYLIGHT
BEGIN:STANDARD
TZOFFSETFROM:+0200
TZOFFSETTO:+0100
TZNAME:CET
DTSTART:20241027T010000
END:STANDARD
BEGIN:DAYLIGHT
TZOFFSETFROM:+0100
TZOFFSETTO:+0200
TZNAME:CEST
DTSTART:20250330T010000
END:DAYLIGHT
BEGIN:STANDARD
TZOFFSETFROM:+0200
TZOFFSETTO:+0100
TZNAME:CET
DTSTART:20251026T010000
END:STANDARD
END:VTIMEZONE
BEGIN:VEVENT
DTSTART;TZID=Europe/Berlin:20240908T110000
DTEND;TZID=Europe/Berlin:20240908T170000
DTSTAMP:20260422T024726
CREATED:20240811T160037Z
LAST-MODIFIED:20240811T160037Z
UID:10000173-1725793200-1725814800@gemeinde-suelfeld.de
SUMMARY:Rad-Aktionstag
DESCRIPTION:
URL:https://gemeinde-suelfeld.de/event/rad-aktionstag/
END:VEVENT
BEGIN:VEVENT
DTSTART;TZID=Europe/Berlin:20240908T090000
DTEND;TZID=Europe/Berlin:20240908T170000
DTSTAMP:20260422T024726
CREATED:20240811T160728Z
LAST-MODIFIED:20240811T160825Z
UID:10000174-1725786000-1725814800@gemeinde-suelfeld.de
SUMMARY:Oldtimertreffen in Sülfeld
DESCRIPTION:
URL:https://gemeinde-suelfeld.de/event/oldtimertreffen-in-suelfeld/
LOCATION:Wischhof\, Sülfeld
END:VEVENT
BEGIN:VEVENT
DTSTART;TZID=Europe/Berlin:20240907T190000
DTEND;TZID=Europe/Berlin:20240907T233000
DTSTAMP:20260422T024726
CREATED:20240811T160050Z
LAST-MODIFIED:20240811T160050Z
UID:10000172-1725735600-1725751800@gemeinde-suelfeld.de
SUMMARY:Sülfelder Scheunenfete
DESCRIPTION:
URL:https://gemeinde-suelfeld.de/event/suelfelder-scheunenfete/
LOCATION:LVD Krone\, Neuer Weg 34\, Sülfeld\, Deutschland
ORGANIZER;CN="CDU Ortsverband S%C3%BClfeld":MAILTO:info@cdu-suelfeld.de
END:VEVENT
BEGIN:VEVENT
DTSTART;TZID=Europe/Berlin:20240905T190000
DTEND;TZID=Europe/Berlin:20240905T210000
DTSTAMP:20260422T024726
CREATED:20240811T160103Z
LAST-MODIFIED:20240811T160103Z
UID:10000171-1725562800-1725570000@gemeinde-suelfeld.de
SUMMARY:Stammtisch im Jugendraum
DESCRIPTION:
URL:https://gemeinde-suelfeld.de/event/stammtisch-im-jugendraum/
LOCATION:Jugendraum bei der Sporthalle Sülfeld\, Oldesloer Straße 9\, 23867 Sülfeld
END:VEVENT
BEGIN:VEVENT
DTSTART;TZID=Europe/Berlin:20240904T190000
DTEND;TZID=Europe/Berlin:20240904T190000
DTSTAMP:20260422T024726
CREATED:20240708T185559Z
LAST-MODIFIED:20240903T211324Z
UID:10000164-1725476400-1725476400@gemeinde-suelfeld.de
SUMMARY:Sitzung des Finanzausschusses der Gemeindevertretung der Gemeinde Sülfeld
DESCRIPTION:Exportiert aus ALLRIS am 03.09.2024\nDie Sitzung in ALLRIS net:\nhttps://www.itzstedt.sitzung-online.de/bi/to010.asp?SILFDNR=3703
URL:https://gemeinde-suelfeld.de/event/sitzung-des-finanzausschusses-der-gemeindevertretung-der-gemeinde-suelfeld-5/
LOCATION:Jugendraum bei der Sporthalle Sülfeld\, Oldesloer Straße 9\, 23867 Sülfeld
END:VEVENT
BEGIN:VEVENT
DTSTART;TZID=Europe/Berlin:20240904T083000
DTEND;TZID=Europe/Berlin:20240904T100000
DTSTAMP:20260422T024726
CREATED:20240811T160121Z
LAST-MODIFIED:20240811T160121Z
UID:10000170-1725438600-1725444000@gemeinde-suelfeld.de
SUMMARY:Einschulungsgottesdienst
DESCRIPTION:
URL:https://gemeinde-suelfeld.de/event/einschulungsgottesdienst/
LOCATION:Kirche Sülfeld
END:VEVENT
BEGIN:VEVENT
DTSTART;VALUE=DATE:20240903
DTEND;VALUE=DATE:20240904
DTSTAMP:20260422T024726
CREATED:20240811T160134Z
LAST-MODIFIED:20240811T160134Z
UID:10000169-1725321600-1725407999@gemeinde-suelfeld.de
SUMMARY:Tagesausflug
DESCRIPTION:
URL:https://gemeinde-suelfeld.de/event/tagesausflug-5/
END:VEVENT
BEGIN:VEVENT
DTSTART;TZID=Europe/Berlin:20240901T140000
DTEND;TZID=Europe/Berlin:20240901T170000
DTSTAMP:20260422T024726
CREATED:20240811T160025Z
LAST-MODIFIED:20240811T160025Z
UID:10000168-1725199200-1725210000@gemeinde-suelfeld.de
SUMMARY:Tag der offenen Tür mit Familienpokalschießen
DESCRIPTION:
URL:https://gemeinde-suelfeld.de/event/tag-der-offenen-tuer-mit-familienpokalschiessen/
LOCATION:Schützenhaus\, Neuer Weg 50\, Sülfeld\, 23867\, Deutschland
END:VEVENT
BEGIN:VEVENT
DTSTART;VALUE=DATE:20240821
DTEND;VALUE=DATE:20240822
DTSTAMP:20260422T024726
CREATED:20240811T160147Z
LAST-MODIFIED:20240811T160147Z
UID:10000167-1724198400-1724284799@gemeinde-suelfeld.de
SUMMARY:Sommerfest
DESCRIPTION:
URL:https://gemeinde-suelfeld.de/event/sommerfest/
END:VEVENT
BEGIN:VEVENT
DTSTART;TZID=Europe/Berlin:20240814T140000
DTEND;TZID=Europe/Berlin:20240814T170000
DTSTAMP:20260422T024726
CREATED:20240811T160203Z
LAST-MODIFIED:20240811T160203Z
UID:10000166-1723644000-1723654800@gemeinde-suelfeld.de
SUMMARY:Ausflug nach Bad Oldesloe
DESCRIPTION:
URL:https://gemeinde-suelfeld.de/event/ausflug-nach-bad-oldesloe/
END:VEVENT
BEGIN:VEVENT
DTSTART;TZID=Europe/Berlin:20240720T140000
DTEND;TZID=Europe/Berlin:20240720T233000
DTSTAMP:20260422T024726
CREATED:20240515T075324Z
LAST-MODIFIED:20240515T075406Z
UID:10000155-1721484000-1721518200@gemeinde-suelfeld.de
SUMMARY:Spiel ohne Grenzen in Tönningstedt
DESCRIPTION:
URL:https://gemeinde-suelfeld.de/event/spiel-ohne-grenzen-in-toenningstedt/
LOCATION:Alte Schule Tönningstedt\, Am Dorfplatz\, Tönningstedt\, 23867\, Germany
ATTACH;FMTTYPE=image/jpeg:https://gemeinde-suelfeld.de/wp-content/uploads/2024/05/441156590_7553325308070220_633186847803150031_n.jpg
END:VEVENT
BEGIN:VEVENT
DTSTART;TZID=Europe/Berlin:20240629T200000
DTEND;TZID=Europe/Berlin:20240629T235900
DTSTAMP:20260422T024726
CREATED:20240306T202410Z
LAST-MODIFIED:20240306T202410Z
UID:10000132-1719691200-1719705540@gemeinde-suelfeld.de
SUMMARY:Dorfbuuums am Klingberg mit Buddy Ogün
DESCRIPTION:Live on Mainstage: Buddy Ogün & DJ Freddy \n2nd Stage: Schlagerfloor
URL:https://gemeinde-suelfeld.de/event/dorfbuuums-am-klingberg-mit-buddy-oguen/
LOCATION:Koppel – Am Klingberg\, Sülfeld / Tönningstedt
ATTACH;FMTTYPE=image/jpeg:https://gemeinde-suelfeld.de/wp-content/uploads/2024/02/08acaf92-c037-45dc-a205-457f334f6d21-e1709066741903.jpg
ORGANIZER;CN="Zeltbetrieb Sesiani GmbH":MAILTO:info@sesiani.de
END:VEVENT
BEGIN:VEVENT
DTSTART;TZID=Europe/Berlin:20240629T090000
DTEND;TZID=Europe/Berlin:20240629T190000
DTSTAMP:20260422T024726
CREATED:20240131T141302Z
LAST-MODIFIED:20240131T141302Z
UID:10000105-1719651600-1719687600@gemeinde-suelfeld.de
SUMMARY:Vogelschießen
DESCRIPTION:
URL:https://gemeinde-suelfeld.de/event/vogelschiessen/
LOCATION:Alte Schule Tönningstedt\, Am Dorfplatz\, Tönningstedt\, 23867\, Germany
END:VEVENT
BEGIN:VEVENT
DTSTART;TZID=Europe/Berlin:20240628T200000
DTEND;TZID=Europe/Berlin:20240628T235900
DTSTAMP:20260422T024726
CREATED:20240306T202352Z
LAST-MODIFIED:20240306T202352Z
UID:10000131-1719604800-1719619140@gemeinde-suelfeld.de
SUMMARY:Hektar Beats
DESCRIPTION:Heaktar Beats am Klingberg \nMainstage: Revival / Hands Up / Harder Stylez\n2nd Stage: Techno / Trance & Classix \nGenaues Veranstaltungsende unbekannt.
URL:https://gemeinde-suelfeld.de/event/hektar-beats/
LOCATION:Koppel – Am Klingberg\, Sülfeld / Tönningstedt
ATTACH;FMTTYPE=image/jpeg:https://gemeinde-suelfeld.de/wp-content/uploads/2024/02/e6e9d4c5-07af-4e3e-8e12-c53e30f79f98-e1709066007278.jpg
ORGANIZER;CN="Zeltbetrieb Sesiani GmbH":MAILTO:info@sesiani.de
END:VEVENT
BEGIN:VEVENT
DTSTART;VALUE=DATE:20240627
DTEND;VALUE=DATE:20240628
DTSTAMP:20260422T024726
CREATED:20240131T141325Z
LAST-MODIFIED:20240204T170027Z
UID:10000103-1719446400-1719532799@gemeinde-suelfeld.de
SUMMARY:Tagesausflug Schwerin
DESCRIPTION:SoVD Deutschland
URL:https://gemeinde-suelfeld.de/event/tagesausflug-2/
END:VEVENT
BEGIN:VEVENT
DTSTART;TZID=Europe/Berlin:20240622T170000
DTEND;TZID=Europe/Berlin:20240622T200000
DTSTAMP:20260422T024726
CREATED:20240315T201708Z
LAST-MODIFIED:20240530T082454Z
UID:10000136-1719075600-1719086400@gemeinde-suelfeld.de
SUMMARY:White Dinner zur Mittsommernacht unter der Pastoratslinde
DESCRIPTION:Am Samstag\, 22. 6.\, findet am späteren Nachmittag unter der Pastoratslinde ein „White Dinner“ zur Mittsommernacht statt mit der Möglichkeit\, Spiele der EM in der Remise zu verfolgen.
URL:https://gemeinde-suelfeld.de/event/white-dinner-zur-mittsommernacht-unter-der-pastoratslinde/
LOCATION:Remise beim Pastorat Sülfeld\, Am Markt 16\, Sülfeld
ATTACH;FMTTYPE=image/jpeg:https://gemeinde-suelfeld.de/wp-content/uploads/2024/03/White-Dinner-zur-Mittsommernacht-Samstag-22.6.24-16.30Uhr-vor-dem-Pastor_20240522_154700_0000_1-scaled.jpg
END:VEVENT
BEGIN:VEVENT
DTSTART;TZID=Europe/Berlin:20240622T100000
DTEND;TZID=Europe/Berlin:20240622T120000
DTSTAMP:20260422T024726
CREATED:20240315T202823Z
LAST-MODIFIED:20240315T202823Z
UID:10000141-1719050400-1719057600@gemeinde-suelfeld.de
SUMMARY:Kinderkirche
DESCRIPTION:Hurra\, es gibt wieder eine Kinderkirche in Sülfeld! \nDas Team vom Bunten Miteinander um Maren Schwarz freut sich mit Pastor Fritsch auf Kinder ab fünf Jahren\, die gerne spielen\, singen\, basteln und Geschichten hören. \nAn jedem 4. Samstag im Monat findet die Kinderkirche von 10:00 bis 12:00 Uhr in der Remise beim Sülfelder Patorat statt. Los geht es am 23. März. Die weiteren Termine sind der 27. April\, der 25. Mai und der 22. Juni. Für Getränke und einen kleinen Imbiss wird gesorgt. \nWir freuen uns auf Euch\, Christian Fritsch
URL:https://gemeinde-suelfeld.de/event/kinderkirche/2024-06-22/
LOCATION:Remise beim Pastorat Sülfeld\, Am Markt 16\, Sülfeld
END:VEVENT
BEGIN:VEVENT
DTSTART;TZID=Europe/Berlin:20240619T083000
DTEND;TZID=Europe/Berlin:20240619T170000
DTSTAMP:20260422T024726
CREATED:20240131T141330Z
LAST-MODIFIED:20240204T170221Z
UID:10000102-1718785800-1718816400@gemeinde-suelfeld.de
SUMMARY:Tagesausflug Fjord und Förde
DESCRIPTION:Landfrauenverein
URL:https://gemeinde-suelfeld.de/event/tagesausflug-3/
END:VEVENT
BEGIN:VEVENT
DTSTART;TZID=Europe/Berlin:20240616T100000
DTEND;TZID=Europe/Berlin:20240616T170000
DTSTAMP:20260422T024726
CREATED:20240131T141332Z
LAST-MODIFIED:20240204T170320Z
UID:10000101-1718532000-1718557200@gemeinde-suelfeld.de
SUMMARY:Fahrradtour
DESCRIPTION:Freiwillige Feuerwehr Borstel
URL:https://gemeinde-suelfeld.de/event/fahrradtour/
LOCATION:Feuerwehrhaus Borstel\, Neuland 2\, Borstel\, Germany
END:VEVENT
BEGIN:VEVENT
DTSTART;TZID=Europe/Berlin:20240613T193000
DTEND;TZID=Europe/Berlin:20240613T193000
DTSTAMP:20260422T024726
CREATED:20240126T082417Z
LAST-MODIFIED:20240613T163438Z
UID:10000058-1718307000-1718307000@gemeinde-suelfeld.de
SUMMARY:Sitzung der Gemeindevertretung der Gemeinde Sülfeld
DESCRIPTION:Exportiert aus ALLRIS am 13.06.2024\nDie Sitzung in ALLRIS net:\nhttps://www.itzstedt.sitzung-online.de/bi/to010.asp?SILFDNR=3441
URL:https://gemeinde-suelfeld.de/event/sitzung-der-gemeindevertretung-der-gemeinde-suelfeld-3/
LOCATION:Jugendraum bei der Sporthalle Sülfeld\, Oldesloer Straße 9\, 23867 Sülfeld
CATEGORIES:Politik
END:VEVENT
BEGIN:VEVENT
DTSTART;TZID=Europe/Berlin:20240613T140000
DTEND;TZID=Europe/Berlin:20240613T170000
DTSTAMP:20260422T024726
CREATED:20240204T171859Z
LAST-MODIFIED:20240204T171859Z
UID:10000127-1718287200-1718298000@gemeinde-suelfeld.de
SUMMARY:Spiele-Nachmittag
DESCRIPTION:
URL:https://gemeinde-suelfeld.de/event/spiele-nachmittag-10/
LOCATION:Alte Schule Tönningstedt\, Am Dorfplatz\, Tönningstedt\, 23867\, Germany
END:VEVENT
BEGIN:VEVENT
DTSTART;TZID=Europe/Berlin:20240613T140000
DTEND;TZID=Europe/Berlin:20240613T170000
DTSTAMP:20260422T024726
CREATED:20240131T135844Z
LAST-MODIFIED:20240131T135844Z
UID:10000100-1718287200-1718298000@gemeinde-suelfeld.de
SUMMARY:Spiele-Nachmittag
DESCRIPTION:
URL:https://gemeinde-suelfeld.de/event/spiele-nachmittag-8/
LOCATION:Alte Schule Tönningstedt\, Am Dorfplatz\, Tönningstedt\, 23867\, Germany
END:VEVENT
BEGIN:VEVENT
DTSTART;TZID=Europe/Berlin:20240611T193000
DTEND;TZID=Europe/Berlin:20240611T193000
DTSTAMP:20260422T024726
CREATED:20240517T161034Z
LAST-MODIFIED:20240610T173012Z
UID:10000159-1718134200-1718134200@gemeinde-suelfeld.de
SUMMARY:Sitzung des Ausschusses für Energie und Nachhaltigkeit der Gemeindevertretung der Gemeinde Sülfeld - DIESE SITZUNG FINDET NICHT STATT!-
DESCRIPTION:Exportiert aus ALLRIS am 10.06.2024\nDie Sitzung in ALLRIS net:\nhttps://www.itzstedt.sitzung-online.de/bi/si010_e.asp?MM=6&YY=2024
URL:https://gemeinde-suelfeld.de/event/sitzung-des-ausschusses-fuer-energie-und-nachhaltigkeit-der-gemeindevertretung-der-gemeinde-suelfeld/
END:VEVENT
BEGIN:VEVENT
DTSTART;VALUE=DATE:20240609
DTEND;VALUE=DATE:20240610
DTSTAMP:20260422T024726
CREATED:20240131T141421Z
LAST-MODIFIED:20240530T083342Z
UID:10000096-1717891200-1717977599@gemeinde-suelfeld.de
SUMMARY:Radtour mit Besichtigung des Neubaus des FZB und anschl. Sattelfest
DESCRIPTION:Radtour zur Europawahl mit Sattelfest bei Stolten.
URL:https://gemeinde-suelfeld.de/event/radtour/
CATEGORIES:Politik
ATTACH;FMTTYPE=image/jpeg:https://gemeinde-suelfeld.de/wp-content/uploads/2024/01/Fahrradtour-2024_D_Doppel-A4-scaled.jpg
ORGANIZER;CN="CDU Ortsverband S%C3%BClfeld":MAILTO:info@cdu-suelfeld.de
END:VEVENT
BEGIN:VEVENT
DTSTART;TZID=Europe/Berlin:20240606T190000
DTEND;TZID=Europe/Berlin:20240606T210000
DTSTAMP:20260422T024726
CREATED:20240515T080004Z
LAST-MODIFIED:20240515T080004Z
UID:10000156-1717700400-1717707600@gemeinde-suelfeld.de
SUMMARY:Buchlesung - Nare Mistou
DESCRIPTION:Nare erzählt vom Leben ihrer Urgroßmutter\, die als junge Frau einem antifeministischem Regime ausgesetzt war. \nEs wird um Anmeldung gebeten unter:\nmaren.schwarz@suelfeld.de oder hanspeinelt@gmail.com oder 04537/533
URL:https://gemeinde-suelfeld.de/event/buchlesung-nare-mistou/
LOCATION:Remise beim Pastorat Sülfeld\, Am Markt 16\, Sülfeld
ATTACH;FMTTYPE=image/jpeg:https://gemeinde-suelfeld.de/wp-content/uploads/2024/05/441548574_7535570953178989_6819653049559228598_n.jpg
END:VEVENT
BEGIN:VEVENT
DTSTART;VALUE=DATE:20240605
DTEND;VALUE=DATE:20240606
DTSTAMP:20260422T024726
CREATED:20240131T141424Z
LAST-MODIFIED:20240204T170800Z
UID:10000094-1717545600-1717631999@gemeinde-suelfeld.de
SUMMARY:Tagesausflug
DESCRIPTION:Seniorenclub Sülfeld
URL:https://gemeinde-suelfeld.de/event/tagesausflug-4/
END:VEVENT
BEGIN:VEVENT
DTSTART;TZID=Europe/Berlin:20240603T160000
DTEND;TZID=Europe/Berlin:20240603T193000
DTSTAMP:20260422T024726
CREATED:20240131T141427Z
LAST-MODIFIED:20240131T141427Z
UID:10000093-1717430400-1717443000@gemeinde-suelfeld.de
SUMMARY:Blutspenden
DESCRIPTION:
URL:https://gemeinde-suelfeld.de/event/blutspenden-2/
LOCATION:Gemeinschaftsschule Sülfeld\, Oldesloer Str. 9\, Sülfeld\, 23867\, Deutschland
END:VEVENT
BEGIN:VEVENT
DTSTART;TZID=Europe/Berlin:20240601T183000
DTEND;TZID=Europe/Berlin:20240601T233000
DTSTAMP:20260422T024726
CREATED:20240515T080626Z
LAST-MODIFIED:20240515T080738Z
UID:10000157-1717266600-1717284600@gemeinde-suelfeld.de
SUMMARY:After Game Party an der Wildkoppel
DESCRIPTION:Im Anschluss an den Dorfwettkampf sind alle (nicht nur Teilnehmer aus den Teams) eingeladen gemeinsam zu feiern. Wir wollen den Tag bei Musik\, Gegrilltem und mit Getränken ausklingen lassen.
URL:https://gemeinde-suelfeld.de/event/after-game-party/
LOCATION:Sportplatz an der Wildkoppel\, An d. Wildkoppel\, Sülfeld\, 23867\, Deutschland
ORGANIZER;CN="B%C3%BCrgerverein 'Dorfleben im Auenland' e.V.":MAILTO:mail@dorfleben-auenland.de
END:VEVENT
BEGIN:VEVENT
DTSTART;TZID=Europe/Berlin:20240601T140000
DTEND;TZID=Europe/Berlin:20240601T183000
DTSTAMP:20260422T024726
CREATED:20240506T060108Z
LAST-MODIFIED:20240515T080157Z
UID:10000145-1717250400-1717266600@gemeinde-suelfeld.de
SUMMARY:Dorfwettkampf - Lustige Spiele für Erwachsene\, Kinder und Familien
DESCRIPTION:
URL:https://gemeinde-suelfeld.de/event/dorfwettkampf-lustige-spiele-fuer-erwachsene-kinder-und-familien/
LOCATION:Sportplatz an der Wildkoppel\, An d. Wildkoppel\, Sülfeld\, 23867\, Deutschland
ATTACH;FMTTYPE=image/jpeg:https://gemeinde-suelfeld.de/wp-content/uploads/2024/04/Dorfwettkampf.jpg
ORGANIZER;CN="B%C3%BCrgerverein 'Dorfleben im Auenland' e.V.":MAILTO:mail@dorfleben-auenland.de
END:VEVENT
BEGIN:VEVENT
DTSTART;TZID=Europe/Berlin:20240530T190000
DTEND;TZID=Europe/Berlin:20240530T190000
DTSTAMP:20260422T024726
CREATED:20240427T154100Z
LAST-MODIFIED:20240530T165543Z
UID:10000147-1717095600-1717095600@gemeinde-suelfeld.de
SUMMARY:Sitzung des Finanzausschusses der Gemeindevertretung der Gemeinde Sülfeld
DESCRIPTION:Exportiert aus ALLRIS am 30.05.2024\nDie Sitzung in ALLRIS net:\nhttps://www.itzstedt.sitzung-online.de/bi/to010.asp?SILFDNR=3617
URL:https://gemeinde-suelfeld.de/event/sitzung-des-finanzausschusses-der-gemeindevertretung-der-gemeinde-suelfeld-4/
LOCATION:Jugendraum bei der Sporthalle Sülfeld\, Oldesloer Straße 9\, 23867 Sülfeld
END:VEVENT
END:VCALENDAR