BEGIN:VCALENDAR
VERSION:2.0
PRODID:-//Gemeinde Sülfeld - ECPv6.15.20//NONSGML v1.0//EN
CALSCALE:GREGORIAN
METHOD:PUBLISH
X-WR-CALNAME:Gemeinde Sülfeld
X-ORIGINAL-URL:https://gemeinde-suelfeld.de
X-WR-CALDESC:Veranstaltungen für Gemeinde Sülfeld
REFRESH-INTERVAL;VALUE=DURATION:PT1H
X-Robots-Tag:noindex
X-PUBLISHED-TTL:PT1H
BEGIN:VTIMEZONE
TZID:Europe/Berlin
BEGIN:DAYLIGHT
TZOFFSETFROM:+0100
TZOFFSETTO:+0200
TZNAME:CEST
DTSTART:20230326T010000
END:DAYLIGHT
BEGIN:STANDARD
TZOFFSETFROM:+0200
TZOFFSETTO:+0100
TZNAME:CET
DTSTART:20231029T010000
END:STANDARD
BEGIN:DAYLIGHT
TZOFFSETFROM:+0100
TZOFFSETTO:+0200
TZNAME:CEST
DTSTART:20240331T010000
END:DAYLIGHT
BEGIN:STANDARD
TZOFFSETFROM:+0200
TZOFFSETTO:+0100
TZNAME:CET
DTSTART:20241027T010000
END:STANDARD
BEGIN:DAYLIGHT
TZOFFSETFROM:+0100
TZOFFSETTO:+0200
TZNAME:CEST
DTSTART:20250330T010000
END:DAYLIGHT
BEGIN:STANDARD
TZOFFSETFROM:+0200
TZOFFSETTO:+0100
TZNAME:CET
DTSTART:20251026T010000
END:STANDARD
END:VTIMEZONE
BEGIN:VEVENT
DTSTART;TZID=Europe/Berlin:20240519T111500
DTEND;TZID=Europe/Berlin:20240519T130000
DTSTAMP:20260422T050951
CREATED:20240506T070600Z
LAST-MODIFIED:20240506T070600Z
UID:10000151-1716117300-1716123600@gemeinde-suelfeld.de
SUMMARY:Pfingstgottesdienst im Alsterland
DESCRIPTION:Pfingstgottesdienst mit den Pastoren Fritsch\, Wendt und Wulf
URL:https://gemeinde-suelfeld.de/event/pfingstgottesdienst-im-alsterland/
LOCATION:Kirche Nahe\, Mühlenstr. 11\, Nahe\, 23866
END:VEVENT
BEGIN:VEVENT
DTSTART;TZID=Europe/Berlin:20240517T193000
DTEND;TZID=Europe/Berlin:20240517T213000
DTSTAMP:20260422T050951
CREATED:20240514T105010Z
LAST-MODIFIED:20240514T105107Z
UID:10000154-1715974200-1715981400@gemeinde-suelfeld.de
SUMMARY:Jahreshauptversammlung des Sportverein Sülfeld
DESCRIPTION:
URL:https://gemeinde-suelfeld.de/event/jahreshauptversammlung-des-sportverein-suelfeld/
LOCATION:Günther’s im Sportlerheim\, An der Wildkoppel\, Sülfeld
ATTACH;FMTTYPE=image/jpeg:https://gemeinde-suelfeld.de/wp-content/uploads/2024/05/FB_IMG_1715683420116.jpg
END:VEVENT
BEGIN:VEVENT
DTSTART;TZID=Europe/Berlin:20240517T130000
DTEND;TZID=Europe/Berlin:20240517T180000
DTSTAMP:20260422T050951
CREATED:20240131T141433Z
LAST-MODIFIED:20240204T171257Z
UID:10000090-1715950800-1715968800@gemeinde-suelfeld.de
SUMMARY:Halbtagesradtour
DESCRIPTION:Landfrauenverein
URL:https://gemeinde-suelfeld.de/event/halbtagesradtour/
END:VEVENT
BEGIN:VEVENT
DTSTART;TZID=Europe/Berlin:20240512T111500
DTEND;TZID=Europe/Berlin:20240512T120000
DTSTAMP:20260422T050951
CREATED:20240506T070010Z
LAST-MODIFIED:20240506T070010Z
UID:10000150-1715512500-1715515200@gemeinde-suelfeld.de
SUMMARY:Gottesdienst Kirche Sülfeld
DESCRIPTION:Gottesdienst in der Sülfelder Kirche mit Pastorin Hahn
URL:https://gemeinde-suelfeld.de/event/gottesdienst-kirche-suelfeld/
LOCATION:Kirche Sülfeld
END:VEVENT
BEGIN:VEVENT
DTSTART;TZID=Europe/Berlin:20240509T110000
DTEND;TZID=Europe/Berlin:20240509T130000
DTSTAMP:20260422T050951
CREATED:20240131T141436Z
LAST-MODIFIED:20240506T065639Z
UID:10000089-1715252400-1715259600@gemeinde-suelfeld.de
SUMMARY:Himmelfahrtsgottesdienst
DESCRIPTION:Himmelfahrt Plakat
URL:https://gemeinde-suelfeld.de/event/himmelfahrtsgottesdienst/
LOCATION:Alte Schule Tönningstedt\, Am Dorfplatz\, Tönningstedt\, 23867\, Germany
END:VEVENT
BEGIN:VEVENT
DTSTART;VALUE=DATE:20240505
DTEND;VALUE=DATE:20240506
DTSTAMP:20260422T050951
CREATED:20240131T141443Z
LAST-MODIFIED:20240131T141443Z
UID:10000087-1714867200-1714953599@gemeinde-suelfeld.de
SUMMARY:Automobilslalom
DESCRIPTION:
URL:https://gemeinde-suelfeld.de/event/automobilslalom/
LOCATION:Möbel Kraft\, Bad Segeberg\, Ziegelstraße 1\, Bad Segeberg\, Schleswig-Holstein\, 23795
END:VEVENT
BEGIN:VEVENT
DTSTART;VALUE=DATE:20240505
DTEND;VALUE=DATE:20240506
DTSTAMP:20260422T050951
CREATED:20240131T141439Z
LAST-MODIFIED:20240131T141439Z
UID:10000088-1714867200-1714953599@gemeinde-suelfeld.de
SUMMARY:Familienflohmarkt
DESCRIPTION:
URL:https://gemeinde-suelfeld.de/event/familienflohmarkt/
LOCATION:Gemeinschaftsschule Sülfeld\, Oldesloer Str. 9\, Sülfeld\, 23867\, Deutschland
CATEGORIES:Politik
END:VEVENT
BEGIN:VEVENT
DTSTART;VALUE=DATE:20240504
DTEND;VALUE=DATE:20240505
DTSTAMP:20260422T050951
CREATED:20240131T141513Z
LAST-MODIFIED:20240131T141513Z
UID:10000085-1714780800-1714867199@gemeinde-suelfeld.de
SUMMARY:Konfirmation Grabau
DESCRIPTION:
URL:https://gemeinde-suelfeld.de/event/konfirmation-grabau/
LOCATION:Kapelle Grabau\, Ringstraße 3\, 23845 Grabau\, Schleswig-Holstein\, 23845\, Deutschland
END:VEVENT
BEGIN:VEVENT
DTSTART;VALUE=DATE:20240504
DTEND;VALUE=DATE:20240505
DTSTAMP:20260422T050951
CREATED:20240131T140738Z
LAST-MODIFIED:20240131T141200Z
UID:10000083-1714780800-1714867199@gemeinde-suelfeld.de
SUMMARY:Konfirmationen Sülfeld
DESCRIPTION:
URL:https://gemeinde-suelfeld.de/event/konfirmationen-suelfeld/
LOCATION:Kirche Sülfeld
END:VEVENT
BEGIN:VEVENT
DTSTART;TZID=Europe/Berlin:20240503T170000
DTEND;TZID=Europe/Berlin:20240503T183000
DTSTAMP:20260422T050951
CREATED:20240420T155004Z
LAST-MODIFIED:20240420T155004Z
UID:10000144-1714755600-1714761000@gemeinde-suelfeld.de
SUMMARY:Führung im Gutspark Borstel – Auf den Spuren von gestern und heute
DESCRIPTION:Ein historischer Parkspaziergang zum Eintauchen in die Natur und Gartenkultur. Auch das prächtige Herrenhaus aus Backstein mit seinen Rokokoelementen weist eine bewegte Geschichte auf. Auf unserem Rundgang tauchen wir ein in Gartenpracht und Kulturgeschichte. \nTreffpunkt: \n23845 Borstel\, Parkallee 1\, Gut Borstel\, am Ehrenhof vor dem Herrenhaus \nAnmeldung: \nAnmeldung unter: info@vhs-tangstedt.de\, www.vhs-tangstedt.de \nKosten: 9 €
URL:https://gemeinde-suelfeld.de/event/fuehrung-im-gutspark-borstel-auf-den-spuren-von-gestern-und-heute/
LOCATION:Gutspark Borstel\, Parkallee 1\, Borstel\, 23845
ORGANIZER;CN="VHS Tangstedt":MAILTO:info@vhs-tangstedt.de
END:VEVENT
BEGIN:VEVENT
DTSTART;TZID=Europe/Berlin:20240502T183000
DTEND;TZID=Europe/Berlin:20240502T183000
DTSTAMP:20260422T050951
CREATED:20240424T154158Z
LAST-MODIFIED:20240502T155539Z
UID:10000146-1714674600-1714674600@gemeinde-suelfeld.de
SUMMARY:Sitzung des Zentralausschusses der Gemeindevertretung der Gemeinde Sülfeld
DESCRIPTION:Exportiert aus ALLRIS am 02.05.2024\nDie Sitzung in ALLRIS net:\nhttps://www.itzstedt.sitzung-online.de/bi/to010.asp?SILFDNR=3607
URL:https://gemeinde-suelfeld.de/event/sitzung-des-zentralausschusses-der-gemeindevertretung-der-gemeinde-suelfeld-4/
LOCATION:Jugendraum bei der Sporthalle Sülfeld\, Oldesloer Straße 9\, 23867 Sülfeld
END:VEVENT
BEGIN:VEVENT
DTSTART;TZID=Europe/Berlin:20240428T143000
DTEND;TZID=Europe/Berlin:20240428T170000
DTSTAMP:20260422T050951
CREATED:20240131T135417Z
LAST-MODIFIED:20240131T135417Z
UID:10000095-1714314600-1714323600@gemeinde-suelfeld.de
SUMMARY:Sonntagskaffee
DESCRIPTION:
URL:https://gemeinde-suelfeld.de/event/sonntagskaffee-6/
LOCATION:Remise beim Pastorat Sülfeld\, Am Markt 16\, Sülfeld
END:VEVENT
BEGIN:VEVENT
DTSTART;TZID=Europe/Berlin:20240427T200000
DTEND;TZID=Europe/Berlin:20240427T233000
DTSTAMP:20260422T050951
CREATED:20240131T141511Z
LAST-MODIFIED:20240204T171211Z
UID:10000081-1714248000-1714260600@gemeinde-suelfeld.de
SUMMARY:Schützenball
DESCRIPTION:Schützengilde Sülfeld
URL:https://gemeinde-suelfeld.de/event/schuetzenball/
LOCATION:Schützenhaus\, Neuer Weg 50\, Sülfeld\, 23867\, Deutschland
END:VEVENT
BEGIN:VEVENT
DTSTART;TZID=Europe/Berlin:20240427T100000
DTEND;TZID=Europe/Berlin:20240427T120000
DTSTAMP:20260422T050951
CREATED:20240315T202823Z
LAST-MODIFIED:20240315T202823Z
UID:10000139-1714212000-1714219200@gemeinde-suelfeld.de
SUMMARY:Kinderkirche
DESCRIPTION:Hurra\, es gibt wieder eine Kinderkirche in Sülfeld! \nDas Team vom Bunten Miteinander um Maren Schwarz freut sich mit Pastor Fritsch auf Kinder ab fünf Jahren\, die gerne spielen\, singen\, basteln und Geschichten hören. \nAn jedem 4. Samstag im Monat findet die Kinderkirche von 10:00 bis 12:00 Uhr in der Remise beim Sülfelder Patorat statt. Los geht es am 23. März. Die weiteren Termine sind der 27. April\, der 25. Mai und der 22. Juni. Für Getränke und einen kleinen Imbiss wird gesorgt. \nWir freuen uns auf Euch\, Christian Fritsch
URL:https://gemeinde-suelfeld.de/event/kinderkirche/2024-04-27/
LOCATION:Remise beim Pastorat Sülfeld\, Am Markt 16\, Sülfeld
END:VEVENT
BEGIN:VEVENT
DTSTART;VALUE=DATE:20240427
DTEND;VALUE=DATE:20240428
DTSTAMP:20260422T050951
CREATED:20240131T141507Z
LAST-MODIFIED:20240204T171057Z
UID:10000080-1714176000-1714262399@gemeinde-suelfeld.de
SUMMARY:Spargelessen Walsrode
DESCRIPTION:Sozialverband Deutschland
URL:https://gemeinde-suelfeld.de/event/spargelessen-walsrode/
END:VEVENT
BEGIN:VEVENT
DTSTART;VALUE=DATE:20240426
DTEND;VALUE=DATE:20240427
DTSTAMP:20260422T050951
CREATED:20240131T141039Z
LAST-MODIFIED:20240204T170724Z
UID:10000079-1714089600-1714175999@gemeinde-suelfeld.de
SUMMARY:Tagesausflug
DESCRIPTION:Seniorenclub Sülfeld
URL:https://gemeinde-suelfeld.de/event/tagesausflug/
END:VEVENT
BEGIN:VEVENT
DTSTART;TZID=Europe/Berlin:20240425T193000
DTEND;TZID=Europe/Berlin:20240425T193000
DTSTAMP:20260422T050951
CREATED:20240126T082417Z
LAST-MODIFIED:20240425T154201Z
UID:10000055-1714073400-1714073400@gemeinde-suelfeld.de
SUMMARY:Sitzung der Gemeindevertretung der Gemeinde Sülfeld
DESCRIPTION:Exportiert aus ALLRIS am 25.04.2024\nDie Sitzung in ALLRIS net:\nhttps://www.itzstedt.sitzung-online.de/bi/to010.asp?SILFDNR=3437
URL:https://gemeinde-suelfeld.de/event/sitzung-der-gemeindevertretung-der-gemeinde-suelfeld-2/
LOCATION:Jugendraum bei der Sporthalle Sülfeld\, Oldesloer Straße 9\, 23867 Sülfeld
CATEGORIES:Politik
END:VEVENT
BEGIN:VEVENT
DTSTART;TZID=Europe/Berlin:20240421T153000
DTEND;TZID=Europe/Berlin:20240421T170000
DTSTAMP:20260422T050951
CREATED:20240315T195628Z
LAST-MODIFIED:20240315T195628Z
UID:10000134-1713713400-1713718800@gemeinde-suelfeld.de
SUMMARY:Kino in der Remise
DESCRIPTION:Vorhang auf fürs Kino in der Remise (Sülfeld)\, Sonntag\, 21. 4. 24\, 15:30 Uhr \nDie Sülfeldfilme von 1968 und 2007 „Wo jeder jeden kennt“ \n(zweiter Termin\, verbesserte Technik) \nMit Getränken und Snacks (gegen Spende) \n\nAnmeldung unter \nmaren.schwarz@suelfeld.de (04537 533) \nulrich.baerwald@suelfeld.de (04537 7903)
URL:https://gemeinde-suelfeld.de/event/kino-in-der-remise/
LOCATION:Remise beim Pastorat Sülfeld\, Am Markt 16\, Sülfeld
END:VEVENT
BEGIN:VEVENT
DTSTART;TZID=Europe/Berlin:20240418T093000
DTEND;TZID=Europe/Berlin:20240418T113000
DTSTAMP:20260422T050951
CREATED:20240315T201106Z
LAST-MODIFIED:20240315T201106Z
UID:10000135-1713432600-1713439800@gemeinde-suelfeld.de
SUMMARY:Frühstück in der Remise\, Interview mit Pastor Christian Fritsch
DESCRIPTION:Die Kirchengemeinde lädt ein zum gemeinsamen Frühstück in der Remise \nund Interview mit Pastor Christian Fritsch. \nDonnerstag\, 28. 4.: 9:30 Uhr Frühstück\, ca. 10:30 Uhr Interview\, Einlass ab 9:00 Uhr \nDer neue Pastor Christian Fritsch ist in Sülfeld angekommen. Lernen wir ihn näher kennen\, was macht ihn aus\, welche Vorlieben hat er\, was hat er in Sülfeld vor? \nDa die Veranstaltungen meist schnell ausgebucht sind\, bitten wir\, rechtzeitig abzusagen\, um die Plätze an Interessierte auf der Warteliste abzugeben. \nBei der letzten Veranstaltung gab es Parkplatzprobleme. Die Sicherheitsbeauftragte des Kindergartens bittet\, die Rettungwege zum Kindergarten freizuhalten. Parkplätze gibt es in der Dorfmitte\, in der Schützenstraße\, bei der Feuerwehr und vor dem Friedhof. \nUm nachhaltiger zu werden und Papier zu sparen\, bitten wir\, an uns E-Mail-Adressen oder WhatsApp-Nummern weiterzugeben. Wer weder das eine noch das andere hat\, bekommt weiterhin eine Einladung in Papierform. \nEs freut sich auf Euch/Sie das Team vom Frühstück in der Remise. \nBitte anmelden bei Maren Schwarz \n\nTelefon: 04537 533\nMobil: 0178 1961693\nE-Mail: maren.schwarz@suelfeld.de\n\nAnmeldung bis zum 14. 4. 2024 \nKosten fürs Frühstück: 5 € / Person \n 
URL:https://gemeinde-suelfeld.de/event/fruehstueck-in-der-remise-interview-mit-pastor-christian-fritsch/
LOCATION:Remise beim Pastorat Sülfeld\, Am Markt 16\, Sülfeld
END:VEVENT
BEGIN:VEVENT
DTSTART;TZID=Europe/Berlin:20240416T193000
DTEND;TZID=Europe/Berlin:20240416T193000
DTSTAMP:20260422T050951
CREATED:20240320T144118Z
LAST-MODIFIED:20240416T154051Z
UID:10000142-1713295800-1713295800@gemeinde-suelfeld.de
SUMMARY:Sitzung des Finanzausschusses der Gemeindevertretung der Gemeinde Sülfeld - SITZUNG FINDET NICHT STATT! -
DESCRIPTION:Exportiert aus ALLRIS am 16.04.2024\nDie Sitzung in ALLRIS net:\nhttps://www.itzstedt.sitzung-online.de/bi/si010_e.asp?MM=4&YY=2024
URL:https://gemeinde-suelfeld.de/event/sitzung-des-finanzausschusses-der-gemeindevertretung-der-gemeinde-suelfeld-sitzung-findet-nicht-statt/
END:VEVENT
BEGIN:VEVENT
DTSTART;TZID=Europe/Berlin:20240416T193000
DTEND;TZID=Europe/Berlin:20240416T193000
DTSTAMP:20260422T050951
CREATED:20240126T082417Z
LAST-MODIFIED:20240306T134155Z
UID:10000054-1713295800-1713295800@gemeinde-suelfeld.de
SUMMARY:Sitzung des Finanzausschusses der Gemeindevertretung der Gemeinde Sülfeld
DESCRIPTION:Exportiert aus ALLRIS am 06.03.2024\nDie Sitzung in ALLRIS net:\nhttps://www.itzstedt.sitzung-online.de/bi/si010_e.asp?MM=4&YY=2024
URL:https://gemeinde-suelfeld.de/event/sitzung-des-finanzausschusses-der-gemeindevertretung-der-gemeinde-suelfeld-2/
LOCATION:Amtsverwaltungsgebäude – Sitzungssaal\, Segeberger Straße 41\, 23845 Itzstedt
CATEGORIES:Politik
END:VEVENT
BEGIN:VEVENT
DTSTART;TZID=Europe/Berlin:20240416T073000
DTEND;TZID=Europe/Berlin:20240416T220000
DTSTAMP:20260422T050951
CREATED:20240131T141233Z
LAST-MODIFIED:20240204T170436Z
UID:10000078-1713252600-1713304800@gemeinde-suelfeld.de
SUMMARY:Ausflug Iserhatsche
DESCRIPTION:Landfrauenverein
URL:https://gemeinde-suelfeld.de/event/ausflug/
END:VEVENT
BEGIN:VEVENT
DTSTART;TZID=Europe/Berlin:20240411T140000
DTEND;TZID=Europe/Berlin:20240411T170000
DTSTAMP:20260422T050951
CREATED:20240204T171804Z
LAST-MODIFIED:20240204T171804Z
UID:10000126-1712844000-1712854800@gemeinde-suelfeld.de
SUMMARY:Spiele-Nachmittag
DESCRIPTION:
URL:https://gemeinde-suelfeld.de/event/spiele-nachmittag-9/
LOCATION:Alte Schule Tönningstedt\, Am Dorfplatz\, Tönningstedt\, 23867\, Germany
END:VEVENT
BEGIN:VEVENT
DTSTART;TZID=Europe/Berlin:20240411T140000
DTEND;TZID=Europe/Berlin:20240411T170000
DTSTAMP:20260422T050951
CREATED:20240131T135743Z
LAST-MODIFIED:20240131T135743Z
UID:10000099-1712844000-1712854800@gemeinde-suelfeld.de
SUMMARY:Spiele-Nachmittag
DESCRIPTION:
URL:https://gemeinde-suelfeld.de/event/spiele-nachmittag-7/
LOCATION:Alte Schule Tönningstedt\, Am Dorfplatz\, Tönningstedt\, 23867\, Germany
END:VEVENT
BEGIN:VEVENT
DTSTART;TZID=Europe/Berlin:20240409T193000
DTEND;TZID=Europe/Berlin:20240409T210000
DTSTAMP:20260422T050951
CREATED:20240131T141504Z
LAST-MODIFIED:20240131T141504Z
UID:10000077-1712691000-1712696400@gemeinde-suelfeld.de
SUMMARY:Informations- und Diskussionsabend Sülfeld
DESCRIPTION:
URL:https://gemeinde-suelfeld.de/event/informations-und-diskussionsabend-suelfeld/
LOCATION:Jugendraum bei der Sporthalle Sülfeld\, Oldesloer Straße 9\, 23867 Sülfeld
CATEGORIES:Politik
ORGANIZER;CN="CDU Ortsverband S%C3%BClfeld":MAILTO:info@cdu-suelfeld.de
END:VEVENT
BEGIN:VEVENT
DTSTART;TZID=Europe/Berlin:20240401T094500
DTEND;TZID=Europe/Berlin:20240401T123000
DTSTAMP:20260422T050951
CREATED:20240131T141551Z
LAST-MODIFIED:20240131T141551Z
UID:10000076-1711964700-1711974600@gemeinde-suelfeld.de
SUMMARY:Ostergottesdienst
DESCRIPTION:Grabauer Kapelle
URL:https://gemeinde-suelfeld.de/event/ostergottesdienst/
LOCATION:Kapelle Grabau\, Ringstraße 3\, 23845 Grabau\, Schleswig-Holstein\, 23845\, Deutschland
END:VEVENT
BEGIN:VEVENT
DTSTART;TZID=Europe/Berlin:20240331T110000
DTEND;TZID=Europe/Berlin:20240331T130000
DTSTAMP:20260422T050951
CREATED:20240321T121742Z
LAST-MODIFIED:20250518T152234Z
UID:10000143-1711882800-1711890000@gemeinde-suelfeld.de
SUMMARY:Ostereiersuchen in Sülfeld
DESCRIPTION:
URL:https://gemeinde-suelfeld.de/event/ostereiersuchen-in-suelfeld/
LOCATION:Remise beim Pastorat Sülfeld\, Am Markt 16\, Sülfeld
ORGANIZER;CN="Spielmannszug S%C3%BClfeld von 1972 e.V.":MAILTO:heidi.hagelstein@szsuelfeld.de
END:VEVENT
BEGIN:VEVENT
DTSTART;TZID=Europe/Berlin:20240331T110000
DTEND;TZID=Europe/Berlin:20240331T130000
DTSTAMP:20260422T050951
CREATED:20240131T145738Z
LAST-MODIFIED:20240131T145738Z
UID:10000123-1711882800-1711890000@gemeinde-suelfeld.de
SUMMARY:Ostergottesdienst\, anschließend Osterbrunch in der Remise
DESCRIPTION:
URL:https://gemeinde-suelfeld.de/event/ostergottesdienst-anschliessend-osterbrunch-in-der-remise/
LOCATION:Kirche Sülfeld
END:VEVENT
BEGIN:VEVENT
DTSTART;TZID=Europe/Berlin:20240331T100000
DTEND;TZID=Europe/Berlin:20240331T120000
DTSTAMP:20260422T050951
CREATED:20240131T145855Z
LAST-MODIFIED:20240321T121830Z
UID:10000124-1711879200-1711886400@gemeinde-suelfeld.de
SUMMARY:Osterfrühstück und Ostereiersuchen in Tönningstedt
DESCRIPTION:
URL:https://gemeinde-suelfeld.de/event/osterfruehstueck-und-ostereiersuchen/
LOCATION:Alte Schule Tönningstedt\, Am Dorfplatz\, Tönningstedt\, 23867\, Germany
END:VEVENT
BEGIN:VEVENT
DTSTART;TZID=Europe/Berlin:20240331T060000
DTEND;TZID=Europe/Berlin:20240331T080000
DTSTAMP:20260422T050951
CREATED:20240131T145548Z
LAST-MODIFIED:20240131T145548Z
UID:10000122-1711864800-1711872000@gemeinde-suelfeld.de
SUMMARY:Ostermorgenfeier mit Frühstück
DESCRIPTION:
URL:https://gemeinde-suelfeld.de/event/ostermorgenfeier-mit-fruehstueck/
LOCATION:Kirche Sülfeld
END:VEVENT
END:VCALENDAR