BEGIN:VCALENDAR
VERSION:2.0
PRODID:-//Gemeinde Sülfeld - ECPv6.15.20//NONSGML v1.0//EN
CALSCALE:GREGORIAN
METHOD:PUBLISH
X-WR-CALNAME:Gemeinde Sülfeld
X-ORIGINAL-URL:https://gemeinde-suelfeld.de
X-WR-CALDESC:Veranstaltungen für Gemeinde Sülfeld
REFRESH-INTERVAL;VALUE=DURATION:PT1H
X-Robots-Tag:noindex
X-PUBLISHED-TTL:PT1H
BEGIN:VTIMEZONE
TZID:Europe/Berlin
BEGIN:DAYLIGHT
TZOFFSETFROM:+0100
TZOFFSETTO:+0200
TZNAME:CEST
DTSTART:20220327T010000
END:DAYLIGHT
BEGIN:STANDARD
TZOFFSETFROM:+0200
TZOFFSETTO:+0100
TZNAME:CET
DTSTART:20221030T010000
END:STANDARD
BEGIN:DAYLIGHT
TZOFFSETFROM:+0100
TZOFFSETTO:+0200
TZNAME:CEST
DTSTART:20230326T010000
END:DAYLIGHT
BEGIN:STANDARD
TZOFFSETFROM:+0200
TZOFFSETTO:+0100
TZNAME:CET
DTSTART:20231029T010000
END:STANDARD
BEGIN:DAYLIGHT
TZOFFSETFROM:+0100
TZOFFSETTO:+0200
TZNAME:CEST
DTSTART:20240331T010000
END:DAYLIGHT
BEGIN:STANDARD
TZOFFSETFROM:+0200
TZOFFSETTO:+0100
TZNAME:CET
DTSTART:20241027T010000
END:STANDARD
BEGIN:DAYLIGHT
TZOFFSETFROM:+0100
TZOFFSETTO:+0200
TZNAME:CEST
DTSTART:20250330T010000
END:DAYLIGHT
BEGIN:STANDARD
TZOFFSETFROM:+0200
TZOFFSETTO:+0100
TZNAME:CET
DTSTART:20251026T010000
END:STANDARD
END:VTIMEZONE
BEGIN:VEVENT
DTSTART;TZID=Europe/Berlin:20240314T140000
DTEND;TZID=Europe/Berlin:20240314T170000
DTSTAMP:20260422T073840
CREATED:20240131T135625Z
LAST-MODIFIED:20240131T135625Z
UID:10000098-1710424800-1710435600@gemeinde-suelfeld.de
SUMMARY:Spiele-Nachmittag
DESCRIPTION:
URL:https://gemeinde-suelfeld.de/event/spiele-nachmittag-6/
LOCATION:Alte Schule Tönningstedt\, Am Dorfplatz\, Tönningstedt\, 23867\, Germany
END:VEVENT
BEGIN:VEVENT
DTSTART;TZID=Europe/Berlin:20240309T120000
DTEND;TZID=Europe/Berlin:20240309T160000
DTSTAMP:20260422T073840
CREATED:20240131T144317Z
LAST-MODIFIED:20240205T205128Z
UID:10000115-1709985600-1710000000@gemeinde-suelfeld.de
SUMMARY:Anschießen
DESCRIPTION:
URL:https://gemeinde-suelfeld.de/event/anschiessen/
LOCATION:Schützenhaus\, Neuer Weg 50\, Sülfeld\, 23867\, Deutschland
END:VEVENT
BEGIN:VEVENT
DTSTART;TZID=Europe/Berlin:20240309T093000
DTEND;TZID=Europe/Berlin:20240309T130000
DTSTAMP:20260422T073840
CREATED:20240130T174255Z
LAST-MODIFIED:20240130T194905Z
UID:10000071-1709976600-1709989200@gemeinde-suelfeld.de
SUMMARY:Unser sauberes Schleswig Holstein – Borstel
DESCRIPTION:„Unser sauberes Schleswig-Holstein“ – jetzt heißt es wieder Ärmel hochkrempeln und anpacken!\nSeid dabei und befreit unsere Gemeinde von Müll und Unrat.\nAm 9. März 2024 ist es wieder soweit – wir laden euch herzlich zur Aktion „Unser sauberes Schleswig-Holstein“ ein\, bei der wir gemeinsam unsere Gemeinde von Müll und Unrat befreien wollen!\nEs ist an der Zeit\, die Ärmel hochzukrempeln und aktiv zu werden! Gemeinsam können wir dazu beitragen\, unsere Gemeinde noch lebenswerter zu gestalten und ein Zeichen für den Umweltschutz zu setzen. Die Gemeinde Sülfeld stellt Handschuhe und Mülltüten zur Verfügung. \nTreffpunkt und Zeitpunkt: \n\nDatum: 9. März 2024\nUhrzeit: 9.30 Uhr\nTreffpunkt – Sülfeld: Feuerwehrgerätehaus Sülfeld\nTreffpunkt – Tönningstedt: Alte Schule\nTreffpunkt – Borstel: Feuerwehrgerätehaus Borstel\nGemeinsames warmes Mittagessen: ab 11 Uhr – Jugendraum Sporthalle Sülfeld\n\nWir freuen uns über jede helfende Hand\, sei es auf Spielplätzen\, entlang der Straßen oder an den Wanderwegen. Bringt eure Familie\, Freunde und Nachbarn mit – je mehr wir sind\, desto größer ist unser Einfluss auf die Sauberkeit unserer Umgebung. Lasst uns gemeinsam etwas bewirken und zeigen\, dass uns die Schönheit und Sauberkeit unserer Heimat am Herzen liegt!\nEin großes Dankeschön geht bereits jetzt an alle\, die sich beteiligen werden und insbesondere an unsere Gemeindevertretung\, unseren Landwirten\, der Jugendfeuerwehr und den Freiwilligen Feuerwehren. \nFür weitere Informationen und bei Fragen stehe ich gern zur Verfügung. Bürgermeister Gemeinde Sülfeld – Marek Krysiak / 0172-4622567 – Buergermeister@suelfeld.de \nVielen Dank im Voraus für eure Unterstützung und euer Engagement!
URL:https://gemeinde-suelfeld.de/event/unser-sauberes-schleswig-holstein-borstel/
LOCATION:Feuerwehrhaus Borstel\, Neuland 2\, Borstel\, Germany
END:VEVENT
BEGIN:VEVENT
DTSTART;TZID=Europe/Berlin:20240309T093000
DTEND;TZID=Europe/Berlin:20240309T130000
DTSTAMP:20260422T073840
CREATED:20240130T173843Z
LAST-MODIFIED:20240130T194836Z
UID:10000070-1709976600-1709989200@gemeinde-suelfeld.de
SUMMARY:Unser sauberes Schleswig Holstein – Tönningstedt
DESCRIPTION:„Unser sauberes Schleswig-Holstein“ – jetzt heißt es wieder Ärmel hochkrempeln und anpacken!\nSeid dabei und befreit unsere Gemeinde von Müll und Unrat.\nAm 9. März 2024 ist es wieder soweit – wir laden euch herzlich zur Aktion „Unser sauberes Schleswig-Holstein“ ein\, bei der wir gemeinsam unsere Gemeinde von Müll und Unrat befreien wollen!\nEs ist an der Zeit\, die Ärmel hochzukrempeln und aktiv zu werden! Gemeinsam können wir dazu beitragen\, unsere Gemeinde noch lebenswerter zu gestalten und ein Zeichen für den Umweltschutz zu setzen. Die Gemeinde Sülfeld stellt Handschuhe und Mülltüten zur Verfügung. \nTreffpunkt und Zeitpunkt: \n\nDatum: 9. März 2024\nUhrzeit: 9.30 Uhr\nTreffpunkt – Sülfeld: Feuerwehrgerätehaus Sülfeld\nTreffpunkt – Tönningstedt: Alte Schule\nTreffpunkt – Borstel: Feuerwehrgerätehaus Borstel\nGemeinsames warmes Mittagessen: ab 11 Uhr – Jugendraum Sporthalle Sülfeld\n\nWir freuen uns über jede helfende Hand\, sei es auf Spielplätzen\, entlang der Straßen oder an den Wanderwegen. Bringt eure Familie\, Freunde und Nachbarn mit – je mehr wir sind\, desto größer ist unser Einfluss auf die Sauberkeit unserer Umgebung. Lasst uns gemeinsam etwas bewirken und zeigen\, dass uns die Schönheit und Sauberkeit unserer Heimat am Herzen liegt!\nEin großes Dankeschön geht bereits jetzt an alle\, die sich beteiligen werden und insbesondere an unsere Gemeindevertretung\, unseren Landwirten\, der Jugendfeuerwehr und den Freiwilligen Feuerwehren. \nFür weitere Informationen und bei Fragen stehe ich gern zur Verfügung. Bürgermeister Gemeinde Sülfeld – Marek Krysiak / 0172-4622567 – Buergermeister@suelfeld.de \nVielen Dank im Voraus für eure Unterstützung und euer Engagement!
URL:https://gemeinde-suelfeld.de/event/unser-sauberes-schleswig-holstein-toenningstedt/
LOCATION:Alte Schule Tönningstedt\, Am Dorfplatz\, Tönningstedt\, 23867\, Germany
END:VEVENT
BEGIN:VEVENT
DTSTART;TZID=Europe/Berlin:20240309T093000
DTEND;TZID=Europe/Berlin:20240309T130000
DTSTAMP:20260422T073840
CREATED:20240130T173432Z
LAST-MODIFIED:20240130T194916Z
UID:10000069-1709976600-1709989200@gemeinde-suelfeld.de
SUMMARY:Unser sauberes Schleswig Holstein - Sülfeld
DESCRIPTION:„Unser sauberes Schleswig-Holstein“ – jetzt heißt es wieder Ärmel hochkrempeln und anpacken!\nSeid dabei und befreit unsere Gemeinde von Müll und Unrat.\nAm 9. März 2024 ist es wieder soweit – wir laden euch herzlich zur Aktion „Unser sauberes Schleswig-Holstein“ ein\, bei der wir gemeinsam unsere Gemeinde von Müll und Unrat befreien wollen!\nEs ist an der Zeit\, die Ärmel hochzukrempeln und aktiv zu werden! Gemeinsam können wir dazu beitragen\, unsere Gemeinde noch lebenswerter zu gestalten und ein Zeichen für den Umweltschutz zu setzen. Die Gemeinde Sülfeld stellt Handschuhe und Mülltüten zur Verfügung. \nTreffpunkt und Zeitpunkt: \n\nDatum: 9. März 2024\nUhrzeit: 9.30 Uhr\nTreffpunkt – Sülfeld: Feuerwehrgerätehaus Sülfeld\nTreffpunkt – Tönningstedt: Alte Schule\nTreffpunkt – Borstel: Feuerwehrgerätehaus Borstel\nGemeinsames warmes Mittagessen: ab 11 Uhr – Jugendraum Sporthalle Sülfeld\n\nWir freuen uns über jede helfende Hand\, sei es auf Spielplätzen\, entlang der Straßen oder an den Wanderwegen. Bringt eure Familie\, Freunde und Nachbarn mit – je mehr wir sind\, desto größer ist unser Einfluss auf die Sauberkeit unserer Umgebung. Lasst uns gemeinsam etwas bewirken und zeigen\, dass uns die Schönheit und Sauberkeit unserer Heimat am Herzen liegt!\nEin großes Dankeschön geht bereits jetzt an alle\, die sich beteiligen werden und insbesondere an unsere Gemeindevertretung\, unseren Landwirten\, der Jugendfeuerwehr und den Freiwilligen Feuerwehren. \nFür weitere Informationen und bei Fragen stehe ich gern zur Verfügung. Bürgermeister Gemeinde Sülfeld – Marek Krysiak / 0172-4622567 – Buergermeister@suelfeld.de \nVielen Dank im Voraus für eure Unterstützung und euer Engagement! \n  \n 
URL:https://gemeinde-suelfeld.de/event/unser-sauberes-schleswig-holstein-suelfeld/
LOCATION:Feuerwehrhaus Sülfeld\, Oldesloer Str. 11\, Sülfeld\, 23867\, Deutschland
END:VEVENT
BEGIN:VEVENT
DTSTART;TZID=Europe/Berlin:20240308T200000
DTEND;TZID=Europe/Berlin:20240308T220000
DTSTAMP:20260422T073840
CREATED:20240131T143611Z
LAST-MODIFIED:20240131T143611Z
UID:10000113-1709928000-1709935200@gemeinde-suelfeld.de
SUMMARY:Jahreshauptversammlung Schützengilde
DESCRIPTION:
URL:https://gemeinde-suelfeld.de/event/jahreshauptversammlung-schuetzengilde/
LOCATION:Schützenhaus\, Neuer Weg 50\, Sülfeld\, 23867\, Deutschland
END:VEVENT
BEGIN:VEVENT
DTSTART;TZID=Europe/Berlin:20240305T193000
DTEND;TZID=Europe/Berlin:20240305T220000
DTSTAMP:20260422T073840
CREATED:20240131T143344Z
LAST-MODIFIED:20240131T143344Z
UID:10000112-1709667000-1709676000@gemeinde-suelfeld.de
SUMMARY:Informations- und Diskussionsabend Borstel
DESCRIPTION:
URL:https://gemeinde-suelfeld.de/event/informations-und-diskussionsabend-borstel/
LOCATION:Feuerwehrhaus Borstel\, Neuland 2\, Borstel\, Germany
CATEGORIES:Politik
ORGANIZER;CN="CDU Ortsverband S%C3%BClfeld":MAILTO:info@cdu-suelfeld.de
END:VEVENT
BEGIN:VEVENT
DTSTART;TZID=Europe/Berlin:20240305T190000
DTEND;TZID=Europe/Berlin:20240305T210000
DTSTAMP:20260422T073840
CREATED:20240131T143224Z
LAST-MODIFIED:20240131T143224Z
UID:10000111-1709665200-1709672400@gemeinde-suelfeld.de
SUMMARY:Vortrag zu Frauengesundheit
DESCRIPTION:
URL:https://gemeinde-suelfeld.de/event/vortrag-zu-frauengesundheit/
END:VEVENT
BEGIN:VEVENT
DTSTART;VALUE=DATE:20240302
DTEND;VALUE=DATE:20240303
DTSTAMP:20260422T073840
CREATED:20240131T143013Z
LAST-MODIFIED:20240131T143013Z
UID:10000110-1709337600-1709423999@gemeinde-suelfeld.de
SUMMARY:Jahreshauptversammlung Sozialverband
DESCRIPTION:
URL:https://gemeinde-suelfeld.de/event/jahreshauptversammlung-sozialverband/
END:VEVENT
BEGIN:VEVENT
DTSTART;TZID=Europe/Berlin:20240227T190000
DTEND;TZID=Europe/Berlin:20240227T220000
DTSTAMP:20260422T073840
CREATED:20240131T142806Z
LAST-MODIFIED:20240131T142806Z
UID:10000109-1709060400-1709071200@gemeinde-suelfeld.de
SUMMARY:Mitgliederversammlung Landfrauenverein
DESCRIPTION:
URL:https://gemeinde-suelfeld.de/event/mitgliederversammlung-landfrauenverein/
LOCATION:BaySiamen\, Schützenstraße 3\, Itzstedt
END:VEVENT
BEGIN:VEVENT
DTSTART;TZID=Europe/Berlin:20240225T143000
DTEND;TZID=Europe/Berlin:20240225T170000
DTSTAMP:20260422T073840
CREATED:20240131T135145Z
LAST-MODIFIED:20240131T135145Z
UID:10000092-1708871400-1708880400@gemeinde-suelfeld.de
SUMMARY:Sonntagskaffee
DESCRIPTION:
URL:https://gemeinde-suelfeld.de/event/sonntagskaffee-5/
LOCATION:Remise beim Pastorat Sülfeld\, Am Markt 16\, Sülfeld
END:VEVENT
BEGIN:VEVENT
DTSTART;TZID=Europe/Berlin:20240224T130000
DTEND;TZID=Europe/Berlin:20240224T150000
DTSTAMP:20260422T073840
CREATED:20240215T231147Z
LAST-MODIFIED:20240215T232317Z
UID:10000130-1708779600-1708786800@gemeinde-suelfeld.de
SUMMARY:Kinderkleider- und Spielzeugmarkt
DESCRIPTION:Es geht wieder los. Am 24.02.2024 13-15 Uhr ist wieder Kleidermarkt in Sülfeld!\nViele ehrenamtliche Helfer bauen wieder einen großen Markt in der großen Sporthalle in Sülfeld auf\, bei dem Ihr zu kleinen Preisen teils neuwertige Kleidung und Spielzeuge\, sowie Bücher\, Spiele und Fahrräder für Kinder kaufen könnt.\n15% des Erlöses kommen dabei den Jugendorganisationen unserer Gemeinde zu Gute.
URL:https://gemeinde-suelfeld.de/event/kinderkleider-und-spielzeugmarkt-2/
LOCATION:Sporthalle Sülfeld
ATTACH;FMTTYPE=image/jpeg:https://gemeinde-suelfeld.de/wp-content/uploads/2024/02/plakat-e1708039382802.jpg
END:VEVENT
BEGIN:VEVENT
DTSTART;TZID=Europe/Berlin:20240222T093000
DTEND;TZID=Europe/Berlin:20240222T113000
DTSTAMP:20260422T073840
CREATED:20240131T141022Z
LAST-MODIFIED:20240131T141022Z
UID:10000107-1708594200-1708601400@gemeinde-suelfeld.de
SUMMARY:Vortrag "Mit dem Fahrrad um die Welt"
DESCRIPTION:
URL:https://gemeinde-suelfeld.de/event/vortrag-mit-dem-fahrrad-um-die-welt/
LOCATION:Remise beim Pastorat Sülfeld\, Am Markt 16\, Sülfeld
END:VEVENT
BEGIN:VEVENT
DTSTART;TZID=Europe/Berlin:20240221T193000
DTEND;TZID=Europe/Berlin:20240221T193000
DTSTAMP:20260422T073840
CREATED:20240126T082417Z
LAST-MODIFIED:20240221T121634Z
UID:10000052-1708543800-1708543800@gemeinde-suelfeld.de
SUMMARY:Sitzung des Finanzausschusses der Gemeindevertretung der Gemeinde Sülfeld
DESCRIPTION:Exportiert aus ALLRIS am 21.02.2024\nDie Sitzung in ALLRIS net:\nhttps://www.itzstedt.sitzung-online.de/bi/to010.asp?SILFDNR=3467
URL:https://gemeinde-suelfeld.de/event/sitzung-des-finanzausschusses-der-gemeindevertretung-der-gemeinde-suelfeld/
LOCATION:Alte Schule Tönningstedt\, Am Dorfplatz\, 23867 Tönningstedt
CATEGORIES:Politik
END:VEVENT
BEGIN:VEVENT
DTSTART;TZID=Europe/Berlin:20240220T193000
DTEND;TZID=Europe/Berlin:20240220T210000
DTSTAMP:20260422T073840
CREATED:20240131T140635Z
LAST-MODIFIED:20240131T140635Z
UID:10000106-1708457400-1708462800@gemeinde-suelfeld.de
SUMMARY:Kino-Abend
DESCRIPTION:“ Im Taxi mit Madelaine “ \nAnmeldung bis 8.02. bei der OFV T. Königsmann 04537/ 1442 oder tanja.koenigsmann@landfrauen-nahe.de
URL:https://gemeinde-suelfeld.de/event/kino-abend-2/
LOCATION:Kino Bad Segeberg
END:VEVENT
BEGIN:VEVENT
DTSTART;TZID=Europe/Berlin:20240219T170000
DTEND;TZID=Europe/Berlin:20240219T190000
DTSTAMP:20260422T073840
CREATED:20240131T140515Z
LAST-MODIFIED:20240131T140721Z
UID:10000104-1708362000-1708369200@gemeinde-suelfeld.de
SUMMARY:Kino-Abend
DESCRIPTION:“ Im Taxi mit Madelaine “ \nAnmeldung bis 8.02. bei der OFV T. Königsmann 04537/ 1442 oder tanja.koenigsmann@landfrauen-nahe.de
URL:https://gemeinde-suelfeld.de/event/kino-abend/
LOCATION:Kino Bad Segeberg
END:VEVENT
BEGIN:VEVENT
DTSTART;TZID=Europe/Berlin:20240213T170000
DTEND;TZID=Europe/Berlin:20240213T170000
DTSTAMP:20260422T073840
CREATED:20240130T104038Z
LAST-MODIFIED:20240130T104039Z
UID:10000068-1707843600-1707843600@gemeinde-suelfeld.de
SUMMARY:Sitzung des Jugendbeirates der Gemeinde Sülfeld
DESCRIPTION:Exportiert aus ALLRIS am 30.01.2024\nDie Sitzung in ALLRIS net:\nhttp://www.itzstedt.sitzung-online.de/bi/si010_e.asp?MM=2&YY=2024
URL:https://gemeinde-suelfeld.de/event/sitzung-des-jugendbeirates-der-gemeinde-suelfeld/
LOCATION:Jugendraum bei der Sporthalle Sülfeld\, Oldesloer Straße 9\, 23867 Sülfeld
CATEGORIES:Politik
END:VEVENT
BEGIN:VEVENT
DTSTART;TZID=Europe/Berlin:20240210T133000
DTEND;TZID=Europe/Berlin:20240210T160000
DTSTAMP:20260422T073840
CREATED:20240205T193127Z
LAST-MODIFIED:20240208T132719Z
UID:10000129-1707571800-1707580800@gemeinde-suelfeld.de
SUMMARY:Tag der offenen Tür - Schule im Alsterland - Standort Sülfeld
DESCRIPTION:Schule-im-Alsterland_Infotage2024_FlyerA5_Lay-a 2
URL:https://gemeinde-suelfeld.de/event/tag-der-offenen-tuer-schule-im-alsterland-standort-suelfeld/
LOCATION:Gemeinschaftsschule im Alsterland Sülfeld\, Oldesloer Straße 9\, Sülfeld
END:VEVENT
BEGIN:VEVENT
DTSTART;TZID=Europe/Berlin:20240210T100000
DTEND;TZID=Europe/Berlin:20240210T130000
DTSTAMP:20260422T073840
CREATED:20240205T192852Z
LAST-MODIFIED:20240208T132648Z
UID:10000128-1707559200-1707570000@gemeinde-suelfeld.de
SUMMARY:Tag der offenen Tür - Schule im Alsterland - Standort Nahe
DESCRIPTION:Schule-im-Alsterland_Infotage2024_FlyerA5_Lay-a 2
URL:https://gemeinde-suelfeld.de/event/tag-der-offenen-tuer-schule-im-alsterland-standort-nahe/
LOCATION:Schule im Alsterland Nahe\, Lüttmoor 5\, Nahe
END:VEVENT
BEGIN:VEVENT
DTSTART;TZID=Europe/Berlin:20240209T190000
DTEND;TZID=Europe/Berlin:20240209T220000
DTSTAMP:20260422T073840
CREATED:20240131T133916Z
LAST-MODIFIED:20240131T133916Z
UID:10000086-1707505200-1707516000@gemeinde-suelfeld.de
SUMMARY:Jahreshauptversammlung Feuerwehr Tönningstedt
DESCRIPTION:
URL:https://gemeinde-suelfeld.de/event/jahreshauptversammlung-feuerwehr-toenningstedt/
LOCATION:Alte Schule Tönningstedt\, Am Dorfplatz\, Tönningstedt\, 23867\, Germany
END:VEVENT
BEGIN:VEVENT
DTSTART;TZID=Europe/Berlin:20240209T180000
DTEND;TZID=Europe/Berlin:20240209T220000
DTSTAMP:20260422T073840
CREATED:20240131T133645Z
LAST-MODIFIED:20240131T133645Z
UID:10000084-1707501600-1707516000@gemeinde-suelfeld.de
SUMMARY:Faschingsdisco im Jugendhaus
DESCRIPTION:
URL:https://gemeinde-suelfeld.de/event/faschingsdisco-im-jugendhaus/
LOCATION:Jugendclub Buddy Base Sülfeld\, Oldesloer Str. 9\, Sülfeld\, Schleswig-Holstein\, 23867\, Germany
END:VEVENT
BEGIN:VEVENT
DTSTART;TZID=Europe/Berlin:20240208T193000
DTEND;TZID=Europe/Berlin:20240208T220000
DTSTAMP:20260422T073840
CREATED:20240131T133259Z
LAST-MODIFIED:20240131T150550Z
UID:10000082-1707420600-1707429600@gemeinde-suelfeld.de
SUMMARY:Jahreshauptversammlung Kirchliches Leben in Sülfeld e.V.
DESCRIPTION:
URL:https://gemeinde-suelfeld.de/event/jahreshauptversammlung-2/
LOCATION:Remise beim Pastorat Sülfeld\, Am Markt 16\, Sülfeld
END:VEVENT
BEGIN:VEVENT
DTSTART;TZID=Europe/Berlin:20240208T193000
DTEND;TZID=Europe/Berlin:20240208T193000
DTSTAMP:20260422T073840
CREATED:20240126T082417Z
LAST-MODIFIED:20240130T104039Z
UID:10000051-1707420600-1707420600@gemeinde-suelfeld.de
SUMMARY:Sitzung der Gemeindevertretung der Gemeinde Sülfeld
DESCRIPTION:Exportiert aus ALLRIS am 30.01.2024\nDie Sitzung in ALLRIS net:\nhttp://www.itzstedt.sitzung-online.de/bi/to010.asp?SILFDNR=3435
URL:https://gemeinde-suelfeld.de/event/sitzung-der-gemeindevertretung-der-gemeinde-suelfeld/
LOCATION:Jugendraum bei der Sporthalle Sülfeld\, Oldesloer Straße 9\, 23867 Sülfeld
CATEGORIES:Politik
END:VEVENT
BEGIN:VEVENT
DTSTART;TZID=Europe/Berlin:20240208T140000
DTEND;TZID=Europe/Berlin:20240208T170000
DTSTAMP:20260422T073840
CREATED:20240131T135533Z
LAST-MODIFIED:20240131T135533Z
UID:10000097-1707400800-1707411600@gemeinde-suelfeld.de
SUMMARY:Spiele-Nachmittag
DESCRIPTION:
URL:https://gemeinde-suelfeld.de/event/spiele-nachmittag-5/
LOCATION:Alte Schule Tönningstedt\, Am Dorfplatz\, Tönningstedt\, 23867\, Germany
END:VEVENT
BEGIN:VEVENT
DTSTART;TZID=Europe/Berlin:20240206T193000
DTEND;TZID=Europe/Berlin:20240206T213000
DTSTAMP:20260422T073840
CREATED:20240131T070239Z
LAST-MODIFIED:20240131T134557Z
UID:10000075-1707247800-1707255000@gemeinde-suelfeld.de
SUMMARY:Informations- und Diskussionsabend Tönningstedt
DESCRIPTION:
URL:https://gemeinde-suelfeld.de/event/informations-und-diskussionsabend-toenningstedt/
LOCATION:Alte Schule Tönningstedt\, Am Dorfplatz\, Tönningstedt\, 23867\, Germany
CATEGORIES:Politik
ORGANIZER;CN="CDU Ortsverband S%C3%BClfeld":MAILTO:info@cdu-suelfeld.de
END:VEVENT
BEGIN:VEVENT
DTSTART;TZID=Europe/Berlin:20240206T160000
DTEND;TZID=Europe/Berlin:20240206T193000
DTSTAMP:20260422T073840
CREATED:20240131T070024Z
LAST-MODIFIED:20240131T070024Z
UID:10000074-1707235200-1707247800@gemeinde-suelfeld.de
SUMMARY:Blutspenden
DESCRIPTION:
URL:https://gemeinde-suelfeld.de/event/blutspenden/
LOCATION:Grundschule Seth\, Schulstr. 4\, Seth\, 23845\, Deutschland
END:VEVENT
BEGIN:VEVENT
DTSTART;VALUE=DATE:20240202
DTEND;VALUE=DATE:20240203
DTSTAMP:20260422T073840
CREATED:20240131T065811Z
LAST-MODIFIED:20240131T141341Z
UID:10000073-1706832000-1706918399@gemeinde-suelfeld.de
SUMMARY:Jahreshauptversammlung Feuerwehr Sülfeld
DESCRIPTION:
URL:https://gemeinde-suelfeld.de/event/jahreshauptversammlung/
END:VEVENT
BEGIN:VEVENT
DTSTART;TZID=Europe/Berlin:20240131T193000
DTEND;TZID=Europe/Berlin:20240131T220000
DTSTAMP:20260422T073840
CREATED:20240131T065449Z
LAST-MODIFIED:20240131T065449Z
UID:10000072-1706729400-1706738400@gemeinde-suelfeld.de
SUMMARY:Bürgermeister-Treff
DESCRIPTION:
URL:https://gemeinde-suelfeld.de/event/buergermeister-treff/
LOCATION:Remise beim Pastorat Sülfeld\, Am Markt 16\, Sülfeld
ORGANIZER;CN="CDU Ortsverband S%C3%BClfeld":MAILTO:info@cdu-suelfeld.de
END:VEVENT
BEGIN:VEVENT
DTSTART;TZID=Europe/Berlin:20231231T170000
DTEND;TZID=Europe/Berlin:20231231T170000
DTSTAMP:20260422T073840
CREATED:20230905T120027Z
LAST-MODIFIED:20230927T132940Z
UID:10000024-1704042000-1704042000@gemeinde-suelfeld.de
SUMMARY:Gottesdienst zum Jahresende
DESCRIPTION:
URL:https://gemeinde-suelfeld.de/event/gottesdienst-zum-jahresende/
END:VEVENT
BEGIN:VEVENT
DTSTART;TZID=Europe/Berlin:20231229T190000
DTEND;TZID=Europe/Berlin:20231229T190000
DTSTAMP:20260422T073840
CREATED:20230905T111828Z
LAST-MODIFIED:20230927T132942Z
UID:10000015-1703876400-1703876400@gemeinde-suelfeld.de
SUMMARY:Silvesterschießen
DESCRIPTION:
URL:https://gemeinde-suelfeld.de/event/silvesterschiessen/
LOCATION:Schützenhaus\, Neuer Weg 50\, Sülfeld\, 23867\, Deutschland
END:VEVENT
END:VCALENDAR