BEGIN:VCALENDAR
VERSION:2.0
PRODID:-//Gemeinde Sülfeld - ECPv6.15.20//NONSGML v1.0//EN
CALSCALE:GREGORIAN
METHOD:PUBLISH
X-ORIGINAL-URL:https://gemeinde-suelfeld.de
X-WR-CALDESC:Veranstaltungen für Gemeinde Sülfeld
REFRESH-INTERVAL;VALUE=DURATION:PT1H
X-Robots-Tag:noindex
X-PUBLISHED-TTL:PT1H
BEGIN:VTIMEZONE
TZID:Europe/Berlin
BEGIN:DAYLIGHT
TZOFFSETFROM:+0100
TZOFFSETTO:+0200
TZNAME:CEST
DTSTART:20240331T010000
END:DAYLIGHT
BEGIN:STANDARD
TZOFFSETFROM:+0200
TZOFFSETTO:+0100
TZNAME:CET
DTSTART:20241027T010000
END:STANDARD
BEGIN:DAYLIGHT
TZOFFSETFROM:+0100
TZOFFSETTO:+0200
TZNAME:CEST
DTSTART:20250330T010000
END:DAYLIGHT
BEGIN:STANDARD
TZOFFSETFROM:+0200
TZOFFSETTO:+0100
TZNAME:CET
DTSTART:20251026T010000
END:STANDARD
BEGIN:DAYLIGHT
TZOFFSETFROM:+0100
TZOFFSETTO:+0200
TZNAME:CEST
DTSTART:20260329T010000
END:DAYLIGHT
BEGIN:STANDARD
TZOFFSETFROM:+0200
TZOFFSETTO:+0100
TZNAME:CET
DTSTART:20261025T010000
END:STANDARD
END:VTIMEZONE
BEGIN:VEVENT
DTSTART;TZID=Europe/Berlin:20251224T173000
DTEND;TZID=Europe/Berlin:20251224T183000
DTSTAMP:20260421T113001
CREATED:20250706T113110Z
LAST-MODIFIED:20250708T115947Z
UID:10000931-1766597400-1766601000@gemeinde-suelfeld.de
SUMMARY:Christvesper
DESCRIPTION:
URL:https://gemeinde-suelfeld.de/event/christvesper-2/
LOCATION:Kirche Sülfeld
CATEGORIES:Kirche
END:VEVENT
BEGIN:VEVENT
DTSTART;TZID=Europe/Berlin:20251224T140000
DTEND;TZID=Europe/Berlin:20251224T153000
DTSTAMP:20260421T113001
CREATED:20250706T112929Z
LAST-MODIFIED:20250708T115956Z
UID:10000930-1766584800-1766590200@gemeinde-suelfeld.de
SUMMARY:Krippenspiel
DESCRIPTION:
URL:https://gemeinde-suelfeld.de/event/krippenspiel-2/
LOCATION:Kirche Sülfeld
CATEGORIES:Kirche
END:VEVENT
BEGIN:VEVENT
DTSTART;TZID=Europe/Berlin:20251221T140000
DTEND;TZID=Europe/Berlin:20251221T150000
DTSTAMP:20260421T113001
CREATED:20251110T091149Z
LAST-MODIFIED:20251110T091149Z
UID:10000967-1766325600-1766329200@gemeinde-suelfeld.de
SUMMARY:Öffentliche Generalprobe des Krippenspiels
DESCRIPTION:Alle\, die Lust haben\, das Krippenspiel zu erleben\, aber am Heiligen Abend keine Zeit dazu haben\, können trotzdem die Geschichte vom Räuber Horificus am Stall von Bethlehem erfahren.
URL:https://gemeinde-suelfeld.de/event/oeffentliche-generalprobe-des-krippenspiels/
LOCATION:Kirche Sülfeld
END:VEVENT
BEGIN:VEVENT
DTSTART;VALUE=DATE:20251221
DTEND;VALUE=DATE:20251222
DTSTAMP:20260421T113001
CREATED:20250706T112804Z
LAST-MODIFIED:20250708T120009Z
UID:10000929-1766275200-1766361599@gemeinde-suelfeld.de
SUMMARY:Der Nikolaus kommt!
DESCRIPTION:
URL:https://gemeinde-suelfeld.de/event/der-nikolaus-kommt-3/
LOCATION:Feuerwehrhaus Sülfeld\, Oldesloer Str. 11\, Sülfeld\, 23867\, Deutschland
CATEGORIES:Spiel & Spaß
END:VEVENT
BEGIN:VEVENT
DTSTART;TZID=Europe/Berlin:20251221T000000
DTEND;TZID=Europe/Berlin:20251221T000000
DTSTAMP:20260421T113001
CREATED:20251221T093212Z
LAST-MODIFIED:20251221T093212Z
UID:10001014-1766275200-1766275200@gemeinde-suelfeld.de
SUMMARY:Gong Konzert mit Peter Heeren
DESCRIPTION:
URL:https://gemeinde-suelfeld.de/event/gong-konzert-mit-peter-heeren/
END:VEVENT
BEGIN:VEVENT
DTSTART;TZID=Europe/Berlin:20251220T170000
DTEND;TZID=Europe/Berlin:20251220T190000
DTSTAMP:20260421T113001
CREATED:20250706T112626Z
LAST-MODIFIED:20251216T160027Z
UID:10000928-1766250000-1766257200@gemeinde-suelfeld.de
SUMMARY:Weihnachtskonzert
DESCRIPTION:
URL:https://gemeinde-suelfeld.de/event/weihnachtskonzert/
LOCATION:Kirche Sülfeld
CATEGORIES:Musik
ATTACH;FMTTYPE=image/png:https://gemeinde-suelfeld.de/wp-content/uploads/2025/07/Screenshot-2025-12-16-170008.png
END:VEVENT
BEGIN:VEVENT
DTSTART;TZID=Europe/Berlin:20251213T150000
DTEND;TZID=Europe/Berlin:20251213T220000
DTSTAMP:20260421T113001
CREATED:20250706T112421Z
LAST-MODIFIED:20250708T120039Z
UID:10000927-1765638000-1765663200@gemeinde-suelfeld.de
SUMMARY:Weihnachtsmarkt
DESCRIPTION:
URL:https://gemeinde-suelfeld.de/event/weihnachtsmarkt/
LOCATION:Sportplatz an der Wildkoppel\, An d. Wildkoppel\, Sülfeld\, 23867\, Deutschland
CATEGORIES:Spiel & Spaß
END:VEVENT
BEGIN:VEVENT
DTSTART;TZID=Europe/Berlin:20251212T190000
DTEND;TZID=Europe/Berlin:20251212T220000
DTSTAMP:20260421T113001
CREATED:20250706T112232Z
LAST-MODIFIED:20250708T120116Z
UID:10000926-1765566000-1765576800@gemeinde-suelfeld.de
SUMMARY:Weihnachtsstammtisch
DESCRIPTION:
URL:https://gemeinde-suelfeld.de/event/weihnachtsstammtisch-2/
LOCATION:Jugendraum (Sporthalle Sülfeld)\, Oldesloer Str. 9\, Sülfeld\, 23867\, Deutschland
CATEGORIES:Politik
END:VEVENT
BEGIN:VEVENT
DTSTART;TZID=Europe/Berlin:20251212T183000
DTEND;TZID=Europe/Berlin:20251212T210000
DTSTAMP:20260421T113001
CREATED:20250706T111647Z
LAST-MODIFIED:20250708T120125Z
UID:10000925-1765564200-1765573200@gemeinde-suelfeld.de
SUMMARY:Weihnachtsfeier /Landfrauenverein
DESCRIPTION:
URL:https://gemeinde-suelfeld.de/event/weihnachtsfeier-landfrauenverein/
CATEGORIES:Feiern & Klönen
END:VEVENT
BEGIN:VEVENT
DTSTART;TZID=Europe/Berlin:20251212T180000
DTEND;TZID=Europe/Berlin:20251212T200000
DTSTAMP:20260421T113001
CREATED:20251014T124133Z
LAST-MODIFIED:20251014T124133Z
UID:10000942-1765562400-1765569600@gemeinde-suelfeld.de
SUMMARY:Dämmerschoppen mit Adventskonzert der Dorfkapelle
DESCRIPTION:
URL:https://gemeinde-suelfeld.de/event/daemmerschoppen-mit-adventskonzert-der-dorfkapelle/
LOCATION:Remise beim Pastorat Sülfeld\, Am Markt 16\, Sülfeld
END:VEVENT
BEGIN:VEVENT
DTSTART;TZID=Europe/Berlin:20251211T190000
DTEND;TZID=Europe/Berlin:20251211T203000
DTSTAMP:20260421T113001
CREATED:20251207T140550Z
LAST-MODIFIED:20251207T140550Z
UID:10000980-1765479600-1765485000@gemeinde-suelfeld.de
SUMMARY:Ernährung für Jugendliche
DESCRIPTION:Welche Ernährung ist für mein Kind im Alter von 9-18 Jahren am besten?
URL:https://gemeinde-suelfeld.de/event/ernaehrung-fuer-jugendliche/
LOCATION:Remise beim Pastorat Sülfeld\, Am Markt 16\, Sülfeld
ATTACH;FMTTYPE=image/jpeg:https://gemeinde-suelfeld.de/wp-content/uploads/2025/12/Ernaehrung.jpg
END:VEVENT
BEGIN:VEVENT
DTSTART;TZID=Europe/Berlin:20251211T140000
DTEND;TZID=Europe/Berlin:20251211T170000
DTSTAMP:20260421T113001
CREATED:20250703T060742Z
LAST-MODIFIED:20250703T060742Z
UID:10000882-1765461600-1765472400@gemeinde-suelfeld.de
SUMMARY:Spiele-Nachmittag
DESCRIPTION:
URL:https://gemeinde-suelfeld.de/event/spiele-nachmittag-12/2025-12-11/
LOCATION:Alte Schule Tönningstedt\, Am Dorfplatz\, Tönningstedt\, 23867\, Germany
CATEGORIES:Spiel & Spaß
END:VEVENT
BEGIN:VEVENT
DTSTART;TZID=Europe/Berlin:20251207T150000
DTEND;TZID=Europe/Berlin:20251207T180000
DTSTAMP:20260421T113001
CREATED:20250706T110357Z
LAST-MODIFIED:20250708T120133Z
UID:10000924-1765119600-1765130400@gemeinde-suelfeld.de
SUMMARY:Nikolaus- und Adventskaffee /SSV Tönningstedt
DESCRIPTION:
URL:https://gemeinde-suelfeld.de/event/nikolaus-und-adventskaffee-2/
LOCATION:Alte Schule Tönningstedt\, Am Dorfplatz\, Tönningstedt\, 23867\, Germany
CATEGORIES:Feiern & Klönen
END:VEVENT
BEGIN:VEVENT
DTSTART;TZID=Europe/Berlin:20251206T140000
DTEND;TZID=Europe/Berlin:20251206T170000
DTSTAMP:20260421T113001
CREATED:20250706T110140Z
LAST-MODIFIED:20250708T120140Z
UID:10000923-1765029600-1765040400@gemeinde-suelfeld.de
SUMMARY:Weihnachtsfeier für BürgerInnen ab 70 /Gemeinde Sülfeld
DESCRIPTION:
URL:https://gemeinde-suelfeld.de/event/weihnachtsfeier-fuer-buergerinnen-ab-70/
LOCATION:Sporthalle Sülfeld
CATEGORIES:Feiern & Klönen
END:VEVENT
BEGIN:VEVENT
DTSTART;TZID=Europe/Berlin:20251204T193000
DTEND;TZID=Europe/Berlin:20251204T193000
DTSTAMP:20260421T113001
CREATED:20250109T225209Z
LAST-MODIFIED:20251117T132711Z
UID:10000822-1764876600-1764876600@gemeinde-suelfeld.de
SUMMARY:Sitzung der Gemeindevertretung der Gemeinde Sülfeld
DESCRIPTION:Exportiert aus ALLRIS am 17.11.2025\nDie Sitzung in ALLRIS net:\nhttps://www.itzstedt.sitzung-online.de/bi/si010_e.asp?MM=12&YY=2025
URL:https://gemeinde-suelfeld.de/event/sitzung-der-gemeindevertretung-der-gemeinde-suelfeld-12/
LOCATION:Jugendraum bei der Sporthalle Sülfeld\, Oldesloer Straße 9\, 23867 Sülfeld
CATEGORIES:Politik
END:VEVENT
BEGIN:VEVENT
DTSTART;TZID=Europe/Berlin:20251203T150000
DTEND;TZID=Europe/Berlin:20251203T154500
DTSTAMP:20260421T113001
CREATED:20250518T111841Z
LAST-MODIFIED:20250708T120202Z
UID:10000870-1764774000-1764776700@gemeinde-suelfeld.de
SUMMARY:Singen im Seniorenheim in Sülfeld
DESCRIPTION:Der Gemischte Chor Sülfeld singt Advents- und Weihnachtslieder im Seniorenheim in Sülfeld. Interessierte und sangesfreudige Mitmenschen können gerne den Chor verstärken.
URL:https://gemeinde-suelfeld.de/event/singen-im-seniorenheim-in-suelfeld/
CATEGORIES:Musik
END:VEVENT
BEGIN:VEVENT
DTSTART;TZID=Europe/Berlin:20251201T160000
DTEND;TZID=Europe/Berlin:20251201T193000
DTSTAMP:20260421T113001
CREATED:20250706T105759Z
LAST-MODIFIED:20250708T120213Z
UID:10000922-1764604800-1764617400@gemeinde-suelfeld.de
SUMMARY:Blutspenden Sülfeld
DESCRIPTION:
URL:https://gemeinde-suelfeld.de/event/blutspenden-suelfeld/
LOCATION:Gemeinschaftsschule Sülfeld\, Oldesloer Str. 9\, Sülfeld\, 23867\, Deutschland
CATEGORIES:Gesundheit & Medizin
END:VEVENT
BEGIN:VEVENT
DTSTART;TZID=Europe/Berlin:20251130T180000
DTEND;TZID=Europe/Berlin:20251130T193000
DTSTAMP:20260421T113001
CREATED:20250209T085533Z
LAST-MODIFIED:20251110T085658Z
UID:10000852-1764525600-1764531000@gemeinde-suelfeld.de
SUMMARY:Adventskonzert des Gemischten Chores Sülfeld
DESCRIPTION:Einstimmung in den Advent mit Advents- und Weihnachtsliedern aus verschiedenen Ländern
URL:https://gemeinde-suelfeld.de/event/adventskonzert-des-gemischten-chores-suelfeld/
LOCATION:Kirche Sülfeld
CATEGORIES:Musik
ATTACH;FMTTYPE=image/png:https://gemeinde-suelfeld.de/wp-content/uploads/2025/02/Adventskonzert-25.png
END:VEVENT
BEGIN:VEVENT
DTSTART;TZID=Europe/Berlin:20251129T190000
DTEND;TZID=Europe/Berlin:20251129T220000
DTSTAMP:20260421T113001
CREATED:20250413T175231Z
LAST-MODIFIED:20250413T175231Z
UID:10000865-1764442800-1764453600@gemeinde-suelfeld.de
SUMMARY:Kartenabend der Feuerwehr Sülfeld
DESCRIPTION:Am 29. November 2025 um 19 Uhr findet im Feuerwehrhaus Sülfeld unser jährlicher „Kartenabend“ statt.\nGespielt werden kann Skat\, Kniffel und Poker.
URL:https://gemeinde-suelfeld.de/event/kartenabend-der-feuerwehr-suelfeld/
CATEGORIES:Sonstiges
END:VEVENT
BEGIN:VEVENT
DTSTART;VALUE=DATE:20251126
DTEND;VALUE=DATE:20251128
DTSTAMP:20260421T113001
CREATED:20250706T105542Z
LAST-MODIFIED:20250708T120320Z
UID:10000921-1764115200-1764287999@gemeinde-suelfeld.de
SUMMARY:Adventsausfahrt nach Hameln
DESCRIPTION:
URL:https://gemeinde-suelfeld.de/event/adventsausfahrt-nach-hameln/
CATEGORIES:Sonstiges
END:VEVENT
BEGIN:VEVENT
DTSTART;TZID=Europe/Berlin:20251122T190000
DTEND;TZID=Europe/Berlin:20251122T233000
DTSTAMP:20260421T113001
CREATED:20250706T105424Z
LAST-MODIFIED:20250708T120330Z
UID:10000920-1763838000-1763854200@gemeinde-suelfeld.de
SUMMARY:Stiftungsfest der Schützengilde Sülfeld
DESCRIPTION:
URL:https://gemeinde-suelfeld.de/event/stiftungsfest-der-schuetzengilde-suelfeld/
LOCATION:Schützenhaus\, Neuer Weg 50\, Sülfeld\, 23867\, Deutschland
CATEGORIES:Feiern & Klönen
END:VEVENT
BEGIN:VEVENT
DTSTART;TZID=Europe/Berlin:20251122T143000
DTEND;TZID=Europe/Berlin:20251122T170000
DTSTAMP:20260421T113001
CREATED:20250706T105142Z
LAST-MODIFIED:20250708T115831Z
UID:10000919-1763821800-1763830800@gemeinde-suelfeld.de
SUMMARY:Weihnachtsfeier SoVD
DESCRIPTION:
URL:https://gemeinde-suelfeld.de/event/weihnachtsfeier-sovd/
LOCATION:Jugendraum (Sporthalle Sülfeld)\, Oldesloer Str. 9\, Sülfeld\, 23867\, Deutschland
CATEGORIES:Feiern & Klönen
END:VEVENT
BEGIN:VEVENT
DTSTART;TZID=Europe/Berlin:20251118T180000
DTEND;TZID=Europe/Berlin:20251118T200000
DTSTAMP:20260421T113001
CREATED:20250706T104908Z
LAST-MODIFIED:20250708T115723Z
UID:10000918-1763488800-1763496000@gemeinde-suelfeld.de
SUMMARY:Gemeindeversammlung der Kirchengemeinde Sülfeld
DESCRIPTION:
URL:https://gemeinde-suelfeld.de/event/gemeindeversammlung-der-kirchengemeinde-suelfeld/
LOCATION:Kirche Sülfeld
CATEGORIES:Kirche
END:VEVENT
BEGIN:VEVENT
DTSTART;TZID=Europe/Berlin:20251116T113000
DTEND;TZID=Europe/Berlin:20251116T123000
DTSTAMP:20260421T113001
CREATED:20250706T104143Z
LAST-MODIFIED:20251110T143428Z
UID:10000916-1763292600-1763296200@gemeinde-suelfeld.de
SUMMARY:Feierstunde zum Volkstrauertag /Tönningstedt
DESCRIPTION:Sehr geehrte Damen und Herren\, \nder V o l k s t r a u e r t a g \nam Sonntag\, dem 16. November 2025 findet wieder im Rahmen einer Gedenkveranstaltung an den Ehrenmalen in Sülfeld und Tönningstedt statt. \nDie Vereine und Organisationen treffen sich um 10.30 Uhr vor der Kapelle auf dem Friedhof in Sülfeld\, um im Anschluss gemeinsam am Ehrenmal die Feierstunde zu begehen. \nDie Veranstaltung endet mit der Kranzniederlegung. Auch im Ortsteil Tönningstedt ist eine Gedenkveranstaltung mit Kranzniederlegung vorgesehen. \nDie örtlichen Vereine und Organisationen treffen sich hierzu um 11.30 Uhr am Ehrenmal in Tönningstedt. \nAnschließend kleiner Imbiss an der Feuerwehr. \nDie Einwohner der Gemeinde werden auf diese Feierstunden hingewiesen und zur regen Beteiligung aufgerufen. \nMit freundlichem Gruß \ngez. Marek Krysiak\nBürgermeister
URL:https://gemeinde-suelfeld.de/event/feierstunde-zum-volkstrauertag-toenningstedt/
LOCATION:Ehrenmal Tönningstedt
CATEGORIES:Sonstiges
END:VEVENT
BEGIN:VEVENT
DTSTART;TZID=Europe/Berlin:20251116T103000
DTEND;TZID=Europe/Berlin:20251116T113000
DTSTAMP:20260421T113001
CREATED:20250706T104303Z
LAST-MODIFIED:20251110T143357Z
UID:10000917-1763289000-1763292600@gemeinde-suelfeld.de
SUMMARY:Feierstunde zum Volkstrauertag /Sülfeld
DESCRIPTION:Sehr geehrte Damen und Herren\, \nder V o l k s t r a u e r t a g \nam Sonntag\, dem 16. November 2025 findet wieder im Rahmen einer Gedenkveranstaltung an den Ehrenmalen in Sülfeld und Tönningstedt statt. \nDie Vereine und Organisationen treffen sich um 10.30 Uhr vor der Kapelle auf dem Friedhof in Sülfeld\, um im Anschluss gemeinsam am Ehrenmal die Feierstunde zu begehen. \nDie Veranstaltung endet mit der Kranzniederlegung. Auch im Ortsteil Tönningstedt ist eine Gedenkveranstaltung mit Kranzniederlegung vorgesehen. \nDie örtlichen Vereine und Organisationen treffen sich hierzu um 11.30 Uhr am Ehrenmal in Tönningstedt. \nAnschließend kleiner Imbiss an der Feuerwehr. \nDie Einwohner der Gemeinde werden auf diese Feierstunden hingewiesen und zur regen Beteiligung aufgerufen. \nMit freundlichem Gruß \ngez. Marek Krysiak\nBürgermeister
URL:https://gemeinde-suelfeld.de/event/feierstunde-zum-volkstrauertag-suelfeld/
LOCATION:Ehrenmal auf dem Friedhof Sülfeld
CATEGORIES:Sonstiges
END:VEVENT
BEGIN:VEVENT
DTSTART;TZID=Europe/Berlin:20251114T173000
DTEND;TZID=Europe/Berlin:20251114T200000
DTSTAMP:20260421T113001
CREATED:20250706T103943Z
LAST-MODIFIED:20250708T115636Z
UID:10000915-1763141400-1763150400@gemeinde-suelfeld.de
SUMMARY:Martinsumzug
DESCRIPTION:
URL:https://gemeinde-suelfeld.de/event/martinsumzug-3/
LOCATION:Remise beim Pastorat Sülfeld\, Am Markt 16\, Sülfeld
CATEGORIES:Kirche
END:VEVENT
BEGIN:VEVENT
DTSTART;TZID=Europe/Berlin:20251113T193000
DTEND;TZID=Europe/Berlin:20251113T193000
DTSTAMP:20260421T113001
CREATED:20250109T225209Z
LAST-MODIFIED:20251113T131214Z
UID:10000821-1763062200-1763062200@gemeinde-suelfeld.de
SUMMARY:Sitzung des Zentralausschusses der Gemeindevertretung der Gemeinde Sülfeld - SITZUNG FINDET NICHT STATT! -
DESCRIPTION:Exportiert aus ALLRIS am 13.11.2025\nDie Sitzung in ALLRIS net:\nhttps://www.itzstedt.sitzung-online.de/bi/si010_e.asp?MM=11&YY=2025
URL:https://gemeinde-suelfeld.de/event/sitzung-des-zentralausschusses-der-gemeindevertretung-der-gemeinde-suelfeld-7/
CATEGORIES:Politik
END:VEVENT
BEGIN:VEVENT
DTSTART;TZID=Europe/Berlin:20251113T140000
DTEND;TZID=Europe/Berlin:20251113T170000
DTSTAMP:20260421T113001
CREATED:20250703T060742Z
LAST-MODIFIED:20250703T060742Z
UID:10000881-1763042400-1763053200@gemeinde-suelfeld.de
SUMMARY:Spiele-Nachmittag
DESCRIPTION:
URL:https://gemeinde-suelfeld.de/event/spiele-nachmittag-12/2025-11-13/
LOCATION:Alte Schule Tönningstedt\, Am Dorfplatz\, Tönningstedt\, 23867\, Germany
CATEGORIES:Spiel & Spaß
END:VEVENT
BEGIN:VEVENT
DTSTART;TZID=Europe/Berlin:20251112T173000
DTEND;TZID=Europe/Berlin:20251112T173000
DTSTAMP:20260421T113001
CREATED:20251104T124114Z
LAST-MODIFIED:20251112T131211Z
UID:10000943-1762968600-1762968600@gemeinde-suelfeld.de
SUMMARY:Sitzung des Jugendbeirates der Gemeinde Sülfeld
DESCRIPTION:Exportiert aus ALLRIS am 12.11.2025\nDie Sitzung in ALLRIS net:\nhttps://www.itzstedt.sitzung-online.de/bi/to010.asp?SILFDNR=4394
URL:https://gemeinde-suelfeld.de/event/sitzung-des-jugendbeirates-der-gemeinde-suelfeld-3/
LOCATION:Jugendraum bei der Sporthalle Sülfeld\, Oldesloer Straße 9\, 23867 Sülfeld
CATEGORIES:Politik
END:VEVENT
BEGIN:VEVENT
DTSTART;TZID=Europe/Berlin:20251111T193000
DTEND;TZID=Europe/Berlin:20251111T193000
DTSTAMP:20260421T113001
CREATED:20250109T225209Z
LAST-MODIFIED:20251111T131209Z
UID:10000820-1762889400-1762889400@gemeinde-suelfeld.de
SUMMARY:Sitzung des Finanzausschusses der Gemeindevertretung der Gemeinde Sülfeld
DESCRIPTION:Exportiert aus ALLRIS am 11.11.2025\nDie Sitzung in ALLRIS net:\nhttps://www.itzstedt.sitzung-online.de/bi/to010.asp?SILFDNR=3880
URL:https://gemeinde-suelfeld.de/event/sitzung-des-finanzausschusses-der-gemeindevertretung-der-gemeinde-suelfeld-10/
LOCATION:Jugendraum bei der Sporthalle Sülfeld\, Oldesloer Straße 9\, 23867 Sülfeld
CATEGORIES:Politik
END:VEVENT
END:VCALENDAR