BEGIN:VCALENDAR
VERSION:2.0
PRODID:-//Gemeinde Sülfeld - ECPv6.15.20//NONSGML v1.0//EN
CALSCALE:GREGORIAN
METHOD:PUBLISH
X-ORIGINAL-URL:https://gemeinde-suelfeld.de
X-WR-CALDESC:Veranstaltungen für Gemeinde Sülfeld
REFRESH-INTERVAL;VALUE=DURATION:PT1H
X-Robots-Tag:noindex
X-PUBLISHED-TTL:PT1H
BEGIN:VTIMEZONE
TZID:Europe/Berlin
BEGIN:DAYLIGHT
TZOFFSETFROM:+0100
TZOFFSETTO:+0200
TZNAME:CEST
DTSTART:20240331T010000
END:DAYLIGHT
BEGIN:STANDARD
TZOFFSETFROM:+0200
TZOFFSETTO:+0100
TZNAME:CET
DTSTART:20241027T010000
END:STANDARD
BEGIN:DAYLIGHT
TZOFFSETFROM:+0100
TZOFFSETTO:+0200
TZNAME:CEST
DTSTART:20250330T010000
END:DAYLIGHT
BEGIN:STANDARD
TZOFFSETFROM:+0200
TZOFFSETTO:+0100
TZNAME:CET
DTSTART:20251026T010000
END:STANDARD
BEGIN:DAYLIGHT
TZOFFSETFROM:+0100
TZOFFSETTO:+0200
TZNAME:CEST
DTSTART:20260329T010000
END:DAYLIGHT
BEGIN:STANDARD
TZOFFSETFROM:+0200
TZOFFSETTO:+0100
TZNAME:CET
DTSTART:20261025T010000
END:STANDARD
END:VTIMEZONE
BEGIN:VEVENT
DTSTART;TZID=Europe/Berlin:20251122T190000
DTEND;TZID=Europe/Berlin:20251122T233000
DTSTAMP:20260421T124249
CREATED:20250706T105424Z
LAST-MODIFIED:20250708T120330Z
UID:10000920-1763838000-1763854200@gemeinde-suelfeld.de
SUMMARY:Stiftungsfest der Schützengilde Sülfeld
DESCRIPTION:
URL:https://gemeinde-suelfeld.de/event/stiftungsfest-der-schuetzengilde-suelfeld/
LOCATION:Schützenhaus\, Neuer Weg 50\, Sülfeld\, 23867\, Deutschland
CATEGORIES:Feiern & Klönen
END:VEVENT
BEGIN:VEVENT
DTSTART;TZID=Europe/Berlin:20251122T143000
DTEND;TZID=Europe/Berlin:20251122T170000
DTSTAMP:20260421T124249
CREATED:20250706T105142Z
LAST-MODIFIED:20250708T115831Z
UID:10000919-1763821800-1763830800@gemeinde-suelfeld.de
SUMMARY:Weihnachtsfeier SoVD
DESCRIPTION:
URL:https://gemeinde-suelfeld.de/event/weihnachtsfeier-sovd/
LOCATION:Jugendraum (Sporthalle Sülfeld)\, Oldesloer Str. 9\, Sülfeld\, 23867\, Deutschland
CATEGORIES:Feiern & Klönen
END:VEVENT
BEGIN:VEVENT
DTSTART;TZID=Europe/Berlin:20251118T180000
DTEND;TZID=Europe/Berlin:20251118T200000
DTSTAMP:20260421T124249
CREATED:20250706T104908Z
LAST-MODIFIED:20250708T115723Z
UID:10000918-1763488800-1763496000@gemeinde-suelfeld.de
SUMMARY:Gemeindeversammlung der Kirchengemeinde Sülfeld
DESCRIPTION:
URL:https://gemeinde-suelfeld.de/event/gemeindeversammlung-der-kirchengemeinde-suelfeld/
LOCATION:Kirche Sülfeld
CATEGORIES:Kirche
END:VEVENT
BEGIN:VEVENT
DTSTART;TZID=Europe/Berlin:20251116T113000
DTEND;TZID=Europe/Berlin:20251116T123000
DTSTAMP:20260421T124249
CREATED:20250706T104143Z
LAST-MODIFIED:20251110T143428Z
UID:10000916-1763292600-1763296200@gemeinde-suelfeld.de
SUMMARY:Feierstunde zum Volkstrauertag /Tönningstedt
DESCRIPTION:Sehr geehrte Damen und Herren\, \nder V o l k s t r a u e r t a g \nam Sonntag\, dem 16. November 2025 findet wieder im Rahmen einer Gedenkveranstaltung an den Ehrenmalen in Sülfeld und Tönningstedt statt. \nDie Vereine und Organisationen treffen sich um 10.30 Uhr vor der Kapelle auf dem Friedhof in Sülfeld\, um im Anschluss gemeinsam am Ehrenmal die Feierstunde zu begehen. \nDie Veranstaltung endet mit der Kranzniederlegung. Auch im Ortsteil Tönningstedt ist eine Gedenkveranstaltung mit Kranzniederlegung vorgesehen. \nDie örtlichen Vereine und Organisationen treffen sich hierzu um 11.30 Uhr am Ehrenmal in Tönningstedt. \nAnschließend kleiner Imbiss an der Feuerwehr. \nDie Einwohner der Gemeinde werden auf diese Feierstunden hingewiesen und zur regen Beteiligung aufgerufen. \nMit freundlichem Gruß \ngez. Marek Krysiak\nBürgermeister
URL:https://gemeinde-suelfeld.de/event/feierstunde-zum-volkstrauertag-toenningstedt/
LOCATION:Ehrenmal Tönningstedt
CATEGORIES:Sonstiges
END:VEVENT
BEGIN:VEVENT
DTSTART;TZID=Europe/Berlin:20251116T103000
DTEND;TZID=Europe/Berlin:20251116T113000
DTSTAMP:20260421T124249
CREATED:20250706T104303Z
LAST-MODIFIED:20251110T143357Z
UID:10000917-1763289000-1763292600@gemeinde-suelfeld.de
SUMMARY:Feierstunde zum Volkstrauertag /Sülfeld
DESCRIPTION:Sehr geehrte Damen und Herren\, \nder V o l k s t r a u e r t a g \nam Sonntag\, dem 16. November 2025 findet wieder im Rahmen einer Gedenkveranstaltung an den Ehrenmalen in Sülfeld und Tönningstedt statt. \nDie Vereine und Organisationen treffen sich um 10.30 Uhr vor der Kapelle auf dem Friedhof in Sülfeld\, um im Anschluss gemeinsam am Ehrenmal die Feierstunde zu begehen. \nDie Veranstaltung endet mit der Kranzniederlegung. Auch im Ortsteil Tönningstedt ist eine Gedenkveranstaltung mit Kranzniederlegung vorgesehen. \nDie örtlichen Vereine und Organisationen treffen sich hierzu um 11.30 Uhr am Ehrenmal in Tönningstedt. \nAnschließend kleiner Imbiss an der Feuerwehr. \nDie Einwohner der Gemeinde werden auf diese Feierstunden hingewiesen und zur regen Beteiligung aufgerufen. \nMit freundlichem Gruß \ngez. Marek Krysiak\nBürgermeister
URL:https://gemeinde-suelfeld.de/event/feierstunde-zum-volkstrauertag-suelfeld/
LOCATION:Ehrenmal auf dem Friedhof Sülfeld
CATEGORIES:Sonstiges
END:VEVENT
BEGIN:VEVENT
DTSTART;TZID=Europe/Berlin:20251114T173000
DTEND;TZID=Europe/Berlin:20251114T200000
DTSTAMP:20260421T124249
CREATED:20250706T103943Z
LAST-MODIFIED:20250708T115636Z
UID:10000915-1763141400-1763150400@gemeinde-suelfeld.de
SUMMARY:Martinsumzug
DESCRIPTION:
URL:https://gemeinde-suelfeld.de/event/martinsumzug-3/
LOCATION:Remise beim Pastorat Sülfeld\, Am Markt 16\, Sülfeld
CATEGORIES:Kirche
END:VEVENT
BEGIN:VEVENT
DTSTART;TZID=Europe/Berlin:20251113T193000
DTEND;TZID=Europe/Berlin:20251113T193000
DTSTAMP:20260421T124249
CREATED:20250109T225209Z
LAST-MODIFIED:20251113T131214Z
UID:10000821-1763062200-1763062200@gemeinde-suelfeld.de
SUMMARY:Sitzung des Zentralausschusses der Gemeindevertretung der Gemeinde Sülfeld - SITZUNG FINDET NICHT STATT! -
DESCRIPTION:Exportiert aus ALLRIS am 13.11.2025\nDie Sitzung in ALLRIS net:\nhttps://www.itzstedt.sitzung-online.de/bi/si010_e.asp?MM=11&YY=2025
URL:https://gemeinde-suelfeld.de/event/sitzung-des-zentralausschusses-der-gemeindevertretung-der-gemeinde-suelfeld-7/
CATEGORIES:Politik
END:VEVENT
BEGIN:VEVENT
DTSTART;TZID=Europe/Berlin:20251113T140000
DTEND;TZID=Europe/Berlin:20251113T170000
DTSTAMP:20260421T124249
CREATED:20250703T060742Z
LAST-MODIFIED:20250703T060742Z
UID:10000881-1763042400-1763053200@gemeinde-suelfeld.de
SUMMARY:Spiele-Nachmittag
DESCRIPTION:
URL:https://gemeinde-suelfeld.de/event/spiele-nachmittag-12/2025-11-13/
LOCATION:Alte Schule Tönningstedt\, Am Dorfplatz\, Tönningstedt\, 23867\, Germany
CATEGORIES:Spiel & Spaß
END:VEVENT
BEGIN:VEVENT
DTSTART;TZID=Europe/Berlin:20251112T173000
DTEND;TZID=Europe/Berlin:20251112T173000
DTSTAMP:20260421T124249
CREATED:20251104T124114Z
LAST-MODIFIED:20251112T131211Z
UID:10000943-1762968600-1762968600@gemeinde-suelfeld.de
SUMMARY:Sitzung des Jugendbeirates der Gemeinde Sülfeld
DESCRIPTION:Exportiert aus ALLRIS am 12.11.2025\nDie Sitzung in ALLRIS net:\nhttps://www.itzstedt.sitzung-online.de/bi/to010.asp?SILFDNR=4394
URL:https://gemeinde-suelfeld.de/event/sitzung-des-jugendbeirates-der-gemeinde-suelfeld-3/
LOCATION:Jugendraum bei der Sporthalle Sülfeld\, Oldesloer Straße 9\, 23867 Sülfeld
CATEGORIES:Politik
END:VEVENT
BEGIN:VEVENT
DTSTART;TZID=Europe/Berlin:20251111T193000
DTEND;TZID=Europe/Berlin:20251111T193000
DTSTAMP:20260421T124249
CREATED:20250109T225209Z
LAST-MODIFIED:20251111T131209Z
UID:10000820-1762889400-1762889400@gemeinde-suelfeld.de
SUMMARY:Sitzung des Finanzausschusses der Gemeindevertretung der Gemeinde Sülfeld
DESCRIPTION:Exportiert aus ALLRIS am 11.11.2025\nDie Sitzung in ALLRIS net:\nhttps://www.itzstedt.sitzung-online.de/bi/to010.asp?SILFDNR=3880
URL:https://gemeinde-suelfeld.de/event/sitzung-des-finanzausschusses-der-gemeindevertretung-der-gemeinde-suelfeld-10/
LOCATION:Jugendraum bei der Sporthalle Sülfeld\, Oldesloer Straße 9\, 23867 Sülfeld
CATEGORIES:Politik
END:VEVENT
BEGIN:VEVENT
DTSTART;TZID=Europe/Berlin:20251110T193000
DTEND;TZID=Europe/Berlin:20251110T193000
DTSTAMP:20260421T124249
CREATED:20250109T225209Z
LAST-MODIFIED:20251110T125708Z
UID:10000819-1762803000-1762803000@gemeinde-suelfeld.de
SUMMARY:Sitzung des Sozial- und Kulturausschusses der Gemeindevertretung der Gemeinde Sülfeld
DESCRIPTION:Exportiert aus ALLRIS am 10.11.2025\nDie Sitzung in ALLRIS net:\nhttps://www.itzstedt.sitzung-online.de/bi/to010.asp?SILFDNR=3885
URL:https://gemeinde-suelfeld.de/event/sitzung-des-sozial-und-kulturausschusses-der-gemeindevertretung-der-gemeinde-suelfeld-5/
LOCATION:Jugendraum bei der Sporthalle Sülfeld\, Oldesloer Straße 9\, 23867 Sülfeld
CATEGORIES:Politik
END:VEVENT
BEGIN:VEVENT
DTSTART;TZID=Europe/Berlin:20251110T080000
DTEND;TZID=Europe/Berlin:20251110T170000
DTSTAMP:20260421T124249
CREATED:20251110T110917Z
LAST-MODIFIED:20251110T110917Z
UID:10000968-1762761600-1762794000@gemeinde-suelfeld.de
SUMMARY:Fadenreich
DESCRIPTION:Sei dabei\, wenn wir häkeln\, stricken\, sticken\, nähen\, knüpfen…
URL:https://gemeinde-suelfeld.de/event/fadenreich-2/2025-11-10/
LOCATION:Remise beim Pastorat Sülfeld\, Am Markt 16\, Sülfeld
ATTACH;FMTTYPE=image/png:https://gemeinde-suelfeld.de/wp-content/uploads/2025/11/FadenReich.png
END:VEVENT
BEGIN:VEVENT
DTSTART;TZID=Europe/Berlin:20251108T093000
DTEND;TZID=Europe/Berlin:20251108T093000
DTSTAMP:20260421T124249
CREATED:20250109T225209Z
LAST-MODIFIED:20251107T125711Z
UID:10000818-1762594200-1762594200@gemeinde-suelfeld.de
SUMMARY:Sitzung des Wege- und Umweltausschusses der Gemeindevertretung der Gemeinde Sülfeld
DESCRIPTION:Exportiert aus ALLRIS am 07.11.2025\nDie Sitzung in ALLRIS net:\nhttps://www.itzstedt.sitzung-online.de/bi/to010.asp?SILFDNR=3892
URL:https://gemeinde-suelfeld.de/event/sitzung-des-wege-und-umweltausschusses-der-gemeindevertretung-der-gemeinde-suelfeld-5/
LOCATION:Feuerwehrhaus Borstel\, Neuland 2\, 23845 Borstel
CATEGORIES:Politik
END:VEVENT
BEGIN:VEVENT
DTSTART;TZID=Europe/Berlin:20251106T190000
DTEND;TZID=Europe/Berlin:20251106T213000
DTSTAMP:20260421T124249
CREATED:20250410T155329Z
LAST-MODIFIED:20250629T094717Z
UID:10000862-1762455600-1762464600@gemeinde-suelfeld.de
SUMMARY:Fadenreich
DESCRIPTION:Seid dabei\, wenn wir häkeln\, stricken\, nähen\, sticken…
URL:https://gemeinde-suelfeld.de/event/fadenreich-3/2025-11-06/
LOCATION:Remise beim Pastorat Sülfeld\, Am Markt 16\, Sülfeld
ATTACH;FMTTYPE=image/png:https://gemeinde-suelfeld.de/wp-content/uploads/2025/04/FadenReichApril25.png
END:VEVENT
BEGIN:VEVENT
DTSTART;TZID=Europe/Berlin:20251105T193000
DTEND;TZID=Europe/Berlin:20251105T220000
DTSTAMP:20260421T124249
CREATED:20250706T103753Z
LAST-MODIFIED:20250708T120359Z
UID:10000914-1762371000-1762380000@gemeinde-suelfeld.de
SUMMARY:Hansa Theater
DESCRIPTION:
URL:https://gemeinde-suelfeld.de/event/hansa-theater/
CATEGORIES:Kunst & Kultur
END:VEVENT
BEGIN:VEVENT
DTSTART;TZID=Europe/Berlin:20251104T163000
DTEND;TZID=Europe/Berlin:20251104T193000
DTSTAMP:20260421T124249
CREATED:20250706T103610Z
LAST-MODIFIED:20250708T120437Z
UID:10000913-1762273800-1762284600@gemeinde-suelfeld.de
SUMMARY:Blutspenden Seth
DESCRIPTION:
URL:https://gemeinde-suelfeld.de/event/blutspenden-seth/
LOCATION:Grundschule Seth\, Schulstr. 4\, Seth\, 23845\, Deutschland
CATEGORIES:Gesundheit & Medizin
END:VEVENT
BEGIN:VEVENT
DTSTART;TZID=Europe/Berlin:20251102T094500
DTEND;TZID=Europe/Berlin:20251102T120000
DTSTAMP:20260421T124249
CREATED:20250826T085701Z
LAST-MODIFIED:20250826T085701Z
UID:10000936-1762076700-1762084800@gemeinde-suelfeld.de
SUMMARY:Gottesdienst zum Thema Heimat
DESCRIPTION:Was ist für dich Heimat? Deine Gedanken finden Platz im Gottesdienst.\nWir schmeckt Heimat?\nBringe etwas fürs Büffet nach dem Gottesdienst mit\, das für dich wie Heimat schmeckt.
URL:https://gemeinde-suelfeld.de/event/gottesdienst-zum-thema-heimat/
CATEGORIES:Kirche
ATTACH;FMTTYPE=image/png:https://gemeinde-suelfeld.de/wp-content/uploads/2025/08/Heimat-1.png
END:VEVENT
BEGIN:VEVENT
DTSTART;VALUE=DATE:20251027
DTEND;VALUE=DATE:20251101
DTSTAMP:20260421T124249
CREATED:20250705T100121Z
LAST-MODIFIED:20250708T120428Z
UID:10000912-1761523200-1761955199@gemeinde-suelfeld.de
SUMMARY:HSV-Fußballcamp
DESCRIPTION:
URL:https://gemeinde-suelfeld.de/event/hsv-fussballcamp/
LOCATION:Sportplatz an der Wildkoppel\, An d. Wildkoppel\, Sülfeld\, 23867\, Deutschland
CATEGORIES:Sport
ATTACH;FMTTYPE=image/jpeg:https://gemeinde-suelfeld.de/wp-content/uploads/2025/07/SVS-HSV.jpg
END:VEVENT
BEGIN:VEVENT
DTSTART;TZID=Europe/Berlin:20251026T143000
DTEND;TZID=Europe/Berlin:20251026T170000
DTSTAMP:20260421T124249
CREATED:20250703T060235Z
LAST-MODIFIED:20250703T060235Z
UID:10000876-1761489000-1761498000@gemeinde-suelfeld.de
SUMMARY:Sonntagskaffee
DESCRIPTION:
URL:https://gemeinde-suelfeld.de/event/sonntagskaffee-8/2025-10-26/
LOCATION:Remise beim Pastorat Sülfeld\, Am Markt 16\, Sülfeld
END:VEVENT
BEGIN:VEVENT
DTSTART;TZID=Europe/Berlin:20251015T140000
DTEND;TZID=Europe/Berlin:20251015T170000
DTSTAMP:20260421T124249
CREATED:20250705T095612Z
LAST-MODIFIED:20250705T095612Z
UID:10000911-1760536800-1760547600@gemeinde-suelfeld.de
SUMMARY:Frau Schulze-Wenck stellt sich vor
DESCRIPTION:SoVD Deutschland
URL:https://gemeinde-suelfeld.de/event/frau-schulze-wenck-stellt-sich-vor/
CATEGORIES:Sonstiges
END:VEVENT
BEGIN:VEVENT
DTSTART;TZID=Europe/Berlin:20251011T183000
DTEND;TZID=Europe/Berlin:20251011T200000
DTSTAMP:20260421T124249
CREATED:20250705T094955Z
LAST-MODIFIED:20250923T145340Z
UID:10000909-1760207400-1760212800@gemeinde-suelfeld.de
SUMMARY:Laternen-Umzug der Gemeinde Sülfeld
DESCRIPTION:
URL:https://gemeinde-suelfeld.de/event/laternen-umzug-der-gemeinde-suelfeld-2/
LOCATION:Feuerwehrhaus Sülfeld\, Oldesloer Str. 11\, Sülfeld\, 23867\, Deutschland
CATEGORIES:Spiel & Spaß
ATTACH;FMTTYPE=image/jpeg:https://gemeinde-suelfeld.de/wp-content/uploads/2025/07/Laternenumzug-11.10.25-2-1.jpg
END:VEVENT
BEGIN:VEVENT
DTSTART;TZID=Europe/Berlin:20251011T130000
DTEND;TZID=Europe/Berlin:20251011T200000
DTSTAMP:20260421T124249
CREATED:20250705T095133Z
LAST-MODIFIED:20250715T195553Z
UID:10000910-1760187600-1760212800@gemeinde-suelfeld.de
SUMMARY:Schützengilde Boßeln
DESCRIPTION:
URL:https://gemeinde-suelfeld.de/event/schuetzengilde-bosseln/
LOCATION:Schützenhaus\, Neuer Weg 50\, Sülfeld\, 23867\, Deutschland
CATEGORIES:Spiel & Spaß
END:VEVENT
BEGIN:VEVENT
DTSTART;TZID=Europe/Berlin:20251011T100000
DTEND;TZID=Europe/Berlin:20251011T120000
DTSTAMP:20260421T124249
CREATED:20250208T101449Z
LAST-MODIFIED:20250925T093422Z
UID:10000837-1760176800-1760184000@gemeinde-suelfeld.de
SUMMARY:Kinderkirche
DESCRIPTION:Geschichten aus der Bibel hören\, singen\, basteln\, backen\, experimentieren. spielen….
URL:https://gemeinde-suelfeld.de/event/kinderkirche-2/2025-10-11/
LOCATION:Remise beim Pastorat Sülfeld\, Am Markt 16\, Sülfeld
ATTACH;FMTTYPE=image/png:https://gemeinde-suelfeld.de/wp-content/uploads/2025/02/Kinderkirche-Oktober-25.png
END:VEVENT
BEGIN:VEVENT
DTSTART;TZID=Europe/Berlin:20251010T180000
DTEND;TZID=Europe/Berlin:20251010T213000
DTSTAMP:20260421T124249
CREATED:20250208T194924Z
LAST-MODIFIED:20250925T093309Z
UID:10000868-1760119200-1760131800@gemeinde-suelfeld.de
SUMMARY:Dämmerschoppen
DESCRIPTION:Treffpunkt für Menschen aus der Gemeinde und Gäste\, Zeit zum Klönen\, diesmal mit kleinem „Oktoberfest\, Brezeln\, Obazda und bayrischem Bier
URL:https://gemeinde-suelfeld.de/event/daemmerschoppen-2/2025-10-10/
LOCATION:Remise beim Pastorat Sülfeld\, Am Markt 16\, Sülfeld
ATTACH;FMTTYPE=image/jpeg:https://gemeinde-suelfeld.de/wp-content/uploads/2025/02/WhatsApp-Bild-2025-09-23-um-20.19.53_a36ad51e.jpg
END:VEVENT
BEGIN:VEVENT
DTSTART;TZID=Europe/Berlin:20251009T193000
DTEND;TZID=Europe/Berlin:20251009T193000
DTSTAMP:20260421T124249
CREATED:20250109T225209Z
LAST-MODIFIED:20251009T102709Z
UID:10000817-1760038200-1760038200@gemeinde-suelfeld.de
SUMMARY:Sitzung der Gemeindevertretung der Gemeinde Sülfeld
DESCRIPTION:Exportiert aus ALLRIS am 09.10.2025\nDie Sitzung in ALLRIS net:\nhttps://www.itzstedt.sitzung-online.de/bi/to010.asp?SILFDNR=3864
URL:https://gemeinde-suelfeld.de/event/sitzung-der-gemeindevertretung-der-gemeinde-suelfeld-11/
LOCATION:Jugendraum bei der Sporthalle Sülfeld\, Oldesloer Straße 9\, 23867 Sülfeld
CATEGORIES:Politik
END:VEVENT
BEGIN:VEVENT
DTSTART;TZID=Europe/Berlin:20251009T140000
DTEND;TZID=Europe/Berlin:20251009T170000
DTSTAMP:20260421T124249
CREATED:20250703T060742Z
LAST-MODIFIED:20250703T060742Z
UID:10000880-1760018400-1760029200@gemeinde-suelfeld.de
SUMMARY:Spiele-Nachmittag
DESCRIPTION:
URL:https://gemeinde-suelfeld.de/event/spiele-nachmittag-12/2025-10-09/
LOCATION:Alte Schule Tönningstedt\, Am Dorfplatz\, Tönningstedt\, 23867\, Germany
CATEGORIES:Spiel & Spaß
END:VEVENT
BEGIN:VEVENT
DTSTART;TZID=Europe/Berlin:20251005T113000
DTEND;TZID=Europe/Berlin:20251005T133000
DTSTAMP:20260421T124249
CREATED:20250705T083641Z
LAST-MODIFIED:20250705T083641Z
UID:10000908-1759663800-1759671000@gemeinde-suelfeld.de
SUMMARY:Erntedankgottesdienst
DESCRIPTION:Erntedankgottesdienst\, Hof Grabau
URL:https://gemeinde-suelfeld.de/event/erntedankgottesdienst-2/
LOCATION:Hof Grabau
CATEGORIES:Kirche
END:VEVENT
BEGIN:VEVENT
DTSTART;TZID=Europe/Berlin:20251005T103000
DTEND;TZID=Europe/Berlin:20251005T120000
DTSTAMP:20260421T124249
CREATED:20250705T073958Z
LAST-MODIFIED:20250705T073958Z
UID:10000906-1759660200-1759665600@gemeinde-suelfeld.de
SUMMARY:Erntedank in der Naher Kirche
DESCRIPTION:Landfrauenverein
URL:https://gemeinde-suelfeld.de/event/erntedank-in-der-naher-kirche/
LOCATION:Kirche Nahe\, Mühlenstr. 11\, Nahe\, 23866
CATEGORIES:Kirche
END:VEVENT
BEGIN:VEVENT
DTSTART;TZID=Europe/Berlin:20251003T110000
DTEND;TZID=Europe/Berlin:20251003T140000
DTSTAMP:20260421T124249
CREATED:20250705T083223Z
LAST-MODIFIED:20250901T131334Z
UID:10000907-1759489200-1759500000@gemeinde-suelfeld.de
SUMMARY:Einheitsbuddeln
DESCRIPTION:
URL:https://gemeinde-suelfeld.de/event/einheitsbuddeln-zwiebeln-stecken/
LOCATION:Spielplatz Huuskoppel\, Huuskoppel\, Sülfeld
CATEGORIES:Politik
ATTACH;FMTTYPE=image/jpeg:https://gemeinde-suelfeld.de/wp-content/uploads/2025/07/Einheitsbuddeln-2025a_A4-scaled.jpg
ORGANIZER;CN="CDU Ortsverband S%C3%BClfeld":MAILTO:info@cdu-suelfeld.de
END:VEVENT
BEGIN:VEVENT
DTSTART;TZID=Europe/Berlin:20251002T190000
DTEND;TZID=Europe/Berlin:20251002T213000
DTSTAMP:20260421T124249
CREATED:20250410T155329Z
LAST-MODIFIED:20250629T094717Z
UID:10000861-1759431600-1759440600@gemeinde-suelfeld.de
SUMMARY:Fadenreich
DESCRIPTION:Seid dabei\, wenn wir häkeln\, stricken\, nähen\, sticken…
URL:https://gemeinde-suelfeld.de/event/fadenreich-3/2025-10-02/
LOCATION:Remise beim Pastorat Sülfeld\, Am Markt 16\, Sülfeld
ATTACH;FMTTYPE=image/png:https://gemeinde-suelfeld.de/wp-content/uploads/2025/04/FadenReichApril25.png
END:VEVENT
END:VCALENDAR