BEGIN:VCALENDAR
VERSION:2.0
PRODID:-//Gemeinde Sülfeld - ECPv6.15.20//NONSGML v1.0//EN
CALSCALE:GREGORIAN
METHOD:PUBLISH
X-WR-CALNAME:Gemeinde Sülfeld
X-ORIGINAL-URL:https://gemeinde-suelfeld.de
X-WR-CALDESC:Veranstaltungen für Gemeinde Sülfeld
REFRESH-INTERVAL;VALUE=DURATION:PT1H
X-Robots-Tag:noindex
X-PUBLISHED-TTL:PT1H
BEGIN:VTIMEZONE
TZID:Europe/Berlin
BEGIN:DAYLIGHT
TZOFFSETFROM:+0100
TZOFFSETTO:+0200
TZNAME:CEST
DTSTART:20230326T010000
END:DAYLIGHT
BEGIN:STANDARD
TZOFFSETFROM:+0200
TZOFFSETTO:+0100
TZNAME:CET
DTSTART:20231029T010000
END:STANDARD
BEGIN:DAYLIGHT
TZOFFSETFROM:+0100
TZOFFSETTO:+0200
TZNAME:CEST
DTSTART:20240331T010000
END:DAYLIGHT
BEGIN:STANDARD
TZOFFSETFROM:+0200
TZOFFSETTO:+0100
TZNAME:CET
DTSTART:20241027T010000
END:STANDARD
BEGIN:DAYLIGHT
TZOFFSETFROM:+0100
TZOFFSETTO:+0200
TZNAME:CEST
DTSTART:20250330T010000
END:DAYLIGHT
BEGIN:STANDARD
TZOFFSETFROM:+0200
TZOFFSETTO:+0100
TZNAME:CET
DTSTART:20251026T010000
END:STANDARD
BEGIN:DAYLIGHT
TZOFFSETFROM:+0100
TZOFFSETTO:+0200
TZNAME:CEST
DTSTART:20260329T010000
END:DAYLIGHT
BEGIN:STANDARD
TZOFFSETFROM:+0200
TZOFFSETTO:+0100
TZNAME:CET
DTSTART:20261025T010000
END:STANDARD
BEGIN:DAYLIGHT
TZOFFSETFROM:+0100
TZOFFSETTO:+0200
TZNAME:CEST
DTSTART:20270328T010000
END:DAYLIGHT
BEGIN:STANDARD
TZOFFSETFROM:+0200
TZOFFSETTO:+0100
TZNAME:CET
DTSTART:20271031T010000
END:STANDARD
END:VTIMEZONE
BEGIN:VEVENT
DTSTART;TZID=Europe/Berlin:20260303T193000
DTEND;TZID=Europe/Berlin:20260303T210000
DTSTAMP:20260421T175016
CREATED:20251219T155019Z
LAST-MODIFIED:20251219T155019Z
UID:10000999-1772566200-1772571600@gemeinde-suelfeld.de
SUMMARY:Informations- und Diskussionsabend Tönningstedt
DESCRIPTION:
URL:https://gemeinde-suelfeld.de/event/informations-und-diskussionsabend-toenningstedt-3/
LOCATION:Alte Schule Tönningstedt\, Am Dorfplatz\, Tönningstedt\, 23867\, Germany
CATEGORIES:Politik
ATTACH;FMTTYPE=image/jpeg:https://gemeinde-suelfeld.de/wp-content/uploads/2025/12/Info-Abend-Toenningstedt_2026_Einzel-A4_v1-scaled.jpg
ORGANIZER;CN="CDU Ortsverband S%C3%BClfeld":MAILTO:info@cdu-suelfeld.de
END:VEVENT
BEGIN:VEVENT
DTSTART;TZID=Europe/Berlin:20260203T193000
DTEND;TZID=Europe/Berlin:20260203T210000
DTSTAMP:20260421T175016
CREATED:20251219T092140Z
LAST-MODIFIED:20251219T103852Z
UID:10000990-1770147000-1770152400@gemeinde-suelfeld.de
SUMMARY:Informations- und Diskussionsabend Sülfeld
DESCRIPTION:
URL:https://gemeinde-suelfeld.de/event/informations-und-diskussionsabend-suelfeld-3/
LOCATION:Jugendraum (Sporthalle Sülfeld)\, Oldesloer Str. 9\, Sülfeld\, 23867\, Deutschland
CATEGORIES:Politik
ATTACH;FMTTYPE=image/jpeg:https://gemeinde-suelfeld.de/wp-content/uploads/2025/12/Info-Abend-Suelfeld_2026_Einzel-A4_v1-scaled.jpg
ORGANIZER;CN="CDU Ortsverband S%C3%BClfeld":MAILTO:info@cdu-suelfeld.de
END:VEVENT
BEGIN:VEVENT
DTSTART;TZID=Europe/Berlin:20260110T170000
DTEND;TZID=Europe/Berlin:20260110T210000
DTSTAMP:20260421T175016
CREATED:20251219T091157Z
LAST-MODIFIED:20251219T091157Z
UID:10000985-1768064400-1768078800@gemeinde-suelfeld.de
SUMMARY:Tannenbaumsammeln in Sülfeld
DESCRIPTION:
URL:https://gemeinde-suelfeld.de/event/tannenbaumsammeln-in-suelfeld/
LOCATION:Hof Wrage\, Elmenhorster Chaussee 8\, Sülfeld
ATTACH;FMTTYPE=application/pdf:https://gemeinde-suelfeld.de/wp-content/uploads/2025/12/Tannenbaum-A-2026-1.pdf
ORGANIZER;CN="CDU Ortsverband S%C3%BClfeld":MAILTO:info@cdu-suelfeld.de
END:VEVENT
BEGIN:VEVENT
DTSTART;TZID=Europe/Berlin:20260106T193000
DTEND;TZID=Europe/Berlin:20260106T210000
DTSTAMP:20260421T175016
CREATED:20251219T090559Z
LAST-MODIFIED:20251219T103921Z
UID:10000982-1767727800-1767733200@gemeinde-suelfeld.de
SUMMARY:Informations- und Diskussionsabend Borstel
DESCRIPTION:
URL:https://gemeinde-suelfeld.de/event/informations-und-diskussionsabend-borstel-3/
LOCATION:Feuerwehrhaus Borstel\, Neuland 2\, Borstel\, Germany
CATEGORIES:Politik
ATTACH;FMTTYPE=image/jpeg:https://gemeinde-suelfeld.de/wp-content/uploads/2025/12/Info-Abend-Borstel_2026_Einzel-A4_v1-scaled.jpg
ORGANIZER;CN="CDU Ortsverband S%C3%BClfeld":MAILTO:info@cdu-suelfeld.de
END:VEVENT
BEGIN:VEVENT
DTSTART;TZID=Europe/Berlin:20251003T110000
DTEND;TZID=Europe/Berlin:20251003T140000
DTSTAMP:20260421T175016
CREATED:20250705T083223Z
LAST-MODIFIED:20250901T131334Z
UID:10000907-1759489200-1759500000@gemeinde-suelfeld.de
SUMMARY:Einheitsbuddeln
DESCRIPTION:
URL:https://gemeinde-suelfeld.de/event/einheitsbuddeln-zwiebeln-stecken/
LOCATION:Spielplatz Huuskoppel\, Huuskoppel\, Sülfeld
CATEGORIES:Politik
ATTACH;FMTTYPE=image/jpeg:https://gemeinde-suelfeld.de/wp-content/uploads/2025/07/Einheitsbuddeln-2025a_A4-scaled.jpg
ORGANIZER;CN="CDU Ortsverband S%C3%BClfeld":MAILTO:info@cdu-suelfeld.de
END:VEVENT
BEGIN:VEVENT
DTSTART;TZID=Europe/Berlin:20250601T103000
DTEND;TZID=Europe/Berlin:20250601T103000
DTSTAMP:20260421T175016
CREATED:20241210T222203Z
LAST-MODIFIED:20250423T184145Z
UID:10000277-1748773800-1748773800@gemeinde-suelfeld.de
SUMMARY:Fahrradtour mit Sattelfest bei Stolten
DESCRIPTION:
URL:https://gemeinde-suelfeld.de/event/fahrradtour-mit-sattelfest-bei-stolten/
ATTACH;FMTTYPE=image/jpeg:https://gemeinde-suelfeld.de/wp-content/uploads/2024/12/Fahrradtour-2025_einzel_A4_1-scaled.jpg
ORGANIZER;CN="CDU Ortsverband S%C3%BClfeld":MAILTO:info@cdu-suelfeld.de
END:VEVENT
BEGIN:VEVENT
DTSTART;TZID=Europe/Berlin:20250509T183000
DTEND;TZID=Europe/Berlin:20250509T220000
DTSTAMP:20260421T175016
CREATED:20241210T220550Z
LAST-MODIFIED:20241210T220604Z
UID:10000268-1746815400-1746828000@gemeinde-suelfeld.de
SUMMARY:Grillabend für Mitglieder und Interessierte
DESCRIPTION:
URL:https://gemeinde-suelfeld.de/event/grillabend-fuer-mitglieder-und-interessierte/
ORGANIZER;CN="CDU Ortsverband S%C3%BClfeld":MAILTO:info@cdu-suelfeld.de
END:VEVENT
BEGIN:VEVENT
DTSTART;TZID=Europe/Berlin:20250401T193000
DTEND;TZID=Europe/Berlin:20250401T220000
DTSTAMP:20260421T175016
CREATED:20241210T130446Z
LAST-MODIFIED:20241210T133748Z
UID:10000254-1743535800-1743544800@gemeinde-suelfeld.de
SUMMARY:Informations- und Diskussionsabend Sülfeld
DESCRIPTION:
URL:https://gemeinde-suelfeld.de/event/informations-und-diskussionsabend-suelfeld-2/
LOCATION:Jugendraum bei der Sporthalle Sülfeld\, Oldesloer Straße 9\, 23867 Sülfeld
CATEGORIES:Politik
ATTACH;FMTTYPE=image/jpeg:https://gemeinde-suelfeld.de/wp-content/uploads/2024/12/Info-Abend-Suelfeld_2025_D_Einzel-A4_v1-scaled.jpg
ORGANIZER;CN="CDU Ortsverband S%C3%BClfeld":MAILTO:info@cdu-suelfeld.de
END:VEVENT
BEGIN:VEVENT
DTSTART;TZID=Europe/Berlin:20250304T193000
DTEND;TZID=Europe/Berlin:20250304T220000
DTSTAMP:20260421T175016
CREATED:20241210T130159Z
LAST-MODIFIED:20241210T133905Z
UID:10000253-1741116600-1741125600@gemeinde-suelfeld.de
SUMMARY:Informations- und Diskussionsabend Tönningstedt
DESCRIPTION:
URL:https://gemeinde-suelfeld.de/event/informations-und-diskussionsabend-toenningstedt-2/
LOCATION:Alte Schule Tönningstedt\, Am Dorfplatz\, Tönningstedt\, 23867\, Germany
CATEGORIES:Politik
ATTACH;FMTTYPE=image/jpeg:https://gemeinde-suelfeld.de/wp-content/uploads/2024/12/Info-Abend-Toenningstedt_2025_D_Einzel-A4_v1-scaled.jpg
ORGANIZER;CN="CDU Ortsverband S%C3%BClfeld":MAILTO:info@cdu-suelfeld.de
END:VEVENT
BEGIN:VEVENT
DTSTART;TZID=Europe/Berlin:20250204T193000
DTEND;TZID=Europe/Berlin:20250204T220000
DTSTAMP:20260421T175016
CREATED:20241209T162318Z
LAST-MODIFIED:20241209T172206Z
UID:10000219-1738697400-1738706400@gemeinde-suelfeld.de
SUMMARY:Informations- und Diskussionsabend Borstel
DESCRIPTION:
URL:https://gemeinde-suelfeld.de/event/informations-und-diskussionsabend-borstel-2/
LOCATION:Feuerwehrhaus Borstel\, Neuland 2\, Borstel\, Germany
CATEGORIES:Politik
ATTACH;FMTTYPE=image/jpeg:https://gemeinde-suelfeld.de/wp-content/uploads/2024/12/Info-Abend-Borstel_2025_D_Einzel-A4_v1-scaled.jpg
ORGANIZER;CN="CDU Ortsverband S%C3%BClfeld":MAILTO:info@cdu-suelfeld.de
END:VEVENT
BEGIN:VEVENT
DTSTART;TZID=Europe/Berlin:20250111T170000
DTEND;TZID=Europe/Berlin:20250111T210000
DTSTAMP:20260421T175016
CREATED:20241209T163524Z
LAST-MODIFIED:20241209T163524Z
UID:10000222-1736614800-1736629200@gemeinde-suelfeld.de
SUMMARY:Tannenbaumsammeln Sülfeld
DESCRIPTION:
URL:https://gemeinde-suelfeld.de/event/tannenbaumsammeln-suelfeld/
LOCATION:Hof Wrage\, Elmenhorster Chaussee 8\, Sülfeld
ATTACH;FMTTYPE=image/jpeg:https://gemeinde-suelfeld.de/wp-content/uploads/2024/12/Tannenbaum-A4-2025-scaled.jpg
ORGANIZER;CN="CDU Ortsverband S%C3%BClfeld":MAILTO:info@cdu-suelfeld.de
END:VEVENT
BEGIN:VEVENT
DTSTART;TZID=Europe/Berlin:20250110T180000
DTEND;TZID=Europe/Berlin:20250110T200000
DTSTAMP:20260421T175016
CREATED:20241209T162938Z
LAST-MODIFIED:20241209T163555Z
UID:10000221-1736532000-1736539200@gemeinde-suelfeld.de
SUMMARY:Tannenbaumsammeln Tönningstedt
DESCRIPTION:
URL:https://gemeinde-suelfeld.de/event/tannenbaumsammeln-toenningstedt/
LOCATION:Oliver Borstel\, Hörn 18\, Tönningstedt
ATTACH;FMTTYPE=image/jpeg:https://gemeinde-suelfeld.de/wp-content/uploads/2024/12/Tannenbaum-A4-2025-scaled.jpg
ORGANIZER;CN="CDU Ortsverband S%C3%BClfeld":MAILTO:info@cdu-suelfeld.de
END:VEVENT
BEGIN:VEVENT
DTSTART;TZID=Europe/Berlin:20240907T190000
DTEND;TZID=Europe/Berlin:20240907T233000
DTSTAMP:20260421T175016
CREATED:20240811T160050Z
LAST-MODIFIED:20240811T160050Z
UID:10000172-1725735600-1725751800@gemeinde-suelfeld.de
SUMMARY:Sülfelder Scheunenfete
DESCRIPTION:
URL:https://gemeinde-suelfeld.de/event/suelfelder-scheunenfete/
LOCATION:LVD Krone\, Neuer Weg 34\, Sülfeld\, Deutschland
ORGANIZER;CN="CDU Ortsverband S%C3%BClfeld":MAILTO:info@cdu-suelfeld.de
END:VEVENT
BEGIN:VEVENT
DTSTART;VALUE=DATE:20240609
DTEND;VALUE=DATE:20240610
DTSTAMP:20260421T175016
CREATED:20240131T141421Z
LAST-MODIFIED:20240530T083342Z
UID:10000096-1717891200-1717977599@gemeinde-suelfeld.de
SUMMARY:Radtour mit Besichtigung des Neubaus des FZB und anschl. Sattelfest
DESCRIPTION:Radtour zur Europawahl mit Sattelfest bei Stolten.
URL:https://gemeinde-suelfeld.de/event/radtour/
CATEGORIES:Politik
ATTACH;FMTTYPE=image/jpeg:https://gemeinde-suelfeld.de/wp-content/uploads/2024/01/Fahrradtour-2024_D_Doppel-A4-scaled.jpg
ORGANIZER;CN="CDU Ortsverband S%C3%BClfeld":MAILTO:info@cdu-suelfeld.de
END:VEVENT
BEGIN:VEVENT
DTSTART;TZID=Europe/Berlin:20240409T193000
DTEND;TZID=Europe/Berlin:20240409T210000
DTSTAMP:20260421T175016
CREATED:20240131T141504Z
LAST-MODIFIED:20240131T141504Z
UID:10000077-1712691000-1712696400@gemeinde-suelfeld.de
SUMMARY:Informations- und Diskussionsabend Sülfeld
DESCRIPTION:
URL:https://gemeinde-suelfeld.de/event/informations-und-diskussionsabend-suelfeld/
LOCATION:Jugendraum bei der Sporthalle Sülfeld\, Oldesloer Straße 9\, 23867 Sülfeld
CATEGORIES:Politik
ORGANIZER;CN="CDU Ortsverband S%C3%BClfeld":MAILTO:info@cdu-suelfeld.de
END:VEVENT
BEGIN:VEVENT
DTSTART;TZID=Europe/Berlin:20240305T193000
DTEND;TZID=Europe/Berlin:20240305T220000
DTSTAMP:20260421T175016
CREATED:20240131T143344Z
LAST-MODIFIED:20240131T143344Z
UID:10000112-1709667000-1709676000@gemeinde-suelfeld.de
SUMMARY:Informations- und Diskussionsabend Borstel
DESCRIPTION:
URL:https://gemeinde-suelfeld.de/event/informations-und-diskussionsabend-borstel/
LOCATION:Feuerwehrhaus Borstel\, Neuland 2\, Borstel\, Germany
CATEGORIES:Politik
ORGANIZER;CN="CDU Ortsverband S%C3%BClfeld":MAILTO:info@cdu-suelfeld.de
END:VEVENT
BEGIN:VEVENT
DTSTART;TZID=Europe/Berlin:20240206T193000
DTEND;TZID=Europe/Berlin:20240206T213000
DTSTAMP:20260421T175016
CREATED:20240131T070239Z
LAST-MODIFIED:20240131T134557Z
UID:10000075-1707247800-1707255000@gemeinde-suelfeld.de
SUMMARY:Informations- und Diskussionsabend Tönningstedt
DESCRIPTION:
URL:https://gemeinde-suelfeld.de/event/informations-und-diskussionsabend-toenningstedt/
LOCATION:Alte Schule Tönningstedt\, Am Dorfplatz\, Tönningstedt\, 23867\, Germany
CATEGORIES:Politik
ORGANIZER;CN="CDU Ortsverband S%C3%BClfeld":MAILTO:info@cdu-suelfeld.de
END:VEVENT
BEGIN:VEVENT
DTSTART;TZID=Europe/Berlin:20240131T193000
DTEND;TZID=Europe/Berlin:20240131T220000
DTSTAMP:20260421T175016
CREATED:20240131T065449Z
LAST-MODIFIED:20240131T065449Z
UID:10000072-1706729400-1706738400@gemeinde-suelfeld.de
SUMMARY:Bürgermeister-Treff
DESCRIPTION:
URL:https://gemeinde-suelfeld.de/event/buergermeister-treff/
LOCATION:Remise beim Pastorat Sülfeld\, Am Markt 16\, Sülfeld
ORGANIZER;CN="CDU Ortsverband S%C3%BClfeld":MAILTO:info@cdu-suelfeld.de
END:VEVENT
END:VCALENDAR