BEGIN:VCALENDAR
VERSION:2.0
PRODID:-//Gemeinde Sülfeld - ECPv6.15.20//NONSGML v1.0//EN
CALSCALE:GREGORIAN
METHOD:PUBLISH
X-ORIGINAL-URL:https://gemeinde-suelfeld.de
X-WR-CALDESC:Veranstaltungen für Gemeinde Sülfeld
REFRESH-INTERVAL;VALUE=DURATION:PT1H
X-Robots-Tag:noindex
X-PUBLISHED-TTL:PT1H
BEGIN:VTIMEZONE
TZID:Europe/Berlin
BEGIN:DAYLIGHT
TZOFFSETFROM:+0100
TZOFFSETTO:+0200
TZNAME:CEST
DTSTART:20240331T010000
END:DAYLIGHT
BEGIN:STANDARD
TZOFFSETFROM:+0200
TZOFFSETTO:+0100
TZNAME:CET
DTSTART:20241027T010000
END:STANDARD
BEGIN:DAYLIGHT
TZOFFSETFROM:+0100
TZOFFSETTO:+0200
TZNAME:CEST
DTSTART:20250330T010000
END:DAYLIGHT
BEGIN:STANDARD
TZOFFSETFROM:+0200
TZOFFSETTO:+0100
TZNAME:CET
DTSTART:20251026T010000
END:STANDARD
BEGIN:DAYLIGHT
TZOFFSETFROM:+0100
TZOFFSETTO:+0200
TZNAME:CEST
DTSTART:20260329T010000
END:DAYLIGHT
BEGIN:STANDARD
TZOFFSETFROM:+0200
TZOFFSETTO:+0100
TZNAME:CET
DTSTART:20261025T010000
END:STANDARD
BEGIN:DAYLIGHT
TZOFFSETFROM:+0100
TZOFFSETTO:+0200
TZNAME:CEST
DTSTART:20270328T010000
END:DAYLIGHT
BEGIN:STANDARD
TZOFFSETFROM:+0200
TZOFFSETTO:+0100
TZNAME:CET
DTSTART:20271031T010000
END:STANDARD
END:VTIMEZONE
BEGIN:VEVENT
DTSTART;TZID=Europe/Berlin:20260222T143000
DTEND;TZID=Europe/Berlin:20260222T170000
DTSTAMP:20260425T165553
CREATED:20260211T073353Z
LAST-MODIFIED:20260211T073353Z
UID:10001037-1771770600-1771779600@gemeinde-suelfeld.de
SUMMARY:Sonntagskaffee
DESCRIPTION:
URL:https://gemeinde-suelfeld.de/event/sonntagskaffee-9/2026-02-22/
LOCATION:Remise beim Pastorat Sülfeld\, Am Markt 16\, Sülfeld
END:VEVENT
BEGIN:VEVENT
DTSTART;TZID=Europe/Berlin:20251231T170000
DTEND;TZID=Europe/Berlin:20251231T180000
DTSTAMP:20260425T165553
CREATED:20250706T114156Z
LAST-MODIFIED:20250708T115903Z
UID:10000935-1767200400-1767204000@gemeinde-suelfeld.de
SUMMARY:Gottesdienst zum Jahresende
DESCRIPTION:
URL:https://gemeinde-suelfeld.de/event/gottesdienst-zum-jahresende-3/
LOCATION:Kirche Sülfeld
CATEGORIES:Kirche
END:VEVENT
BEGIN:VEVENT
DTSTART;TZID=Europe/Berlin:20251228T143000
DTEND;TZID=Europe/Berlin:20251228T170000
DTSTAMP:20260425T165553
CREATED:20250703T060235Z
LAST-MODIFIED:20250703T060235Z
UID:10000877-1766932200-1766941200@gemeinde-suelfeld.de
SUMMARY:Sonntagskaffee
DESCRIPTION:
URL:https://gemeinde-suelfeld.de/event/sonntagskaffee-8/2025-12-28/
LOCATION:Remise beim Pastorat Sülfeld\, Am Markt 16\, Sülfeld
END:VEVENT
BEGIN:VEVENT
DTSTART;TZID=Europe/Berlin:20251225T110000
DTEND;TZID=Europe/Berlin:20251225T120000
DTSTAMP:20260425T165553
CREATED:20250706T113853Z
LAST-MODIFIED:20250708T115929Z
UID:10000933-1766660400-1766664000@gemeinde-suelfeld.de
SUMMARY:Weihnachtsgottesdienst
DESCRIPTION:
URL:https://gemeinde-suelfeld.de/event/weihnachtsgottesdienst-2/
LOCATION:Kirche Sülfeld
CATEGORIES:Kirche
END:VEVENT
BEGIN:VEVENT
DTSTART;TZID=Europe/Berlin:20251224T230000
DTEND;TZID=Europe/Berlin:20251224T235900
DTSTAMP:20260425T165553
CREATED:20250706T113409Z
LAST-MODIFIED:20250708T115940Z
UID:10000932-1766617200-1766620740@gemeinde-suelfeld.de
SUMMARY:Christmette
DESCRIPTION:
URL:https://gemeinde-suelfeld.de/event/christmette-2/
LOCATION:Kirche Sülfeld
CATEGORIES:Kirche
END:VEVENT
BEGIN:VEVENT
DTSTART;TZID=Europe/Berlin:20251224T173000
DTEND;TZID=Europe/Berlin:20251224T183000
DTSTAMP:20260425T165553
CREATED:20250706T113110Z
LAST-MODIFIED:20250708T115947Z
UID:10000931-1766597400-1766601000@gemeinde-suelfeld.de
SUMMARY:Christvesper
DESCRIPTION:
URL:https://gemeinde-suelfeld.de/event/christvesper-2/
LOCATION:Kirche Sülfeld
CATEGORIES:Kirche
END:VEVENT
BEGIN:VEVENT
DTSTART;TZID=Europe/Berlin:20251220T170000
DTEND;TZID=Europe/Berlin:20251220T190000
DTSTAMP:20260425T165553
CREATED:20250706T112626Z
LAST-MODIFIED:20251216T160027Z
UID:10000928-1766250000-1766257200@gemeinde-suelfeld.de
SUMMARY:Weihnachtskonzert
DESCRIPTION:
URL:https://gemeinde-suelfeld.de/event/weihnachtskonzert/
LOCATION:Kirche Sülfeld
CATEGORIES:Musik
ATTACH;FMTTYPE=image/png:https://gemeinde-suelfeld.de/wp-content/uploads/2025/07/Screenshot-2025-12-16-170008.png
END:VEVENT
BEGIN:VEVENT
DTSTART;TZID=Europe/Berlin:20251212T180000
DTEND;TZID=Europe/Berlin:20251212T200000
DTSTAMP:20260425T165553
CREATED:20251014T124133Z
LAST-MODIFIED:20251014T124133Z
UID:10000942-1765562400-1765569600@gemeinde-suelfeld.de
SUMMARY:Dämmerschoppen mit Adventskonzert der Dorfkapelle
DESCRIPTION:
URL:https://gemeinde-suelfeld.de/event/daemmerschoppen-mit-adventskonzert-der-dorfkapelle/
LOCATION:Remise beim Pastorat Sülfeld\, Am Markt 16\, Sülfeld
END:VEVENT
BEGIN:VEVENT
DTSTART;TZID=Europe/Berlin:20251118T180000
DTEND;TZID=Europe/Berlin:20251118T200000
DTSTAMP:20260425T165553
CREATED:20250706T104908Z
LAST-MODIFIED:20250708T115723Z
UID:10000918-1763488800-1763496000@gemeinde-suelfeld.de
SUMMARY:Gemeindeversammlung der Kirchengemeinde Sülfeld
DESCRIPTION:
URL:https://gemeinde-suelfeld.de/event/gemeindeversammlung-der-kirchengemeinde-suelfeld/
LOCATION:Kirche Sülfeld
CATEGORIES:Kirche
END:VEVENT
BEGIN:VEVENT
DTSTART;TZID=Europe/Berlin:20251114T173000
DTEND;TZID=Europe/Berlin:20251114T200000
DTSTAMP:20260425T165553
CREATED:20250706T103943Z
LAST-MODIFIED:20250708T115636Z
UID:10000915-1763141400-1763150400@gemeinde-suelfeld.de
SUMMARY:Martinsumzug
DESCRIPTION:
URL:https://gemeinde-suelfeld.de/event/martinsumzug-3/
LOCATION:Remise beim Pastorat Sülfeld\, Am Markt 16\, Sülfeld
CATEGORIES:Kirche
END:VEVENT
BEGIN:VEVENT
DTSTART;TZID=Europe/Berlin:20251102T094500
DTEND;TZID=Europe/Berlin:20251102T120000
DTSTAMP:20260425T165553
CREATED:20250826T085701Z
LAST-MODIFIED:20250826T085701Z
UID:10000936-1762076700-1762084800@gemeinde-suelfeld.de
SUMMARY:Gottesdienst zum Thema Heimat
DESCRIPTION:Was ist für dich Heimat? Deine Gedanken finden Platz im Gottesdienst.\nWir schmeckt Heimat?\nBringe etwas fürs Büffet nach dem Gottesdienst mit\, das für dich wie Heimat schmeckt.
URL:https://gemeinde-suelfeld.de/event/gottesdienst-zum-thema-heimat/
CATEGORIES:Kirche
ATTACH;FMTTYPE=image/png:https://gemeinde-suelfeld.de/wp-content/uploads/2025/08/Heimat-1.png
END:VEVENT
BEGIN:VEVENT
DTSTART;TZID=Europe/Berlin:20251026T143000
DTEND;TZID=Europe/Berlin:20251026T170000
DTSTAMP:20260425T165553
CREATED:20250703T060235Z
LAST-MODIFIED:20250703T060235Z
UID:10000876-1761489000-1761498000@gemeinde-suelfeld.de
SUMMARY:Sonntagskaffee
DESCRIPTION:
URL:https://gemeinde-suelfeld.de/event/sonntagskaffee-8/2025-10-26/
LOCATION:Remise beim Pastorat Sülfeld\, Am Markt 16\, Sülfeld
END:VEVENT
BEGIN:VEVENT
DTSTART;TZID=Europe/Berlin:20251011T100000
DTEND;TZID=Europe/Berlin:20251011T120000
DTSTAMP:20260425T165553
CREATED:20250208T101449Z
LAST-MODIFIED:20250925T093422Z
UID:10000837-1760176800-1760184000@gemeinde-suelfeld.de
SUMMARY:Kinderkirche
DESCRIPTION:Geschichten aus der Bibel hören\, singen\, basteln\, backen\, experimentieren. spielen….
URL:https://gemeinde-suelfeld.de/event/kinderkirche-2/2025-10-11/
LOCATION:Remise beim Pastorat Sülfeld\, Am Markt 16\, Sülfeld
ATTACH;FMTTYPE=image/png:https://gemeinde-suelfeld.de/wp-content/uploads/2025/02/Kinderkirche-Oktober-25.png
END:VEVENT
BEGIN:VEVENT
DTSTART;TZID=Europe/Berlin:20251005T113000
DTEND;TZID=Europe/Berlin:20251005T133000
DTSTAMP:20260425T165553
CREATED:20250705T083641Z
LAST-MODIFIED:20250705T083641Z
UID:10000908-1759663800-1759671000@gemeinde-suelfeld.de
SUMMARY:Erntedankgottesdienst
DESCRIPTION:Erntedankgottesdienst\, Hof Grabau
URL:https://gemeinde-suelfeld.de/event/erntedankgottesdienst-2/
LOCATION:Hof Grabau
CATEGORIES:Kirche
END:VEVENT
BEGIN:VEVENT
DTSTART;TZID=Europe/Berlin:20250920T100000
DTEND;TZID=Europe/Berlin:20250920T120000
DTSTAMP:20260425T165553
CREATED:20250208T101449Z
LAST-MODIFIED:20250925T093422Z
UID:10000836-1758362400-1758369600@gemeinde-suelfeld.de
SUMMARY:Kinderkirche
DESCRIPTION:Geschichten aus der Bibel hören\, singen\, basteln\, backen\, experimentieren. spielen….
URL:https://gemeinde-suelfeld.de/event/kinderkirche-2/2025-09-20/
LOCATION:Remise beim Pastorat Sülfeld\, Am Markt 16\, Sülfeld
ATTACH;FMTTYPE=image/png:https://gemeinde-suelfeld.de/wp-content/uploads/2025/02/Kinderkirche-Oktober-25.png
END:VEVENT
BEGIN:VEVENT
DTSTART;TZID=Europe/Berlin:20250910T083000
DTEND;TZID=Europe/Berlin:20250910T100000
DTSTAMP:20260425T165553
CREATED:20250705T064941Z
LAST-MODIFIED:20250705T071721Z
UID:10000898-1757493000-1757498400@gemeinde-suelfeld.de
SUMMARY:Einschulungsgottesdienst
DESCRIPTION:
URL:https://gemeinde-suelfeld.de/event/einschulungsgottesdienst-2/
LOCATION:Kirche Sülfeld
CATEGORIES:Kirche
END:VEVENT
BEGIN:VEVENT
DTSTART;TZID=Europe/Berlin:20250903T143000
DTEND;TZID=Europe/Berlin:20250903T190000
DTSTAMP:20260425T165553
CREATED:20250826T085806Z
LAST-MODIFIED:20250826T085806Z
UID:10000937-1756909800-1756926000@gemeinde-suelfeld.de
SUMMARY:Ausflug nach Segeberg
DESCRIPTION:Besichtigung Wollspinnerei Blunck\, Kaffeetrinken in der Spindel\, Besichtigung der neuen Orgel in der Marienkirche
URL:https://gemeinde-suelfeld.de/event/ausflug-nach-segeberg/
LOCATION:Bad Segeberg und Sülfeld
ATTACH;FMTTYPE=image/png:https://gemeinde-suelfeld.de/wp-content/uploads/2025/08/Ausflug-25-1.png
END:VEVENT
BEGIN:VEVENT
DTSTART;TZID=Europe/Berlin:20250831T143000
DTEND;TZID=Europe/Berlin:20250831T170000
DTSTAMP:20260425T165553
CREATED:20250703T060235Z
LAST-MODIFIED:20250703T060235Z
UID:10000875-1756650600-1756659600@gemeinde-suelfeld.de
SUMMARY:Sonntagskaffee
DESCRIPTION:
URL:https://gemeinde-suelfeld.de/event/sonntagskaffee-8/2025-08-31/
LOCATION:Remise beim Pastorat Sülfeld\, Am Markt 16\, Sülfeld
END:VEVENT
BEGIN:VEVENT
DTSTART;TZID=Europe/Berlin:20250720T111500
DTEND;TZID=Europe/Berlin:20250720T123000
DTSTAMP:20260425T165553
CREATED:20250518T150851Z
LAST-MODIFIED:20250629T091944Z
UID:10000869-1753010100-1753014600@gemeinde-suelfeld.de
SUMMARY:Openair-Gottesdienst in Sülfeld
DESCRIPTION:Hinter der Kirche zu Sülfeld findet ein Openair-Gottesdienst mit dem Gemischten Chor Sülfeld statt. Ausklang mit Gesprächen und einer Tasse Kaffee.
URL:https://gemeinde-suelfeld.de/event/openair-gottesdienst-in-borstel/
LOCATION:Hinter der Sülfelder Kirche
END:VEVENT
BEGIN:VEVENT
DTSTART;TZID=Europe/Berlin:20250705T100000
DTEND;TZID=Europe/Berlin:20250705T120000
DTSTAMP:20260425T165553
CREATED:20250208T101449Z
LAST-MODIFIED:20250925T093422Z
UID:10000835-1751709600-1751716800@gemeinde-suelfeld.de
SUMMARY:Kinderkirche
DESCRIPTION:Geschichten aus der Bibel hören\, singen\, basteln\, backen\, experimentieren. spielen….
URL:https://gemeinde-suelfeld.de/event/kinderkirche-2/2025-07-05/
LOCATION:Remise beim Pastorat Sülfeld\, Am Markt 16\, Sülfeld
ATTACH;FMTTYPE=image/png:https://gemeinde-suelfeld.de/wp-content/uploads/2025/02/Kinderkirche-Oktober-25.png
END:VEVENT
BEGIN:VEVENT
DTSTART;TZID=Europe/Berlin:20250608T111500
DTEND;TZID=Europe/Berlin:20250608T111500
DTSTAMP:20260425T165553
CREATED:20241210T222045Z
LAST-MODIFIED:20241210T222045Z
UID:10000276-1749381300-1749381300@gemeinde-suelfeld.de
SUMMARY:Gottesdienst
DESCRIPTION:
URL:https://gemeinde-suelfeld.de/event/gottesdienst-2/
LOCATION:Remise beim Pastorat Sülfeld\, Am Markt 16\, Sülfeld
END:VEVENT
BEGIN:VEVENT
DTSTART;TZID=Europe/Berlin:20250529T110000
DTEND;TZID=Europe/Berlin:20250529T110000
DTSTAMP:20260425T165553
CREATED:20241210T221656Z
LAST-MODIFIED:20241210T221813Z
UID:10000275-1748516400-1748516400@gemeinde-suelfeld.de
SUMMARY:Gottesdienst
DESCRIPTION:
URL:https://gemeinde-suelfeld.de/event/gottesdienst/
LOCATION:Alte Schule Tönningstedt\, Am Dorfplatz\, Tönningstedt\, 23867\, Germany
END:VEVENT
BEGIN:VEVENT
DTSTART;TZID=Europe/Berlin:20250524T133000
DTEND;TZID=Europe/Berlin:20250524T133000
DTSTAMP:20260425T165553
CREATED:20241210T221413Z
LAST-MODIFIED:20241210T221413Z
UID:10000274-1748093400-1748093400@gemeinde-suelfeld.de
SUMMARY:Konfirmation
DESCRIPTION:
URL:https://gemeinde-suelfeld.de/event/konfirmation/2025-05-24/2/
END:VEVENT
BEGIN:VEVENT
DTSTART;TZID=Europe/Berlin:20250524T111500
DTEND;TZID=Europe/Berlin:20250524T111500
DTSTAMP:20260425T165553
CREATED:20241210T221413Z
LAST-MODIFIED:20241210T221413Z
UID:10000273-1748085300-1748085300@gemeinde-suelfeld.de
SUMMARY:Konfirmation
DESCRIPTION:
URL:https://gemeinde-suelfeld.de/event/konfirmation/2025-05-24/1/
END:VEVENT
BEGIN:VEVENT
DTSTART;TZID=Europe/Berlin:20250517T100000
DTEND;TZID=Europe/Berlin:20250517T120000
DTSTAMP:20260425T165553
CREATED:20250513T123906Z
LAST-MODIFIED:20250513T123907Z
UID:10000867-1747476000-1747483200@gemeinde-suelfeld.de
SUMMARY:Kinderkirche
DESCRIPTION:Geschichten aus der Bibel hören\, basteln\, backen\, experimentieren. spielen….
URL:https://gemeinde-suelfeld.de/event/kinderkirche-2-2/
LOCATION:Remise beim Pastorat Sülfeld\, Am Markt 16\, Sülfeld
ATTACH;FMTTYPE=image/jpeg:https://gemeinde-suelfeld.de/wp-content/uploads/2025/02/2025-Kinderkirche.jpg
END:VEVENT
BEGIN:VEVENT
DTSTART;TZID=Europe/Berlin:20250427T111500
DTEND;TZID=Europe/Berlin:20250427T121500
DTSTAMP:20260425T165553
CREATED:20250208T221817Z
LAST-MODIFIED:20250518T151551Z
UID:10000847-1745752500-1745756100@gemeinde-suelfeld.de
SUMMARY:Familiengottesdienst
DESCRIPTION:Gottesdienst für die ganze Familie\, für Jung und Alt
URL:https://gemeinde-suelfeld.de/event/familiengottesdienst/
LOCATION:Kirche Sülfeld
ATTACH;FMTTYPE=image/jpeg:https://gemeinde-suelfeld.de/wp-content/uploads/2025/02/Familiengottesdienst-fuer-Gross-und-Klein.jpg
END:VEVENT
BEGIN:VEVENT
DTSTART;TZID=Europe/Berlin:20250420T094500
DTEND;TZID=Europe/Berlin:20250420T110000
DTSTAMP:20260425T165553
CREATED:20241210T093949Z
LAST-MODIFIED:20241210T095400Z
UID:10000249-1745142300-1745146800@gemeinde-suelfeld.de
SUMMARY:Gottesdienst
DESCRIPTION:
URL:https://gemeinde-suelfeld.de/event/ev-luth-kirchengemeinde-suelfeld-3/
LOCATION:Kirche Sülfeld
END:VEVENT
BEGIN:VEVENT
DTSTART;TZID=Europe/Berlin:20250418T150000
DTEND;TZID=Europe/Berlin:20250418T160000
DTSTAMP:20260425T165553
CREATED:20241210T091145Z
LAST-MODIFIED:20241210T095422Z
UID:10000246-1744988400-1744992000@gemeinde-suelfeld.de
SUMMARY:Gottesdienst
DESCRIPTION:
URL:https://gemeinde-suelfeld.de/event/ev-luth-kirchengemeinde-suelfeld/
LOCATION:Kirche Sülfeld
END:VEVENT
BEGIN:VEVENT
DTSTART;TZID=Europe/Berlin:20250417T180000
DTEND;TZID=Europe/Berlin:20250417T190000
DTSTAMP:20260425T165553
CREATED:20241210T091425Z
LAST-MODIFIED:20241210T095456Z
UID:10000247-1744912800-1744916400@gemeinde-suelfeld.de
SUMMARY:Tischabendmahl in der Kirche
DESCRIPTION:
URL:https://gemeinde-suelfeld.de/event/ev-luth-kirchengemeinde-suelfeld-2/
LOCATION:Kirche Sülfeld
END:VEVENT
BEGIN:VEVENT
DTSTART;TZID=Europe/Berlin:20250330T143000
DTEND;TZID=Europe/Berlin:20250330T170000
DTSTAMP:20260425T165553
CREATED:20241210T220040Z
LAST-MODIFIED:20241210T220040Z
UID:10000266-1743345000-1743354000@gemeinde-suelfeld.de
SUMMARY:Sonntagskaffee
DESCRIPTION:
URL:https://gemeinde-suelfeld.de/event/sonntagskaffee-7/2025-03-30/
LOCATION:Remise beim Pastorat Sülfeld\, Am Markt 16\, Sülfeld
END:VEVENT
END:VCALENDAR