BEGIN:VCALENDAR
VERSION:2.0
PRODID:-//Gemeinde Sülfeld - ECPv6.15.20//NONSGML v1.0//EN
CALSCALE:GREGORIAN
METHOD:PUBLISH
X-ORIGINAL-URL:https://gemeinde-suelfeld.de
X-WR-CALDESC:Veranstaltungen für Gemeinde Sülfeld
REFRESH-INTERVAL;VALUE=DURATION:PT1H
X-Robots-Tag:noindex
X-PUBLISHED-TTL:PT1H
BEGIN:VTIMEZONE
TZID:Europe/Berlin
BEGIN:DAYLIGHT
TZOFFSETFROM:+0100
TZOFFSETTO:+0200
TZNAME:CEST
DTSTART:20220327T010000
END:DAYLIGHT
BEGIN:STANDARD
TZOFFSETFROM:+0200
TZOFFSETTO:+0100
TZNAME:CET
DTSTART:20221030T010000
END:STANDARD
BEGIN:DAYLIGHT
TZOFFSETFROM:+0100
TZOFFSETTO:+0200
TZNAME:CEST
DTSTART:20230326T010000
END:DAYLIGHT
BEGIN:STANDARD
TZOFFSETFROM:+0200
TZOFFSETTO:+0100
TZNAME:CET
DTSTART:20231029T010000
END:STANDARD
BEGIN:DAYLIGHT
TZOFFSETFROM:+0100
TZOFFSETTO:+0200
TZNAME:CEST
DTSTART:20240331T010000
END:DAYLIGHT
BEGIN:STANDARD
TZOFFSETFROM:+0200
TZOFFSETTO:+0100
TZNAME:CET
DTSTART:20241027T010000
END:STANDARD
BEGIN:DAYLIGHT
TZOFFSETFROM:+0100
TZOFFSETTO:+0200
TZNAME:CEST
DTSTART:20250330T010000
END:DAYLIGHT
BEGIN:STANDARD
TZOFFSETFROM:+0200
TZOFFSETTO:+0100
TZNAME:CET
DTSTART:20251026T010000
END:STANDARD
END:VTIMEZONE
BEGIN:VEVENT
DTSTART;TZID=Europe/Berlin:20240428T143000
DTEND;TZID=Europe/Berlin:20240428T170000
DTSTAMP:20260425T203628
CREATED:20240131T135417Z
LAST-MODIFIED:20240131T135417Z
UID:10000095-1714314600-1714323600@gemeinde-suelfeld.de
SUMMARY:Sonntagskaffee
DESCRIPTION:
URL:https://gemeinde-suelfeld.de/event/sonntagskaffee-6/
LOCATION:Remise beim Pastorat Sülfeld\, Am Markt 16\, Sülfeld
END:VEVENT
BEGIN:VEVENT
DTSTART;TZID=Europe/Berlin:20240427T100000
DTEND;TZID=Europe/Berlin:20240427T120000
DTSTAMP:20260425T203629
CREATED:20240315T202823Z
LAST-MODIFIED:20240315T202823Z
UID:10000139-1714212000-1714219200@gemeinde-suelfeld.de
SUMMARY:Kinderkirche
DESCRIPTION:Hurra\, es gibt wieder eine Kinderkirche in Sülfeld! \nDas Team vom Bunten Miteinander um Maren Schwarz freut sich mit Pastor Fritsch auf Kinder ab fünf Jahren\, die gerne spielen\, singen\, basteln und Geschichten hören. \nAn jedem 4. Samstag im Monat findet die Kinderkirche von 10:00 bis 12:00 Uhr in der Remise beim Sülfelder Patorat statt. Los geht es am 23. März. Die weiteren Termine sind der 27. April\, der 25. Mai und der 22. Juni. Für Getränke und einen kleinen Imbiss wird gesorgt. \nWir freuen uns auf Euch\, Christian Fritsch
URL:https://gemeinde-suelfeld.de/event/kinderkirche/2024-04-27/
LOCATION:Remise beim Pastorat Sülfeld\, Am Markt 16\, Sülfeld
END:VEVENT
BEGIN:VEVENT
DTSTART;TZID=Europe/Berlin:20240421T153000
DTEND;TZID=Europe/Berlin:20240421T170000
DTSTAMP:20260425T203629
CREATED:20240315T195628Z
LAST-MODIFIED:20240315T195628Z
UID:10000134-1713713400-1713718800@gemeinde-suelfeld.de
SUMMARY:Kino in der Remise
DESCRIPTION:Vorhang auf fürs Kino in der Remise (Sülfeld)\, Sonntag\, 21. 4. 24\, 15:30 Uhr \nDie Sülfeldfilme von 1968 und 2007 „Wo jeder jeden kennt“ \n(zweiter Termin\, verbesserte Technik) \nMit Getränken und Snacks (gegen Spende) \n\nAnmeldung unter \nmaren.schwarz@suelfeld.de (04537 533) \nulrich.baerwald@suelfeld.de (04537 7903)
URL:https://gemeinde-suelfeld.de/event/kino-in-der-remise/
LOCATION:Remise beim Pastorat Sülfeld\, Am Markt 16\, Sülfeld
END:VEVENT
BEGIN:VEVENT
DTSTART;TZID=Europe/Berlin:20240418T093000
DTEND;TZID=Europe/Berlin:20240418T113000
DTSTAMP:20260425T203629
CREATED:20240315T201106Z
LAST-MODIFIED:20240315T201106Z
UID:10000135-1713432600-1713439800@gemeinde-suelfeld.de
SUMMARY:Frühstück in der Remise\, Interview mit Pastor Christian Fritsch
DESCRIPTION:Die Kirchengemeinde lädt ein zum gemeinsamen Frühstück in der Remise \nund Interview mit Pastor Christian Fritsch. \nDonnerstag\, 28. 4.: 9:30 Uhr Frühstück\, ca. 10:30 Uhr Interview\, Einlass ab 9:00 Uhr \nDer neue Pastor Christian Fritsch ist in Sülfeld angekommen. Lernen wir ihn näher kennen\, was macht ihn aus\, welche Vorlieben hat er\, was hat er in Sülfeld vor? \nDa die Veranstaltungen meist schnell ausgebucht sind\, bitten wir\, rechtzeitig abzusagen\, um die Plätze an Interessierte auf der Warteliste abzugeben. \nBei der letzten Veranstaltung gab es Parkplatzprobleme. Die Sicherheitsbeauftragte des Kindergartens bittet\, die Rettungwege zum Kindergarten freizuhalten. Parkplätze gibt es in der Dorfmitte\, in der Schützenstraße\, bei der Feuerwehr und vor dem Friedhof. \nUm nachhaltiger zu werden und Papier zu sparen\, bitten wir\, an uns E-Mail-Adressen oder WhatsApp-Nummern weiterzugeben. Wer weder das eine noch das andere hat\, bekommt weiterhin eine Einladung in Papierform. \nEs freut sich auf Euch/Sie das Team vom Frühstück in der Remise. \nBitte anmelden bei Maren Schwarz \n\nTelefon: 04537 533\nMobil: 0178 1961693\nE-Mail: maren.schwarz@suelfeld.de\n\nAnmeldung bis zum 14. 4. 2024 \nKosten fürs Frühstück: 5 € / Person \n 
URL:https://gemeinde-suelfeld.de/event/fruehstueck-in-der-remise-interview-mit-pastor-christian-fritsch/
LOCATION:Remise beim Pastorat Sülfeld\, Am Markt 16\, Sülfeld
END:VEVENT
BEGIN:VEVENT
DTSTART;TZID=Europe/Berlin:20240401T094500
DTEND;TZID=Europe/Berlin:20240401T123000
DTSTAMP:20260425T203629
CREATED:20240131T141551Z
LAST-MODIFIED:20240131T141551Z
UID:10000076-1711964700-1711974600@gemeinde-suelfeld.de
SUMMARY:Ostergottesdienst
DESCRIPTION:Grabauer Kapelle
URL:https://gemeinde-suelfeld.de/event/ostergottesdienst/
LOCATION:Kapelle Grabau\, Ringstraße 3\, 23845 Grabau\, Schleswig-Holstein\, 23845\, Deutschland
END:VEVENT
BEGIN:VEVENT
DTSTART;TZID=Europe/Berlin:20240331T110000
DTEND;TZID=Europe/Berlin:20240331T130000
DTSTAMP:20260425T203629
CREATED:20240131T145738Z
LAST-MODIFIED:20240131T145738Z
UID:10000123-1711882800-1711890000@gemeinde-suelfeld.de
SUMMARY:Ostergottesdienst\, anschließend Osterbrunch in der Remise
DESCRIPTION:
URL:https://gemeinde-suelfeld.de/event/ostergottesdienst-anschliessend-osterbrunch-in-der-remise/
LOCATION:Kirche Sülfeld
END:VEVENT
BEGIN:VEVENT
DTSTART;TZID=Europe/Berlin:20240331T060000
DTEND;TZID=Europe/Berlin:20240331T080000
DTSTAMP:20260425T203629
CREATED:20240131T145548Z
LAST-MODIFIED:20240131T145548Z
UID:10000122-1711864800-1711872000@gemeinde-suelfeld.de
SUMMARY:Ostermorgenfeier mit Frühstück
DESCRIPTION:
URL:https://gemeinde-suelfeld.de/event/ostermorgenfeier-mit-fruehstueck/
LOCATION:Kirche Sülfeld
END:VEVENT
BEGIN:VEVENT
DTSTART;TZID=Europe/Berlin:20240329T150000
DTEND;TZID=Europe/Berlin:20240329T170000
DTSTAMP:20260425T203629
CREATED:20240131T145039Z
LAST-MODIFIED:20240131T145039Z
UID:10000120-1711724400-1711731600@gemeinde-suelfeld.de
SUMMARY:Andacht zur Sterbestunde
DESCRIPTION:
URL:https://gemeinde-suelfeld.de/event/andacht-zur-sterbestunde/
LOCATION:Kirche Sülfeld
END:VEVENT
BEGIN:VEVENT
DTSTART;TZID=Europe/Berlin:20240328T180000
DTEND;TZID=Europe/Berlin:20240328T200000
DTSTAMP:20260425T203629
CREATED:20240131T144924Z
LAST-MODIFIED:20240131T144924Z
UID:10000119-1711648800-1711656000@gemeinde-suelfeld.de
SUMMARY:Tischabendmahl in der Kirche
DESCRIPTION:
URL:https://gemeinde-suelfeld.de/event/tischabendmahl-in-der-kirche/
LOCATION:Kirche Sülfeld
END:VEVENT
BEGIN:VEVENT
DTSTART;TZID=Europe/Berlin:20240323T100000
DTEND;TZID=Europe/Berlin:20240323T120000
DTSTAMP:20260425T203629
CREATED:20240315T202823Z
LAST-MODIFIED:20240315T202823Z
UID:10000138-1711188000-1711195200@gemeinde-suelfeld.de
SUMMARY:Kinderkirche
DESCRIPTION:Hurra\, es gibt wieder eine Kinderkirche in Sülfeld! \nDas Team vom Bunten Miteinander um Maren Schwarz freut sich mit Pastor Fritsch auf Kinder ab fünf Jahren\, die gerne spielen\, singen\, basteln und Geschichten hören. \nAn jedem 4. Samstag im Monat findet die Kinderkirche von 10:00 bis 12:00 Uhr in der Remise beim Sülfelder Patorat statt. Los geht es am 23. März. Die weiteren Termine sind der 27. April\, der 25. Mai und der 22. Juni. Für Getränke und einen kleinen Imbiss wird gesorgt. \nWir freuen uns auf Euch\, Christian Fritsch
URL:https://gemeinde-suelfeld.de/event/kinderkirche/2024-03-23/
LOCATION:Remise beim Pastorat Sülfeld\, Am Markt 16\, Sülfeld
END:VEVENT
BEGIN:VEVENT
DTSTART;TZID=Europe/Berlin:20240225T143000
DTEND;TZID=Europe/Berlin:20240225T170000
DTSTAMP:20260425T203629
CREATED:20240131T135145Z
LAST-MODIFIED:20240131T135145Z
UID:10000092-1708871400-1708880400@gemeinde-suelfeld.de
SUMMARY:Sonntagskaffee
DESCRIPTION:
URL:https://gemeinde-suelfeld.de/event/sonntagskaffee-5/
LOCATION:Remise beim Pastorat Sülfeld\, Am Markt 16\, Sülfeld
END:VEVENT
BEGIN:VEVENT
DTSTART;TZID=Europe/Berlin:20231231T170000
DTEND;TZID=Europe/Berlin:20231231T170000
DTSTAMP:20260425T203629
CREATED:20230905T120027Z
LAST-MODIFIED:20230927T132940Z
UID:10000024-1704042000-1704042000@gemeinde-suelfeld.de
SUMMARY:Gottesdienst zum Jahresende
DESCRIPTION:
URL:https://gemeinde-suelfeld.de/event/gottesdienst-zum-jahresende/
END:VEVENT
BEGIN:VEVENT
DTSTART;TZID=Europe/Berlin:20231229T143000
DTEND;TZID=Europe/Berlin:20231229T170000
DTSTAMP:20260425T203629
CREATED:20230905T110513Z
LAST-MODIFIED:20230927T133145Z
UID:10000011-1703860200-1703869200@gemeinde-suelfeld.de
SUMMARY:Sonntagskaffee
DESCRIPTION:
URL:https://gemeinde-suelfeld.de/event/sonntagskaffee-4/
LOCATION:Remise beim Pastorat Sülfeld\, Am Markt 16\, Sülfeld
END:VEVENT
BEGIN:VEVENT
DTSTART;VALUE=DATE:20231224
DTEND;VALUE=DATE:20231225
DTSTAMP:20260425T203629
CREATED:20230905T115946Z
LAST-MODIFIED:20230927T133153Z
UID:10000023-1703376000-1703462399@gemeinde-suelfeld.de
SUMMARY:Gottesdienste am Heiligen Abend
DESCRIPTION:
URL:https://gemeinde-suelfeld.de/event/gottesdienste-am-heiligen-abend/
END:VEVENT
BEGIN:VEVENT
DTSTART;TZID=Europe/Berlin:20231126T143000
DTEND;TZID=Europe/Berlin:20231126T170000
DTSTAMP:20260425T203629
CREATED:20230905T110443Z
LAST-MODIFIED:20230927T133305Z
UID:10000010-1701009000-1701018000@gemeinde-suelfeld.de
SUMMARY:Sonntagskaffee
DESCRIPTION:
URL:https://gemeinde-suelfeld.de/event/sonntagskaffee-3/
LOCATION:Remise beim Pastorat Sülfeld\, Am Markt 16\, Sülfeld
END:VEVENT
BEGIN:VEVENT
DTSTART;TZID=Europe/Berlin:20231126T093000
DTEND;TZID=Europe/Berlin:20231126T093000
DTSTAMP:20260425T203629
CREATED:20230905T115915Z
LAST-MODIFIED:20230927T133310Z
UID:10000022-1700991000-1700991000@gemeinde-suelfeld.de
SUMMARY:Gottesdienst zum Totensonntag
DESCRIPTION:
URL:https://gemeinde-suelfeld.de/event/gottesdienst-zum-totensonntag/
END:VEVENT
BEGIN:VEVENT
DTSTART;TZID=Europe/Berlin:20231122T190000
DTEND;TZID=Europe/Berlin:20231122T190000
DTSTAMP:20260425T203629
CREATED:20230905T115438Z
LAST-MODIFIED:20230927T133327Z
UID:10000021-1700679600-1700679600@gemeinde-suelfeld.de
SUMMARY:Andacht Buß- und Bettag
DESCRIPTION:
URL:https://gemeinde-suelfeld.de/event/andacht-buss-und-bettag/
END:VEVENT
BEGIN:VEVENT
DTSTART;TZID=Europe/Berlin:20231119T180000
DTEND;TZID=Europe/Berlin:20231119T180000
DTSTAMP:20260425T203629
CREATED:20230905T113441Z
LAST-MODIFIED:20230927T133337Z
UID:10000043-1700416800-1700416800@gemeinde-suelfeld.de
SUMMARY:Friedensgebet
DESCRIPTION:
URL:https://gemeinde-suelfeld.de/event/friedensgebet/
END:VEVENT
BEGIN:VEVENT
DTSTART;TZID=Europe/Berlin:20231110T173000
DTEND;TZID=Europe/Berlin:20231110T173000
DTSTAMP:20260425T203629
CREATED:20230905T113311Z
LAST-MODIFIED:20230927T133446Z
UID:10000042-1699637400-1699637400@gemeinde-suelfeld.de
SUMMARY:Martinsumzug
DESCRIPTION:
URL:https://gemeinde-suelfeld.de/event/martinsumzug/
END:VEVENT
BEGIN:VEVENT
DTSTART;TZID=Europe/Berlin:20231031T110000
DTEND;TZID=Europe/Berlin:20231031T110000
DTSTAMP:20260425T203629
CREATED:20230905T113236Z
LAST-MODIFIED:20230927T133508Z
UID:10000041-1698750000-1698750000@gemeinde-suelfeld.de
SUMMARY:Goldene Konfirmation Kirche Sülfeld
DESCRIPTION:
URL:https://gemeinde-suelfeld.de/event/goldene-konfirmation-kirche-suelfeld/
END:VEVENT
BEGIN:VEVENT
DTSTART;TZID=Europe/Berlin:20231029T143000
DTEND;TZID=Europe/Berlin:20231029T170000
DTSTAMP:20260425T203629
CREATED:20230905T110342Z
LAST-MODIFIED:20230927T133514Z
UID:10000009-1698589800-1698598800@gemeinde-suelfeld.de
SUMMARY:Sonntagskaffee
DESCRIPTION:
URL:https://gemeinde-suelfeld.de/event/sonntagskaffee-2/
LOCATION:Remise beim Pastorat Sülfeld\, Am Markt 16\, Sülfeld
END:VEVENT
BEGIN:VEVENT
DTSTART;TZID=Europe/Berlin:20231007T140000
DTEND;TZID=Europe/Berlin:20231007T140000
DTSTAMP:20260425T203629
CREATED:20230905T113206Z
LAST-MODIFIED:20230927T133550Z
UID:10000040-1696687200-1696687200@gemeinde-suelfeld.de
SUMMARY:Festgottesdienst 100 Jahre Kapelle Grabau
DESCRIPTION:
URL:https://gemeinde-suelfeld.de/event/festgottesdienst-100-jahre-kapelle-grabau/
END:VEVENT
BEGIN:VEVENT
DTSTART;TZID=Europe/Berlin:20231001T110000
DTEND;TZID=Europe/Berlin:20231001T110000
DTSTAMP:20260425T203629
CREATED:20230905T113129Z
LAST-MODIFIED:20230927T133602Z
UID:10000039-1696158000-1696158000@gemeinde-suelfeld.de
SUMMARY:Erntedankgottesdienst
DESCRIPTION:
URL:https://gemeinde-suelfeld.de/event/erntedankgottesdienst/
END:VEVENT
BEGIN:VEVENT
DTSTART;TZID=Europe/Berlin:20230924T163000
DTEND;TZID=Europe/Berlin:20230924T190000
DTSTAMP:20260425T203629
CREATED:20230905T110301Z
LAST-MODIFIED:20230905T110301Z
UID:10000008-1695573000-1695582000@gemeinde-suelfeld.de
SUMMARY:Sonntagskaffee
DESCRIPTION:
URL:https://gemeinde-suelfeld.de/event/sonntagskaffee/
LOCATION:Remise beim Pastorat Sülfeld\, Am Markt 16\, Sülfeld
END:VEVENT
BEGIN:VEVENT
DTSTART;TZID=Europe/Berlin:20230917T130000
DTEND;TZID=Europe/Berlin:20230917T130000
DTSTAMP:20260425T203629
CREATED:20230905T112631Z
LAST-MODIFIED:20230907T095705Z
UID:10000037-1694955600-1694955600@gemeinde-suelfeld.de
SUMMARY:Seegottesdienst in Grabau
DESCRIPTION:
URL:https://gemeinde-suelfeld.de/event/seegottesdienst-in-grabau/
END:VEVENT
END:VCALENDAR