BEGIN:VCALENDAR
VERSION:2.0
PRODID:-//Gemeinde Sülfeld - ECPv6.15.20//NONSGML v1.0//EN
CALSCALE:GREGORIAN
METHOD:PUBLISH
X-WR-CALNAME:Gemeinde Sülfeld
X-ORIGINAL-URL:https://gemeinde-suelfeld.de
X-WR-CALDESC:Veranstaltungen für Gemeinde Sülfeld
REFRESH-INTERVAL;VALUE=DURATION:PT1H
X-Robots-Tag:noindex
X-PUBLISHED-TTL:PT1H
BEGIN:VTIMEZONE
TZID:Europe/Berlin
BEGIN:DAYLIGHT
TZOFFSETFROM:+0100
TZOFFSETTO:+0200
TZNAME:CEST
DTSTART:20220327T010000
END:DAYLIGHT
BEGIN:STANDARD
TZOFFSETFROM:+0200
TZOFFSETTO:+0100
TZNAME:CET
DTSTART:20221030T010000
END:STANDARD
BEGIN:DAYLIGHT
TZOFFSETFROM:+0100
TZOFFSETTO:+0200
TZNAME:CEST
DTSTART:20230326T010000
END:DAYLIGHT
BEGIN:STANDARD
TZOFFSETFROM:+0200
TZOFFSETTO:+0100
TZNAME:CET
DTSTART:20231029T010000
END:STANDARD
BEGIN:DAYLIGHT
TZOFFSETFROM:+0100
TZOFFSETTO:+0200
TZNAME:CEST
DTSTART:20240331T010000
END:DAYLIGHT
BEGIN:STANDARD
TZOFFSETFROM:+0200
TZOFFSETTO:+0100
TZNAME:CET
DTSTART:20241027T010000
END:STANDARD
BEGIN:DAYLIGHT
TZOFFSETFROM:+0100
TZOFFSETTO:+0200
TZNAME:CEST
DTSTART:20250330T010000
END:DAYLIGHT
BEGIN:STANDARD
TZOFFSETFROM:+0200
TZOFFSETTO:+0100
TZNAME:CET
DTSTART:20251026T010000
END:STANDARD
BEGIN:DAYLIGHT
TZOFFSETFROM:+0100
TZOFFSETTO:+0200
TZNAME:CEST
DTSTART:20260329T010000
END:DAYLIGHT
BEGIN:STANDARD
TZOFFSETFROM:+0200
TZOFFSETTO:+0100
TZNAME:CET
DTSTART:20261025T010000
END:STANDARD
END:VTIMEZONE
BEGIN:VEVENT
DTSTART;TZID=Europe/Berlin:20251011T183000
DTEND;TZID=Europe/Berlin:20251011T200000
DTSTAMP:20260421T140700
CREATED:20250705T094955Z
LAST-MODIFIED:20250923T145340Z
UID:10000909-1760207400-1760212800@gemeinde-suelfeld.de
SUMMARY:Laternen-Umzug der Gemeinde Sülfeld
DESCRIPTION:
URL:https://gemeinde-suelfeld.de/event/laternen-umzug-der-gemeinde-suelfeld-2/
LOCATION:Feuerwehrhaus Sülfeld\, Oldesloer Str. 11\, Sülfeld\, 23867\, Deutschland
CATEGORIES:Spiel & Spaß
ATTACH;FMTTYPE=image/jpeg:https://gemeinde-suelfeld.de/wp-content/uploads/2025/07/Laternenumzug-11.10.25-2-1.jpg
END:VEVENT
BEGIN:VEVENT
DTSTART;TZID=Europe/Berlin:20250420T110000
DTEND;TZID=Europe/Berlin:20250420T130000
DTSTAMP:20260421T140700
CREATED:20250408T135306Z
LAST-MODIFIED:20250518T152309Z
UID:10000856-1745146800-1745154000@gemeinde-suelfeld.de
SUMMARY:Ostereier suchen
DESCRIPTION:
URL:https://gemeinde-suelfeld.de/event/ostereier-suchen/
LOCATION:Remise beim Pastorat Sülfeld\, Am Markt 16\, Sülfeld
ATTACH;FMTTYPE=image/jpeg:https://gemeinde-suelfeld.de/wp-content/uploads/2025/04/PHOTO-2025-04-08-08-17-24-e1744120324554.jpg
ORGANIZER;CN="Spielmannszug S%C3%BClfeld von 1972 e.V.":MAILTO:heidi.hagelstein@szsuelfeld.de
END:VEVENT
BEGIN:VEVENT
DTSTART;TZID=Europe/Berlin:20240331T110000
DTEND;TZID=Europe/Berlin:20240331T130000
DTSTAMP:20260421T140700
CREATED:20240321T121742Z
LAST-MODIFIED:20250518T152234Z
UID:10000143-1711882800-1711890000@gemeinde-suelfeld.de
SUMMARY:Ostereiersuchen in Sülfeld
DESCRIPTION:
URL:https://gemeinde-suelfeld.de/event/ostereiersuchen-in-suelfeld/
LOCATION:Remise beim Pastorat Sülfeld\, Am Markt 16\, Sülfeld
ORGANIZER;CN="Spielmannszug S%C3%BClfeld von 1972 e.V.":MAILTO:heidi.hagelstein@szsuelfeld.de
END:VEVENT
BEGIN:VEVENT
DTSTART;TZID=Europe/Berlin:20231104T180000
DTEND;TZID=Europe/Berlin:20231104T180000
DTSTAMP:20260421T140700
CREATED:20230905T120330Z
LAST-MODIFIED:20250518T152133Z
UID:10000026-1699120800-1699120800@gemeinde-suelfeld.de
SUMMARY:Laternenumzug
DESCRIPTION:
URL:https://gemeinde-suelfeld.de/event/laternenumzug-alternativ-termin-am-28-10-bitte-aushang-beachten/
LOCATION:Feuerwehrhaus Sülfeld\, Oldesloer Str. 11\, Sülfeld\, 23867\, Deutschland
ATTACH;FMTTYPE=image/jpeg:https://gemeinde-suelfeld.de/wp-content/uploads/2023/09/Laternenumzug-2023.jpg
END:VEVENT
END:VCALENDAR